BEGIN:VCALENDAR
VERSION:2.0
CALSCALE:GREGORIAN
PRODID:adamgibbons/ics
METHOD:PUBLISH
X-PUBLISHED-TTL:PT1H
BEGIN:VEVENT
UID:17701@offbeat.amsterdam
SUMMARY:AAAH ! Anarchist Action Assistance Hour
DTSTAMP:20260421T194051Z
DTSTART:20260423T170000Z
DTEND:20260423T183000Z
URL:https://offbeat.amsterdam/event/aaah-anarchist-action-assistance-hour-5
	7
GEO:52.3716913;4.8892221
LOCATION:Vrankrijk - Spuistraat 216\, 1012 VT Amsterdam
STATUS:CONFIRMED
CATEGORIES:aaah!,amsterdam-centrum,spui,talk
END:VEVENT
BEGIN:VEVENT
UID:19140@offbeat.amsterdam
SUMMARY:AAAH ! Anarchist Action Assistance Hour
DTSTAMP:20260421T194051Z
DTSTART:20260430T170000Z
DTEND:20260430T183000Z
URL:https://offbeat.amsterdam/event/aaah-anarchist-action-assistance-hour-5
	8
GEO:52.3716913;4.8892221
LOCATION:Vrankrijk - Spuistraat 216\, 1012 VT Amsterdam
STATUS:CONFIRMED
CATEGORIES:aaah!,amsterdam-centrum,spui,talk
END:VEVENT
BEGIN:VEVENT
UID:19141@offbeat.amsterdam
SUMMARY:AAAH ! Anarchist Action Assistance Hour
DTSTAMP:20260421T194051Z
DTSTART:20260507T170000Z
DTEND:20260507T183000Z
URL:https://offbeat.amsterdam/event/aaah-anarchist-action-assistance-hour-5
	9
GEO:52.3716913;4.8892221
LOCATION:Vrankrijk - Spuistraat 216\, 1012 VT Amsterdam
STATUS:CONFIRMED
CATEGORIES:aaah!,amsterdam-centrum,spui,talk
END:VEVENT
BEGIN:VEVENT
UID:19142@offbeat.amsterdam
SUMMARY:AAAH ! Anarchist Action Assistance Hour
DTSTAMP:20260421T194051Z
DTSTART:20260514T170000Z
DTEND:20260514T200000Z
URL:https://offbeat.amsterdam/event/aaah-anarchist-action-assistance-hour-6
	0
GEO:52.3716913;4.8892221
LOCATION:Vrankrijk - Spuistraat 216\, 1012 VT Amsterdam
STATUS:CONFIRMED
CATEGORIES:aaah!,amsterdam-centrum,spui,talk
END:VEVENT
END:VCALENDAR
