BEGIN:VCALENDAR
VERSION:2.0
CALSCALE:GREGORIAN
PRODID:adamgibbons/ics
METHOD:PUBLISH
X-PUBLISHED-TTL:PT1H
BEGIN:VEVENT
UID:21077@offbeat.amsterdam
SUMMARY:FupClub - GRATIS ENTREE
DTSTAMP:20260421T222927Z
DTSTART:20260424T160000Z
DTEND:20260425T010000Z
URL:https://offbeat.amsterdam/event/fupclub-gratis-entree
GEO:52.3811025;4.9128378
LOCATION:Het Dorp - Noordwal 1\, 1021 PX Amsterdam
STATUS:CONFIRMED
CATEGORIES:dj,techno
END:VEVENT
BEGIN:VEVENT
UID:21079@offbeat.amsterdam
SUMMARY:Proper Techno - Kingsnight @ Het Dorp
DTSTAMP:20260421T222927Z
DTSTART:20260426T200000Z
DTEND:20260427T010000Z
URL:https://offbeat.amsterdam/event/proper-techno-kingsnight-het-dorp
GEO:52.3811025;4.9128378
LOCATION:Het Dorp - Noordwal 1\, 1021 PX Amsterdam
STATUS:CONFIRMED
CATEGORIES:music,dj,techno
END:VEVENT
BEGIN:VEVENT
UID:21080@offbeat.amsterdam
SUMMARY:SNEURF (Live) - Crashing (Live) - Het Betekenis (Live) - GRATIS ENT
	REE
DTSTAMP:20260421T222927Z
DTSTART:20260502T193000Z
DTEND:20260503T000000Z
URL:https://offbeat.amsterdam/event/sneurf-live-crashing-live-het-betekenis
	-live-gratis-entree
GEO:52.3811025;4.9128378
LOCATION:Het Dorp - Noordwal 1\, 1021 PX Amsterdam
STATUS:CONFIRMED
CATEGORIES:shoegaze,dj,live,punk
END:VEVENT
BEGIN:VEVENT
UID:21078@offbeat.amsterdam
SUMMARY:Get To It
DTSTAMP:20260421T222927Z
DTSTART:20260508T200000Z
DTEND:20260509T000000Z
URL:https://offbeat.amsterdam/event/get-to-it
GEO:52.3811025;4.9128378
LOCATION:Het Dorp - Noordwal 1\, 1021 PX Amsterdam
STATUS:CONFIRMED
CATEGORIES:exhibition,electronics,music
END:VEVENT
BEGIN:VEVENT
UID:21081@offbeat.amsterdam
SUMMARY:Yugoslavia is calling
DTSTAMP:20260421T222927Z
DTSTART:20260509T200000Z
DTEND:20260510T000000Z
URL:https://offbeat.amsterdam/event/yugoslavia-is-calling
GEO:52.3811025;4.9128378
LOCATION:Het Dorp - Noordwal 1\, 1021 PX Amsterdam
STATUS:CONFIRMED
CATEGORIES:funk
END:VEVENT
END:VCALENDAR
