BEGIN:VCALENDAR
VERSION:2.0
CALSCALE:GREGORIAN
PRODID:adamgibbons/ics
METHOD:PUBLISH
X-PUBLISHED-TTL:PT1H
BEGIN:VEVENT
UID:21076@offbeat.amsterdam
SUMMARY:Pop-Up Mediterranean Dinner: Plant-Based Nonna
DTSTAMP:20260421T224010Z
DTSTART:20260424T043000Z
DTEND:20260424T190000Z
URL:https://offbeat.amsterdam/event/pop-up-mediterranean-dinner-plant-based
	-nonna
GEO:52.3617314;4.975207
LOCATION:Samantha & Lorenzo's Home - Pedro de Medinalaan 160\, 1086 XR Amst
	erdam\,
STATUS:CONFIRMED
CATEGORIES:dinner,plant-based
END:VEVENT
END:VCALENDAR
