BEGIN:VCALENDAR
VERSION:2.0
CALSCALE:GREGORIAN
PRODID:adamgibbons/ics
METHOD:PUBLISH
X-PUBLISHED-TTL:PT1H
BEGIN:VEVENT
UID:19244@offbeat.amsterdam
SUMMARY:Inloopochtend Stichting Malak
DTSTAMP:20260420T005202Z
DTSTART:20260420T073000Z
DTEND:20260420T093000Z
URL:https://offbeat.amsterdam/event/inloopochtend-stichting-malak-21
GEO:52.4098521;4.9362327
LOCATION:Poortgebouw - G.J. Scheurleerweg 212C\, 1027 BA Amsterdam
STATUS:CONFIRMED
CATEGORIES:amsterdam-noord
END:VEVENT
BEGIN:VEVENT
UID:13431@offbeat.amsterdam
SUMMARY:De Kruidenschool workshops en cursussen
DTSTAMP:20260420T005202Z
DTSTART:20260422T070000Z
DTEND:20260422T150000Z
URL:https://offbeat.amsterdam/event/de-kruidenschool-workshops-en-cursussen
	-106
GEO:52.4098521;4.9362327
LOCATION:Poortgebouw - G.J. Scheurleerweg 212C\, 1027 BA Amsterdam
STATUS:CONFIRMED
CATEGORIES:workshop,amsterdam-noord
END:VEVENT
BEGIN:VEVENT
UID:13432@offbeat.amsterdam
SUMMARY:De Kruidenschool workshops en cursussen
DTSTAMP:20260420T005202Z
DTSTART:20260423T070000Z
DTEND:20260423T150000Z
URL:https://offbeat.amsterdam/event/de-kruidenschool-workshops-en-cursussen
	-107
GEO:52.4098521;4.9362327
LOCATION:Poortgebouw - G.J. Scheurleerweg 212C\, 1027 BA Amsterdam
STATUS:CONFIRMED
CATEGORIES:amsterdam-noord,workshop
END:VEVENT
BEGIN:VEVENT
UID:13433@offbeat.amsterdam
SUMMARY:De Kruidenschool workshops en cursussen
DTSTAMP:20260420T005202Z
DTSTART:20260424T070000Z
DTEND:20260424T150000Z
URL:https://offbeat.amsterdam/event/de-kruidenschool-workshops-en-cursussen
	-108
GEO:52.4098521;4.9362327
LOCATION:Poortgebouw - G.J. Scheurleerweg 212C\, 1027 BA Amsterdam
STATUS:CONFIRMED
CATEGORIES:workshop,amsterdam-noord
END:VEVENT
BEGIN:VEVENT
UID:16213@offbeat.amsterdam
SUMMARY:Workshop: Zen en Zingen
DTSTAMP:20260420T005202Z
DTSTART:20260424T173000Z
DTEND:20260424T194500Z
URL:https://offbeat.amsterdam/event/workshop-zen-en-zingen-8
GEO:52.4098521;4.9362327
LOCATION:Poortgebouw - G.J. Scheurleerweg 212C\, 1027 BA Amsterdam
STATUS:CONFIRMED
CATEGORIES:amsterdam-noord,workshop
END:VEVENT
BEGIN:VEVENT
UID:19245@offbeat.amsterdam
SUMMARY:Inloopochtend Stichting Malak
DTSTAMP:20260420T005202Z
DTSTART:20260427T073000Z
DTEND:20260427T093000Z
URL:https://offbeat.amsterdam/event/inloopochtend-stichting-malak-22
GEO:52.4098521;4.9362327
LOCATION:Poortgebouw - G.J. Scheurleerweg 212C\, 1027 BA Amsterdam
STATUS:CONFIRMED
CATEGORIES:amsterdam-noord
END:VEVENT
BEGIN:VEVENT
UID:13434@offbeat.amsterdam
SUMMARY:De Kruidenschool workshops en cursussen
DTSTAMP:20260420T005202Z
DTSTART:20260429T070000Z
DTEND:20260429T150000Z
URL:https://offbeat.amsterdam/event/de-kruidenschool-workshops-en-cursussen
	-109
GEO:52.4098521;4.9362327
LOCATION:Poortgebouw - G.J. Scheurleerweg 212C\, 1027 BA Amsterdam
STATUS:CONFIRMED
CATEGORIES:workshop,amsterdam-noord
END:VEVENT
BEGIN:VEVENT
UID:13435@offbeat.amsterdam
SUMMARY:De Kruidenschool workshops en cursussen
DTSTAMP:20260420T005202Z
DTSTART:20260430T070000Z
DTEND:20260430T150000Z
URL:https://offbeat.amsterdam/event/de-kruidenschool-workshops-en-cursussen
	-110
GEO:52.4098521;4.9362327
LOCATION:Poortgebouw - G.J. Scheurleerweg 212C\, 1027 BA Amsterdam
STATUS:CONFIRMED
CATEGORIES:workshop,amsterdam-noord
END:VEVENT
BEGIN:VEVENT
UID:13436@offbeat.amsterdam
SUMMARY:De Kruidenschool workshops en cursussen
DTSTAMP:20260420T005202Z
DTSTART:20260501T070000Z
DTEND:20260501T150000Z
URL:https://offbeat.amsterdam/event/de-kruidenschool-workshops-en-cursussen
	-111
GEO:52.4098521;4.9362327
LOCATION:Poortgebouw - G.J. Scheurleerweg 212C\, 1027 BA Amsterdam
STATUS:CONFIRMED
CATEGORIES:amsterdam-noord,workshop
END:VEVENT
BEGIN:VEVENT
UID:19236@offbeat.amsterdam
SUMMARY:Ik Ontmoet Mij
DTSTAMP:20260420T005202Z
DTSTART:20260504T073000Z
DTEND:20260504T103000Z
URL:https://offbeat.amsterdam/event/ik-ontmoet-mij-3
GEO:52.4098521;4.9362327
LOCATION:Poortgebouw - G.J. Scheurleerweg 212C\, 1027 BA Amsterdam
STATUS:CONFIRMED
CATEGORIES:amsterdam-noord
END:VEVENT
BEGIN:VEVENT
UID:13437@offbeat.amsterdam
SUMMARY:De Kruidenschool workshops en cursussen
DTSTAMP:20260420T005202Z
DTSTART:20260506T070000Z
DTEND:20260506T150000Z
URL:https://offbeat.amsterdam/event/de-kruidenschool-workshops-en-cursussen
	-112
GEO:52.4098521;4.9362327
LOCATION:Poortgebouw - G.J. Scheurleerweg 212C\, 1027 BA Amsterdam
STATUS:CONFIRMED
CATEGORIES:amsterdam-noord,workshop
END:VEVENT
BEGIN:VEVENT
UID:13438@offbeat.amsterdam
SUMMARY:De Kruidenschool workshops en cursussen
DTSTAMP:20260420T005202Z
DTSTART:20260507T070000Z
DTEND:20260507T150000Z
URL:https://offbeat.amsterdam/event/de-kruidenschool-workshops-en-cursussen
	-113
GEO:52.4098521;4.9362327
LOCATION:Poortgebouw - G.J. Scheurleerweg 212C\, 1027 BA Amsterdam
STATUS:CONFIRMED
CATEGORIES:workshop,amsterdam-noord
END:VEVENT
BEGIN:VEVENT
UID:13439@offbeat.amsterdam
SUMMARY:De Kruidenschool workshops en cursussen
DTSTAMP:20260420T005202Z
DTSTART:20260508T070000Z
DTEND:20260508T150000Z
URL:https://offbeat.amsterdam/event/de-kruidenschool-workshops-en-cursussen
	-114
GEO:52.4098521;4.9362327
LOCATION:Poortgebouw - G.J. Scheurleerweg 212C\, 1027 BA Amsterdam
STATUS:CONFIRMED
CATEGORIES:amsterdam-noord,workshop
END:VEVENT
BEGIN:VEVENT
UID:19237@offbeat.amsterdam
SUMMARY:Ik Ontmoet Mij
DTSTAMP:20260420T005202Z
DTSTART:20260511T073000Z
DTEND:20260511T103000Z
URL:https://offbeat.amsterdam/event/ik-ontmoet-mij-4
GEO:52.4098521;4.9362327
LOCATION:Poortgebouw - G.J. Scheurleerweg 212C\, 1027 BA Amsterdam
STATUS:CONFIRMED
CATEGORIES:amsterdam-noord
END:VEVENT
BEGIN:VEVENT
UID:13440@offbeat.amsterdam
SUMMARY:De Kruidenschool workshops en cursussen
DTSTAMP:20260420T005202Z
DTSTART:20260513T070000Z
DTEND:20260513T150000Z
URL:https://offbeat.amsterdam/event/de-kruidenschool-workshops-en-cursussen
	-115
GEO:52.4098521;4.9362327
LOCATION:Poortgebouw - G.J. Scheurleerweg 212C\, 1027 BA Amsterdam
STATUS:CONFIRMED
CATEGORIES:amsterdam-noord,workshop
END:VEVENT
BEGIN:VEVENT
UID:13441@offbeat.amsterdam
SUMMARY:De Kruidenschool workshops en cursussen
DTSTAMP:20260420T005202Z
DTSTART:20260514T070000Z
DTEND:20260514T150000Z
URL:https://offbeat.amsterdam/event/de-kruidenschool-workshops-en-cursussen
	-116
GEO:52.4098521;4.9362327
LOCATION:Poortgebouw - G.J. Scheurleerweg 212C\, 1027 BA Amsterdam
STATUS:CONFIRMED
CATEGORIES:amsterdam-noord,workshop
END:VEVENT
BEGIN:VEVENT
UID:13442@offbeat.amsterdam
SUMMARY:De Kruidenschool workshops en cursussen
DTSTAMP:20260420T005202Z
DTSTART:20260515T070000Z
DTEND:20260515T150000Z
URL:https://offbeat.amsterdam/event/de-kruidenschool-workshops-en-cursussen
	-117
GEO:52.4098521;4.9362327
LOCATION:Poortgebouw - G.J. Scheurleerweg 212C\, 1027 BA Amsterdam
STATUS:CONFIRMED
CATEGORIES:workshop,amsterdam-noord
END:VEVENT
BEGIN:VEVENT
UID:19238@offbeat.amsterdam
SUMMARY:Ik Ontmoet Mij
DTSTAMP:20260420T005202Z
DTSTART:20260518T073000Z
DTEND:20260518T103000Z
URL:https://offbeat.amsterdam/event/ik-ontmoet-mij-5
GEO:52.4098521;4.9362327
LOCATION:Poortgebouw - G.J. Scheurleerweg 212C\, 1027 BA Amsterdam
STATUS:CONFIRMED
CATEGORIES:amsterdam-noord
END:VEVENT
BEGIN:VEVENT
UID:13443@offbeat.amsterdam
SUMMARY:De Kruidenschool workshops en cursussen
DTSTAMP:20260420T005202Z
DTSTART:20260520T070000Z
DTEND:20260520T150000Z
URL:https://offbeat.amsterdam/event/de-kruidenschool-workshops-en-cursussen
	-118
GEO:52.4098521;4.9362327
LOCATION:Poortgebouw - G.J. Scheurleerweg 212C\, 1027 BA Amsterdam
STATUS:CONFIRMED
CATEGORIES:amsterdam-noord,workshop
END:VEVENT
BEGIN:VEVENT
UID:13444@offbeat.amsterdam
SUMMARY:De Kruidenschool workshops en cursussen
DTSTAMP:20260420T005202Z
DTSTART:20260521T070000Z
DTEND:20260521T150000Z
URL:https://offbeat.amsterdam/event/de-kruidenschool-workshops-en-cursussen
	-119
GEO:52.4098521;4.9362327
LOCATION:Poortgebouw - G.J. Scheurleerweg 212C\, 1027 BA Amsterdam
STATUS:CONFIRMED
CATEGORIES:amsterdam-noord,workshop
END:VEVENT
BEGIN:VEVENT
UID:13445@offbeat.amsterdam
SUMMARY:De Kruidenschool workshops en cursussen
DTSTAMP:20260420T005202Z
DTSTART:20260522T070000Z
DTEND:20260522T150000Z
URL:https://offbeat.amsterdam/event/de-kruidenschool-workshops-en-cursussen
	-120
GEO:52.4098521;4.9362327
LOCATION:Poortgebouw - G.J. Scheurleerweg 212C\, 1027 BA Amsterdam
STATUS:CONFIRMED
CATEGORIES:amsterdam-noord,workshop
END:VEVENT
BEGIN:VEVENT
UID:19246@offbeat.amsterdam
SUMMARY:Inloopochtend Stichting Malak
DTSTAMP:20260420T005202Z
DTSTART:20260525T073000Z
DTEND:20260525T093000Z
URL:https://offbeat.amsterdam/event/inloopochtend-stichting-malak-23
GEO:52.4098521;4.9362327
LOCATION:Poortgebouw - G.J. Scheurleerweg 212C\, 1027 BA Amsterdam
STATUS:CONFIRMED
CATEGORIES:amsterdam-noord
END:VEVENT
BEGIN:VEVENT
UID:13446@offbeat.amsterdam
SUMMARY:De Kruidenschool workshops en cursussen
DTSTAMP:20260420T005203Z
DTSTART:20260527T070000Z
DTEND:20260527T150000Z
URL:https://offbeat.amsterdam/event/de-kruidenschool-workshops-en-cursussen
	-121
GEO:52.4098521;4.9362327
LOCATION:Poortgebouw - G.J. Scheurleerweg 212C\, 1027 BA Amsterdam
STATUS:CONFIRMED
CATEGORIES:workshop,amsterdam-noord
END:VEVENT
BEGIN:VEVENT
UID:13447@offbeat.amsterdam
SUMMARY:De Kruidenschool workshops en cursussen
DTSTAMP:20260420T005203Z
DTSTART:20260528T070000Z
DTEND:20260528T150000Z
URL:https://offbeat.amsterdam/event/de-kruidenschool-workshops-en-cursussen
	-122
GEO:52.4098521;4.9362327
LOCATION:Poortgebouw - G.J. Scheurleerweg 212C\, 1027 BA Amsterdam
STATUS:CONFIRMED
CATEGORIES:amsterdam-noord,workshop
END:VEVENT
BEGIN:VEVENT
UID:13448@offbeat.amsterdam
SUMMARY:De Kruidenschool workshops en cursussen
DTSTAMP:20260420T005203Z
DTSTART:20260529T070000Z
DTEND:20260529T150000Z
URL:https://offbeat.amsterdam/event/de-kruidenschool-workshops-en-cursussen
	-123
GEO:52.4098521;4.9362327
LOCATION:Poortgebouw - G.J. Scheurleerweg 212C\, 1027 BA Amsterdam
STATUS:CONFIRMED
CATEGORIES:workshop,amsterdam-noord
END:VEVENT
BEGIN:VEVENT
UID:16214@offbeat.amsterdam
SUMMARY:Workshop: Zen en Zingen
DTSTAMP:20260420T005203Z
DTSTART:20260529T173000Z
DTEND:20260529T194500Z
URL:https://offbeat.amsterdam/event/workshop-zen-en-zingen-9
GEO:52.4098521;4.9362327
LOCATION:Poortgebouw - G.J. Scheurleerweg 212C\, 1027 BA Amsterdam
STATUS:CONFIRMED
CATEGORIES:amsterdam-noord,workshop
END:VEVENT
BEGIN:VEVENT
UID:19239@offbeat.amsterdam
SUMMARY:Ik Ontmoet Mij
DTSTAMP:20260420T005203Z
DTSTART:20260601T073000Z
DTEND:20260601T103000Z
URL:https://offbeat.amsterdam/event/ik-ontmoet-mij-6
GEO:52.4098521;4.9362327
LOCATION:Poortgebouw - G.J. Scheurleerweg 212C\, 1027 BA Amsterdam
STATUS:CONFIRMED
CATEGORIES:amsterdam-noord
END:VEVENT
BEGIN:VEVENT
UID:13449@offbeat.amsterdam
SUMMARY:De Kruidenschool workshops en cursussen
DTSTAMP:20260420T005203Z
DTSTART:20260603T070000Z
DTEND:20260603T150000Z
URL:https://offbeat.amsterdam/event/de-kruidenschool-workshops-en-cursussen
	-124
GEO:52.4098521;4.9362327
LOCATION:Poortgebouw - G.J. Scheurleerweg 212C\, 1027 BA Amsterdam
STATUS:CONFIRMED
CATEGORIES:workshop,amsterdam-noord
END:VEVENT
BEGIN:VEVENT
UID:13450@offbeat.amsterdam
SUMMARY:De Kruidenschool workshops en cursussen
DTSTAMP:20260420T005203Z
DTSTART:20260604T070000Z
DTEND:20260604T150000Z
URL:https://offbeat.amsterdam/event/de-kruidenschool-workshops-en-cursussen
	-125
GEO:52.4098521;4.9362327
LOCATION:Poortgebouw - G.J. Scheurleerweg 212C\, 1027 BA Amsterdam
STATUS:CONFIRMED
CATEGORIES:workshop,amsterdam-noord
END:VEVENT
BEGIN:VEVENT
UID:13451@offbeat.amsterdam
SUMMARY:De Kruidenschool workshops en cursussen
DTSTAMP:20260420T005203Z
DTSTART:20260605T070000Z
DTEND:20260605T150000Z
URL:https://offbeat.amsterdam/event/de-kruidenschool-workshops-en-cursussen
	-126
GEO:52.4098521;4.9362327
LOCATION:Poortgebouw - G.J. Scheurleerweg 212C\, 1027 BA Amsterdam
STATUS:CONFIRMED
CATEGORIES:amsterdam-noord,workshop
END:VEVENT
BEGIN:VEVENT
UID:19240@offbeat.amsterdam
SUMMARY:Ik Ontmoet Mij
DTSTAMP:20260420T005203Z
DTSTART:20260608T073000Z
DTEND:20260608T103000Z
URL:https://offbeat.amsterdam/event/ik-ontmoet-mij-7
GEO:52.4098521;4.9362327
LOCATION:Poortgebouw - G.J. Scheurleerweg 212C\, 1027 BA Amsterdam
STATUS:CONFIRMED
CATEGORIES:amsterdam-noord
END:VEVENT
BEGIN:VEVENT
UID:13452@offbeat.amsterdam
SUMMARY:De Kruidenschool workshops en cursussen
DTSTAMP:20260420T005203Z
DTSTART:20260610T070000Z
DTEND:20260610T150000Z
URL:https://offbeat.amsterdam/event/de-kruidenschool-workshops-en-cursussen
	-127
GEO:52.4098521;4.9362327
LOCATION:Poortgebouw - G.J. Scheurleerweg 212C\, 1027 BA Amsterdam
STATUS:CONFIRMED
CATEGORIES:workshop,amsterdam-noord
END:VEVENT
BEGIN:VEVENT
UID:13453@offbeat.amsterdam
SUMMARY:De Kruidenschool workshops en cursussen
DTSTAMP:20260420T005203Z
DTSTART:20260611T070000Z
DTEND:20260611T150000Z
URL:https://offbeat.amsterdam/event/de-kruidenschool-workshops-en-cursussen
	-128
GEO:52.4098521;4.9362327
LOCATION:Poortgebouw - G.J. Scheurleerweg 212C\, 1027 BA Amsterdam
STATUS:CONFIRMED
CATEGORIES:amsterdam-noord,workshop
END:VEVENT
BEGIN:VEVENT
UID:13454@offbeat.amsterdam
SUMMARY:De Kruidenschool workshops en cursussen
DTSTAMP:20260420T005203Z
DTSTART:20260612T070000Z
DTEND:20260612T150000Z
URL:https://offbeat.amsterdam/event/de-kruidenschool-workshops-en-cursussen
	-129
GEO:52.4098521;4.9362327
LOCATION:Poortgebouw - G.J. Scheurleerweg 212C\, 1027 BA Amsterdam
STATUS:CONFIRMED
CATEGORIES:amsterdam-noord,workshop
END:VEVENT
BEGIN:VEVENT
UID:19241@offbeat.amsterdam
SUMMARY:Ik Ontmoet Mij
DTSTAMP:20260420T005203Z
DTSTART:20260615T073000Z
DTEND:20260615T103000Z
URL:https://offbeat.amsterdam/event/ik-ontmoet-mij-8
GEO:52.4098521;4.9362327
LOCATION:Poortgebouw - G.J. Scheurleerweg 212C\, 1027 BA Amsterdam
STATUS:CONFIRMED
CATEGORIES:amsterdam-noord
END:VEVENT
BEGIN:VEVENT
UID:13455@offbeat.amsterdam
SUMMARY:De Kruidenschool workshops en cursussen
DTSTAMP:20260420T005203Z
DTSTART:20260617T070000Z
DTEND:20260617T150000Z
URL:https://offbeat.amsterdam/event/de-kruidenschool-workshops-en-cursussen
	-130
GEO:52.4098521;4.9362327
LOCATION:Poortgebouw - G.J. Scheurleerweg 212C\, 1027 BA Amsterdam
STATUS:CONFIRMED
CATEGORIES:amsterdam-noord,workshop
END:VEVENT
BEGIN:VEVENT
UID:13456@offbeat.amsterdam
SUMMARY:De Kruidenschool workshops en cursussen
DTSTAMP:20260420T005203Z
DTSTART:20260618T070000Z
DTEND:20260618T150000Z
URL:https://offbeat.amsterdam/event/de-kruidenschool-workshops-en-cursussen
	-131
GEO:52.4098521;4.9362327
LOCATION:Poortgebouw - G.J. Scheurleerweg 212C\, 1027 BA Amsterdam
STATUS:CONFIRMED
CATEGORIES:workshop,amsterdam-noord
END:VEVENT
BEGIN:VEVENT
UID:13457@offbeat.amsterdam
SUMMARY:De Kruidenschool workshops en cursussen
DTSTAMP:20260420T005203Z
DTSTART:20260619T070000Z
DTEND:20260619T150000Z
URL:https://offbeat.amsterdam/event/de-kruidenschool-workshops-en-cursussen
	-132
GEO:52.4098521;4.9362327
LOCATION:Poortgebouw - G.J. Scheurleerweg 212C\, 1027 BA Amsterdam
STATUS:CONFIRMED
CATEGORIES:amsterdam-noord,workshop
END:VEVENT
BEGIN:VEVENT
UID:19242@offbeat.amsterdam
SUMMARY:Ik Ontmoet Mij
DTSTAMP:20260420T005203Z
DTSTART:20260622T073000Z
DTEND:20260622T103000Z
URL:https://offbeat.amsterdam/event/ik-ontmoet-mij-9
GEO:52.4098521;4.9362327
LOCATION:Poortgebouw - G.J. Scheurleerweg 212C\, 1027 BA Amsterdam
STATUS:CONFIRMED
CATEGORIES:amsterdam-noord
END:VEVENT
BEGIN:VEVENT
UID:13458@offbeat.amsterdam
SUMMARY:De Kruidenschool workshops en cursussen
DTSTAMP:20260420T005203Z
DTSTART:20260624T070000Z
DTEND:20260624T150000Z
URL:https://offbeat.amsterdam/event/de-kruidenschool-workshops-en-cursussen
	-133
GEO:52.4098521;4.9362327
LOCATION:Poortgebouw - G.J. Scheurleerweg 212C\, 1027 BA Amsterdam
STATUS:CONFIRMED
CATEGORIES:workshop,amsterdam-noord
END:VEVENT
BEGIN:VEVENT
UID:13459@offbeat.amsterdam
SUMMARY:De Kruidenschool workshops en cursussen
DTSTAMP:20260420T005203Z
DTSTART:20260625T070000Z
DTEND:20260625T150000Z
URL:https://offbeat.amsterdam/event/de-kruidenschool-workshops-en-cursussen
	-134
GEO:52.4098521;4.9362327
LOCATION:Poortgebouw - G.J. Scheurleerweg 212C\, 1027 BA Amsterdam
STATUS:CONFIRMED
CATEGORIES:amsterdam-noord,workshop
END:VEVENT
BEGIN:VEVENT
UID:13460@offbeat.amsterdam
SUMMARY:De Kruidenschool workshops en cursussen
DTSTAMP:20260420T005203Z
DTSTART:20260626T070000Z
DTEND:20260626T150000Z
URL:https://offbeat.amsterdam/event/de-kruidenschool-workshops-en-cursussen
	-135
GEO:52.4098521;4.9362327
LOCATION:Poortgebouw - G.J. Scheurleerweg 212C\, 1027 BA Amsterdam
STATUS:CONFIRMED
CATEGORIES:amsterdam-noord,workshop
END:VEVENT
BEGIN:VEVENT
UID:16215@offbeat.amsterdam
SUMMARY:Workshop: Zen en Zingen
DTSTAMP:20260420T005203Z
DTSTART:20260626T173000Z
DTEND:20260626T194500Z
URL:https://offbeat.amsterdam/event/workshop-zen-en-zingen-10
GEO:52.4098521;4.9362327
LOCATION:Poortgebouw - G.J. Scheurleerweg 212C\, 1027 BA Amsterdam
STATUS:CONFIRMED
CATEGORIES:amsterdam-noord,workshop
END:VEVENT
BEGIN:VEVENT
UID:19247@offbeat.amsterdam
SUMMARY:Inloopochtend Stichting Malak
DTSTAMP:20260420T005203Z
DTSTART:20260629T073000Z
DTEND:20260629T093000Z
URL:https://offbeat.amsterdam/event/inloopochtend-stichting-malak-24
GEO:52.4098521;4.9362327
LOCATION:Poortgebouw - G.J. Scheurleerweg 212C\, 1027 BA Amsterdam
STATUS:CONFIRMED
CATEGORIES:amsterdam-noord
END:VEVENT
BEGIN:VEVENT
UID:13461@offbeat.amsterdam
SUMMARY:De Kruidenschool workshops en cursussen
DTSTAMP:20260420T005203Z
DTSTART:20260701T070000Z
DTEND:20260701T150000Z
URL:https://offbeat.amsterdam/event/de-kruidenschool-workshops-en-cursussen
	-136
GEO:52.4098521;4.9362327
LOCATION:Poortgebouw - G.J. Scheurleerweg 212C\, 1027 BA Amsterdam
STATUS:CONFIRMED
CATEGORIES:workshop,amsterdam-noord
END:VEVENT
BEGIN:VEVENT
UID:13462@offbeat.amsterdam
SUMMARY:De Kruidenschool workshops en cursussen
DTSTAMP:20260420T005203Z
DTSTART:20260702T070000Z
DTEND:20260702T150000Z
URL:https://offbeat.amsterdam/event/de-kruidenschool-workshops-en-cursussen
	-137
GEO:52.4098521;4.9362327
LOCATION:Poortgebouw - G.J. Scheurleerweg 212C\, 1027 BA Amsterdam
STATUS:CONFIRMED
CATEGORIES:workshop,amsterdam-noord
END:VEVENT
BEGIN:VEVENT
UID:13463@offbeat.amsterdam
SUMMARY:De Kruidenschool workshops en cursussen
DTSTAMP:20260420T005203Z
DTSTART:20260703T070000Z
DTEND:20260703T150000Z
URL:https://offbeat.amsterdam/event/de-kruidenschool-workshops-en-cursussen
	-138
GEO:52.4098521;4.9362327
LOCATION:Poortgebouw - G.J. Scheurleerweg 212C\, 1027 BA Amsterdam
STATUS:CONFIRMED
CATEGORIES:workshop,amsterdam-noord
END:VEVENT
BEGIN:VEVENT
UID:19248@offbeat.amsterdam
SUMMARY:Inloopochtend Stichting Malak
DTSTAMP:20260420T005203Z
DTSTART:20260706T073000Z
DTEND:20260706T093000Z
URL:https://offbeat.amsterdam/event/inloopochtend-stichting-malak-25
GEO:52.4098521;4.9362327
LOCATION:Poortgebouw - G.J. Scheurleerweg 212C\, 1027 BA Amsterdam
STATUS:CONFIRMED
CATEGORIES:amsterdam-noord
END:VEVENT
BEGIN:VEVENT
UID:13464@offbeat.amsterdam
SUMMARY:De Kruidenschool workshops en cursussen
DTSTAMP:20260420T005203Z
DTSTART:20260708T070000Z
DTEND:20260708T150000Z
URL:https://offbeat.amsterdam/event/de-kruidenschool-workshops-en-cursussen
	-139
GEO:52.4098521;4.9362327
LOCATION:Poortgebouw - G.J. Scheurleerweg 212C\, 1027 BA Amsterdam
STATUS:CONFIRMED
CATEGORIES:workshop,amsterdam-noord
END:VEVENT
BEGIN:VEVENT
UID:13465@offbeat.amsterdam
SUMMARY:De Kruidenschool workshops en cursussen
DTSTAMP:20260420T005203Z
DTSTART:20260709T070000Z
DTEND:20260709T150000Z
URL:https://offbeat.amsterdam/event/de-kruidenschool-workshops-en-cursussen
	-140
GEO:52.4098521;4.9362327
LOCATION:Poortgebouw - G.J. Scheurleerweg 212C\, 1027 BA Amsterdam
STATUS:CONFIRMED
CATEGORIES:amsterdam-noord,workshop
END:VEVENT
BEGIN:VEVENT
UID:13466@offbeat.amsterdam
SUMMARY:De Kruidenschool workshops en cursussen
DTSTAMP:20260420T005203Z
DTSTART:20260710T070000Z
DTEND:20260710T150000Z
URL:https://offbeat.amsterdam/event/de-kruidenschool-workshops-en-cursussen
	-141
GEO:52.4098521;4.9362327
LOCATION:Poortgebouw - G.J. Scheurleerweg 212C\, 1027 BA Amsterdam
STATUS:CONFIRMED
CATEGORIES:amsterdam-noord,workshop
END:VEVENT
BEGIN:VEVENT
UID:13467@offbeat.amsterdam
SUMMARY:De Kruidenschool workshops en cursussen
DTSTAMP:20260420T005203Z
DTSTART:20260715T070000Z
DTEND:20260715T150000Z
URL:https://offbeat.amsterdam/event/de-kruidenschool-workshops-en-cursussen
	-142
GEO:52.4098521;4.9362327
LOCATION:Poortgebouw - G.J. Scheurleerweg 212C\, 1027 BA Amsterdam
STATUS:CONFIRMED
CATEGORIES:amsterdam-noord,workshop
END:VEVENT
BEGIN:VEVENT
UID:13468@offbeat.amsterdam
SUMMARY:De Kruidenschool workshops en cursussen
DTSTAMP:20260420T005203Z
DTSTART:20260716T070000Z
DTEND:20260716T150000Z
URL:https://offbeat.amsterdam/event/de-kruidenschool-workshops-en-cursussen
	-143
GEO:52.4098521;4.9362327
LOCATION:Poortgebouw - G.J. Scheurleerweg 212C\, 1027 BA Amsterdam
STATUS:CONFIRMED
CATEGORIES:amsterdam-noord,workshop
END:VEVENT
BEGIN:VEVENT
UID:13469@offbeat.amsterdam
SUMMARY:De Kruidenschool workshops en cursussen
DTSTAMP:20260420T005203Z
DTSTART:20260717T070000Z
DTEND:20260717T150000Z
URL:https://offbeat.amsterdam/event/de-kruidenschool-workshops-en-cursussen
	-144
GEO:52.4098521;4.9362327
LOCATION:Poortgebouw - G.J. Scheurleerweg 212C\, 1027 BA Amsterdam
STATUS:CONFIRMED
CATEGORIES:workshop,amsterdam-noord
END:VEVENT
BEGIN:VEVENT
UID:13470@offbeat.amsterdam
SUMMARY:De Kruidenschool workshops en cursussen
DTSTAMP:20260420T005203Z
DTSTART:20260722T070000Z
DTEND:20260722T150000Z
URL:https://offbeat.amsterdam/event/de-kruidenschool-workshops-en-cursussen
	-145
GEO:52.4098521;4.9362327
LOCATION:Poortgebouw - G.J. Scheurleerweg 212C\, 1027 BA Amsterdam
STATUS:CONFIRMED
CATEGORIES:amsterdam-noord,workshop
END:VEVENT
BEGIN:VEVENT
UID:13471@offbeat.amsterdam
SUMMARY:De Kruidenschool workshops en cursussen
DTSTAMP:20260420T005203Z
DTSTART:20260723T070000Z
DTEND:20260723T150000Z
URL:https://offbeat.amsterdam/event/de-kruidenschool-workshops-en-cursussen
	-146
GEO:52.4098521;4.9362327
LOCATION:Poortgebouw - G.J. Scheurleerweg 212C\, 1027 BA Amsterdam
STATUS:CONFIRMED
CATEGORIES:workshop,amsterdam-noord
END:VEVENT
BEGIN:VEVENT
UID:13472@offbeat.amsterdam
SUMMARY:De Kruidenschool workshops en cursussen
DTSTAMP:20260420T005203Z
DTSTART:20260724T070000Z
DTEND:20260724T150000Z
URL:https://offbeat.amsterdam/event/de-kruidenschool-workshops-en-cursussen
	-147
GEO:52.4098521;4.9362327
LOCATION:Poortgebouw - G.J. Scheurleerweg 212C\, 1027 BA Amsterdam
STATUS:CONFIRMED
CATEGORIES:workshop,amsterdam-noord
END:VEVENT
BEGIN:VEVENT
UID:13473@offbeat.amsterdam
SUMMARY:De Kruidenschool workshops en cursussen
DTSTAMP:20260420T005203Z
DTSTART:20260729T070000Z
DTEND:20260729T150000Z
URL:https://offbeat.amsterdam/event/de-kruidenschool-workshops-en-cursussen
	-148
GEO:52.4098521;4.9362327
LOCATION:Poortgebouw - G.J. Scheurleerweg 212C\, 1027 BA Amsterdam
STATUS:CONFIRMED
CATEGORIES:workshop,amsterdam-noord
END:VEVENT
BEGIN:VEVENT
UID:13474@offbeat.amsterdam
SUMMARY:De Kruidenschool workshops en cursussen
DTSTAMP:20260420T005203Z
DTSTART:20260730T070000Z
DTEND:20260730T150000Z
URL:https://offbeat.amsterdam/event/de-kruidenschool-workshops-en-cursussen
	-149
GEO:52.4098521;4.9362327
LOCATION:Poortgebouw - G.J. Scheurleerweg 212C\, 1027 BA Amsterdam
STATUS:CONFIRMED
CATEGORIES:workshop,amsterdam-noord
END:VEVENT
BEGIN:VEVENT
UID:13475@offbeat.amsterdam
SUMMARY:De Kruidenschool workshops en cursussen
DTSTAMP:20260420T005203Z
DTSTART:20260731T070000Z
DTEND:20260731T150000Z
URL:https://offbeat.amsterdam/event/de-kruidenschool-workshops-en-cursussen
	-150
GEO:52.4098521;4.9362327
LOCATION:Poortgebouw - G.J. Scheurleerweg 212C\, 1027 BA Amsterdam
STATUS:CONFIRMED
CATEGORIES:amsterdam-noord,workshop
END:VEVENT
END:VCALENDAR
