BEGIN:VCALENDAR
VERSION:2.0
CALSCALE:GREGORIAN
PRODID:adamgibbons/ics
METHOD:PUBLISH
X-PUBLISHED-TTL:PT1H
BEGIN:VEVENT
UID:18235@offbeat.amsterdam
SUMMARY:Community Event: DRAW NAKED PEOPLE
DTSTAMP:20260421T035921Z
DTSTART:20260422T173000Z
DTEND:20260422T190000Z
URL:https://offbeat.amsterdam/event/community-event-draw-naked-people-5
GEO:52.354338;4.8553367
LOCATION:OCCII - Amstelveenseweg 134\, 1075 XL Amsterdam
STATUS:CONFIRMED
CATEGORIES:schinkelbuurt,classes,workshop,models,drawing,community,amsterda
	m-zuid
END:VEVENT
BEGIN:VEVENT
UID:17835@offbeat.amsterdam
SUMMARY:M.I.A. (US) + BLEAKNESS (FR) + RITES
DTSTAMP:20260421T035921Z
DTSTART:20260423T183000Z
URL:https://offbeat.amsterdam/event/mia-us-bleakness-fr-rites
GEO:52.354338;4.8553367
LOCATION:OCCII - Amstelveenseweg 134\, 1075 XL Amsterdam
STATUS:CONFIRMED
CATEGORIES:punk,rock,schinkelbuurt,vinyl,80s punk rock legends,alternative,
	amsterdam-zuid,books,community,hardcore,melodic hardcore
END:VEVENT
BEGIN:VEVENT
UID:16824@offbeat.amsterdam
SUMMARY:RAT CAGE (UK) + TRAUMATIZER + ABUSIVE FORMS
DTSTAMP:20260421T035921Z
DTSTART:20260424T183000Z
URL:https://offbeat.amsterdam/event/rat-cage-uk-traumatizer-abusive-forms
GEO:52.354338;4.8553367
LOCATION:OCCII - Amstelveenseweg 134\, 1075 XL Amsterdam
STATUS:CONFIRMED
CATEGORIES:schinkelbuurt,punk,hc/punk,fast,community,books,amsterdam-zuid,r
	aw
END:VEVENT
BEGIN:VEVENT
UID:18054@offbeat.amsterdam
SUMMARY:A Night of Terror #2 w/ NEKUS (DE) + EREMIT (DE) + DODENTOCHT
DTSTAMP:20260421T035921Z
DTSTART:20260425T183000Z
URL:https://offbeat.amsterdam/event/a-night-of-terror-2-with-nekus-de-eremi
	t-de-dodentocht
GEO:52.354338;4.8553367
LOCATION:OCCII - Amstelveenseweg 134\, 1075 XL Amsterdam
STATUS:CONFIRMED
CATEGORIES:books,community,death metal,doom,metal,schinkelbuurt,music,amste
	rdam-zuid
END:VEVENT
BEGIN:VEVENT
UID:20278@offbeat.amsterdam
SUMMARY:F*CK W*RK Labour day special by FRXCTOSE & full service
DTSTAMP:20260421T035921Z
DTSTART:20260501T180000Z
URL:https://offbeat.amsterdam/event/fck-wrk-labour-day-special-by-frxctose-
	and-full-service
GEO:52.354338;4.8553367
LOCATION:OCCII - Amstelveenseweg 134\, 1075 XL Amsterdam
STATUS:CONFIRMED
CATEGORIES:club night,cabaret,community,dinner,workshop,schinkelbuurt,queer
	,erotic cabaret,amsterdam-zuid,party
END:VEVENT
BEGIN:VEVENT
UID:19949@offbeat.amsterdam
SUMMARY:EAR PLUG // Big Toilet radio & Weather Report
DTSTAMP:20260421T035921Z
DTSTART:20260502T180000Z
URL:https://offbeat.amsterdam/event/ear-plug-big-toilet-radio-and-weather-r
	eport-with-goy-sara-stefphanja-invites
GEO:52.354338;4.8553367
LOCATION:OCCII - Amstelveenseweg 134\, 1075 XL Amsterdam
STATUS:CONFIRMED
CATEGORIES:schinkelbuurt,amsterdam-zuid
END:VEVENT
BEGIN:VEVENT
UID:18831@offbeat.amsterdam
SUMMARY:Pretty//Ugly: Ryan Cassata and the Top Surgeons
DTSTAMP:20260421T035921Z
DTSTART:20260503T180000Z
URL:https://offbeat.amsterdam/event/prettyugly-ryan-cassata-and-the-top-sur
	geons
GEO:52.354338;4.8553367
LOCATION:OCCII - Amstelveenseweg 134\, 1075 XL Amsterdam
STATUS:CONFIRMED
CATEGORIES:jazz,dance,community,amsterdam-zuid,schinkelbuurt,stories,rock,q
	ueer,pride,performance,music,live
END:VEVENT
BEGIN:VEVENT
UID:20986@offbeat.amsterdam
SUMMARY:ORCUTT SHELLEY MILLER (US) + BHAJAN BHOY
DTSTAMP:20260421T035921Z
DTSTART:20260504T190000Z
URL:https://offbeat.amsterdam/event/orcutt-shelley-miller-us-bhajan-bhoy
GEO:52.354338;4.8553367
LOCATION:OCCII - Amstelveenseweg 134\, 1075 XL Amsterdam
STATUS:CONFIRMED
CATEGORIES:jazz,live,meditation,music,performance,rock,schinkelbuurt,sevent
	ies motorik-fusion,sixties rock,stoner,punk,alternative,amsterdam-zuid,blu
	es,books,community,eighties punk!,electronics,experimental,festivals,impro
	v,indie
END:VEVENT
BEGIN:VEVENT
UID:18468@offbeat.amsterdam
SUMMARY:BAD BREEDING (UK) + KLONNS (JP) + ZENOCIDE (JP) + ROBBER
DTSTAMP:20260421T035921Z
DTSTART:20260506T183000Z
URL:https://offbeat.amsterdam/event/bad-breeding-uk-klonns-jp-zenocide-jp-r
	obber
GEO:52.354338;4.8553367
LOCATION:OCCII - Amstelveenseweg 134\, 1075 XL Amsterdam
STATUS:CONFIRMED
CATEGORIES:metal,music,nwojh,punk,schinkelbuurt,stompin' hc,classes,hardcor
	e,community,amsterdam-zuid,anarcho-punk,books
END:VEVENT
BEGIN:VEVENT
UID:20277@offbeat.amsterdam
SUMMARY:DE MOND (BE\, Ultra Eczema) + HEBBEX D’EXPECTATIO EXPECTATA (NO) + 
	Tetuzi Akiyama\, Toshi Nakamura\, Bryan Eubanks & GJ Prins (JP/DE/NL)
DTSTAMP:20260421T035921Z
DTSTART:20260508T183000Z
URL:https://offbeat.amsterdam/event/de-mond-be-ultra-eczema-hebbex-dexpecta
	tio-expectata-no-tetuzi-akiyama-toshi-nakamura-bryan-eubanks-and-gj-prins-
	jpdenl
GEO:52.354338;4.8553367
LOCATION:OCCII - Amstelveenseweg 134\, 1075 XL Amsterdam
STATUS:CONFIRMED
CATEGORIES:noise,music,ambient,amsterdam-zuid,books,community,electronics,e
	xperiment,experimental,festivals,improv,trance,schinkelbuurt,performance
END:VEVENT
BEGIN:VEVENT
UID:18647@offbeat.amsterdam
SUMMARY:REAL FARMER + PEN PAL + DJ STEVE
DTSTAMP:20260421T035921Z
DTSTART:20260509T183000Z
URL:https://offbeat.amsterdam/event/real-farmer-support-tbc-dj-steve
GEO:52.354338;4.8553367
LOCATION:OCCII - Amstelveenseweg 134\, 1075 XL Amsterdam
STATUS:CONFIRMED
CATEGORIES:amsterdam-zuid,books,(post-) punk,punk,rock,schinkelbuurt,blues,
	community,dj,motorik,music,party
END:VEVENT
BEGIN:VEVENT
UID:20184@offbeat.amsterdam
SUMMARY:OCCII POËZIE @ WILLEM DE ZWIJGERKERK w/ Vlada Darenkova + Nora Muld
	er + Sjeng Scheijen + Walter Bart + Han van der Vegt + Tsead Bruinja + ZEA
	 + Harald Austbø + Mischa Andriessen
DTSTAMP:20260421T035921Z
DTSTART:20260510T180000Z
URL:https://offbeat.amsterdam/event/occii-poezie-willem-de-zwijgerkerk-with
	-vlada-darenkova-nora-mulder-sjeng-scheijen-walter-bart-han-van-der-vegt-t
	sead-bruinja-zea-harald-austbo-mischa-andriessen
GEO:52.354338;4.8553367
LOCATION:OCCII - Amstelveenseweg 134\, 1075 XL Amsterdam
STATUS:CONFIRMED
CATEGORIES:amsterdam-zuid,occii poetry [on tour @ willem de zwijgerkerk,oly
	mpiaweg 14],poetry,schinkelbuurt
END:VEVENT
BEGIN:VEVENT
UID:20902@offbeat.amsterdam
SUMMARY:Community Drinks
DTSTAMP:20260421T035921Z
DTSTART:20260513T183000Z
DTEND:20260513T203000Z
URL:https://offbeat.amsterdam/event/community-drinks-1
GEO:52.354338;4.8553367
LOCATION:OCCII - Amstelveenseweg 134\, 1075 XL Amsterdam
STATUS:CONFIRMED
CATEGORIES:amsterdam-zuid,vegan,schinkelbuurt,organize,diy,dinner,community
	,volunteer
END:VEVENT
BEGIN:VEVENT
UID:20229@offbeat.amsterdam
SUMMARY:PUFFER (CA) + WATERSCHADE + THE PROTOS
DTSTAMP:20260421T035921Z
DTSTART:20260514T183000Z
URL:https://offbeat.amsterdam/event/puffer-ca-waterschade-the-protos
GEO:52.354338;4.8553367
LOCATION:OCCII - Amstelveenseweg 134\, 1075 XL Amsterdam
STATUS:CONFIRMED
CATEGORIES:books,community,hardcore,hardcore punk and riot grrrl,patriarchy
	,punk,schinkelbuurt,a mix of oi!,amsterdam-zuid,capitalism
END:VEVENT
BEGIN:VEVENT
UID:20807@offbeat.amsterdam
SUMMARY:Sad and Gazing II: Barren Sea + Crashing + Her Loving Aftertaste
DTSTAMP:20260421T035921Z
DTSTART:20260515T183000Z
URL:https://offbeat.amsterdam/event/sad-and-gazing-ii-barren-sea-crashing-h
	er-loving-aftertaste
GEO:52.354338;4.8553367
LOCATION:OCCII - Amstelveenseweg 134\, 1075 XL Amsterdam
STATUS:CONFIRMED
CATEGORIES:rock,schinkelbuurt,shoegaze,slowcore,dreampop,concert,community,
	books,amsterdam-zuid,live,music,performance
END:VEVENT
BEGIN:VEVENT
UID:18605@offbeat.amsterdam
SUMMARY:BBG PRESENTS: ECURIE D’ARGENT (CH) + TWINNINGL00M (NL) + VHS MIDNIG
	HT STYLE (UK)
DTSTAMP:20260421T035921Z
DTSTART:20260516T183000Z
URL:https://offbeat.amsterdam/event/bbg-presents-ecurie-dargent-ch-twinning
	l00m-nl-vhs-midnight-style-uk
GEO:52.354338;4.8553367
LOCATION:OCCII - Amstelveenseweg 134\, 1075 XL Amsterdam
STATUS:CONFIRMED
CATEGORIES:cloud/underground rap,community,electronic,electronics,idm,music
	,online music,performance,rap,schinkelbuurt,amsterdam-zuid,books
END:VEVENT
BEGIN:VEVENT
UID:18469@offbeat.amsterdam
SUMMARY:TURN OF PHRASE (UK) + COMPETE (AT) + 32 ELEPHANTS
DTSTAMP:20260421T035921Z
DTSTART:20260521T183000Z
URL:https://offbeat.amsterdam/event/turn-of-phrase-uk-compete-at-32-elephan
	ts
GEO:52.354338;4.8553367
LOCATION:OCCII - Amstelveenseweg 134\, 1075 XL Amsterdam
STATUS:CONFIRMED
CATEGORIES:emo,youth crew,00's melodic hardcore,schinkelbuurt,amsterdam-zui
	d,books,community,post-hardcore,hardcore
END:VEVENT
BEGIN:VEVENT
UID:19810@offbeat.amsterdam
SUMMARY:HIELE + SERGEANT + SOFI NAUFAL + NM____(DJ Nicole Martens)
DTSTAMP:20260421T035921Z
DTSTART:20260522T183000Z
URL:https://offbeat.amsterdam/event/hiele-sergeant-sofi-naufal-nm____dj-nic
	ole-martens
GEO:52.354338;4.8553367
LOCATION:OCCII - Amstelveenseweg 134\, 1075 XL Amsterdam
STATUS:CONFIRMED
CATEGORIES:dj,electronic,kraut,plunderphonic kraut,schinkelbuurt,amsterdam-
	zuid,community,dance,books
END:VEVENT
BEGIN:VEVENT
UID:20759@offbeat.amsterdam
SUMMARY:12FU w/ HOW YES NO (HR) + DAD JOKE (HR) + MY PURSE (NL) + DJ’S YOKE
	\, JOOKE & JOKUH (NL)
DTSTAMP:20260421T035921Z
DTSTART:20260523T183000Z
URL:https://offbeat.amsterdam/event/12fu-with-how-yes-no-hr-dad-joke-hr-my-
	purse-nl-djs-yoke-jooke-and-jokuh-nl
GEO:52.354338;4.8553367
LOCATION:OCCII - Amstelveenseweg 134\, 1075 XL Amsterdam
STATUS:CONFIRMED
CATEGORIES:hardcore,amsterdam-zuid,art punk,dj,music,post punk,punk,schinke
	lbuurt,talk,weird punk
END:VEVENT
BEGIN:VEVENT
UID:17268@offbeat.amsterdam
SUMMARY:BIG|BRAVE (CA) + A TABLE & A CHAIR (Aart-Jan Schakenbos (The Julie 
	Mittens) and Arvind Ganga)
DTSTAMP:20260421T035921Z
DTSTART:20260525T183000Z
URL:https://offbeat.amsterdam/event/bigorbrave-ca-more-tbc
GEO:52.354338;4.8553367
LOCATION:OCCII - Amstelveenseweg 134\, 1075 XL Amsterdam
STATUS:CONFIRMED
CATEGORIES:amsterdam-zuid,books,community,music,plants,schinkelbuurt
END:VEVENT
BEGIN:VEVENT
UID:20944@offbeat.amsterdam
SUMMARY:12FU w/ SOGA (MX) + SMETVREES (NL) + BOTTLED VIOLENCE (NL)
DTSTAMP:20260421T035921Z
DTSTART:20260528T183000Z
URL:https://offbeat.amsterdam/event/12fu-with-soga-mx-smetvrees-nl-bottled-
	violence-nl
GEO:52.354338;4.8553367
LOCATION:OCCII - Amstelveenseweg 134\, 1075 XL Amsterdam
STATUS:CONFIRMED
CATEGORIES:rock,punk,performance,noise punk,live,hardcore punk,hardcore,fem
	inist punk,capitalism,amsterdam-zuid,schinkelbuurt
END:VEVENT
BEGIN:VEVENT
UID:19750@offbeat.amsterdam
SUMMARY:PALE SPEKTRE (DE) + PELOROUS (DE) + BLOED
DTSTAMP:20260421T035921Z
DTSTART:20260529T183000Z
URL:https://offbeat.amsterdam/event/pale-spektre-de-pelorous-de-bloed
GEO:52.354338;4.8553367
LOCATION:OCCII - Amstelveenseweg 134\, 1075 XL Amsterdam
STATUS:CONFIRMED
CATEGORIES:books,community,death metal,metal,music,punk,schinkelbuurt,amste
	rdam-zuid,black metal
END:VEVENT
BEGIN:VEVENT
UID:20985@offbeat.amsterdam
SUMMARY:Kronkeltje: 3L3D3P + Sexverbot + Clitteband + Oscar Jan Hoogland (M
	ishakosmos) + DJ’s Yoke+Jooke & Bandgurl666
DTSTAMP:20260421T035921Z
DTSTART:20260530T180000Z
URL:https://offbeat.amsterdam/event/kronkeltje-3l3d3p-sexverbot-clitteband-
	oscar-jan-hoogland-mishakosmos-djs-yokejooke-and-bandgurl666
GEO:52.354338;4.8553367
LOCATION:OCCII - Amstelveenseweg 134\, 1075 XL Amsterdam
STATUS:CONFIRMED
CATEGORIES:punk,alternative,amsterdam-zuid,capitalism,community,dj,electron
	ics,festivals,hardcore,jazz,live,music,performance,piano,queer,rave,schink
	elbuurt
END:VEVENT
BEGIN:VEVENT
UID:19249@offbeat.amsterdam
SUMMARY:Pretty//Ugly: Cuntroaches + Nitefish + Mxchxxl + Brandnetel
DTSTAMP:20260421T035921Z
DTSTART:20260605T180000Z
URL:https://offbeat.amsterdam/event/prettyugly-cuntroaches-brandnetel
GEO:52.354338;4.8553367
LOCATION:OCCII - Amstelveenseweg 134\, 1075 XL Amsterdam
STATUS:CONFIRMED
CATEGORIES:noise,music,metal,rave,live,games,food,breakcore,amsterdam-zuid,
	schinkelbuurt,rock 'n' roll,punk,performance,orchestra
END:VEVENT
BEGIN:VEVENT
UID:20616@offbeat.amsterdam
SUMMARY:EVAN PARKER & BILL NACE (UK/US) + VERA MORAIS (PT) + DIKEMAN\, MOOR
	 & BRENNAN (US/UK/CA)
DTSTAMP:20260421T035921Z
DTSTART:20260610T183000Z
URL:https://offbeat.amsterdam/event/evan-parker-and-bill-nace-ukus-vera-mor
	ais-pt-dikeman-moor-and-brennan-usukca
GEO:52.354338;4.8553367
LOCATION:OCCII - Amstelveenseweg 134\, 1075 XL Amsterdam
STATUS:CONFIRMED
CATEGORIES:a night of total music,amsterdam-zuid,improv,jazz,music,schinkel
	buurt
END:VEVENT
BEGIN:VEVENT
UID:20133@offbeat.amsterdam
SUMMARY:HOME FRONT (CA) + LÄRM
DTSTAMP:20260421T035921Z
DTSTART:20260611T183000Z
URL:https://offbeat.amsterdam/event/home-front-ca-larm
GEO:52.354338;4.8553367
LOCATION:OCCII - Amstelveenseweg 134\, 1075 XL Amsterdam
STATUS:CONFIRMED
CATEGORIES:hardcore,schinkelbuurt,rock,punk,post-punk,hc/punk,community,boo
	ks,amsterdam-zuid
END:VEVENT
BEGIN:VEVENT
UID:20984@offbeat.amsterdam
SUMMARY:KUNTARI (ID) + Saturno Santos’ Something + More TBA
DTSTAMP:20260421T035921Z
DTSTART:20260612T183000Z
URL:https://offbeat.amsterdam/event/kuntari-id-saturno-santos-something-mor
	e-tba
GEO:52.354338;4.8553367
LOCATION:OCCII - Amstelveenseweg 134\, 1075 XL Amsterdam
STATUS:CONFIRMED
CATEGORIES:queer,schinkelbuurt,primal-core,music,indie,anti-pop,amsterdam-z
	uid
END:VEVENT
BEGIN:VEVENT
UID:20699@offbeat.amsterdam
SUMMARY:SURROGATES (US) + INSIDE JOB + CONTROLLED ILLUSION
DTSTAMP:20260421T035921Z
DTSTART:20260617T183000Z
URL:https://offbeat.amsterdam/event/surrogates-us-inside-job-controlled-ill
	usion
GEO:52.354338;4.8553367
LOCATION:OCCII - Amstelveenseweg 134\, 1075 XL Amsterdam
STATUS:CONFIRMED
CATEGORIES:hardcore,schinkelbuurt,amsterdam-zuid,books,nasty metallic hc/pu
	nk,community,d-beat,fastcore,punk
END:VEVENT
BEGIN:VEVENT
UID:19749@offbeat.amsterdam
SUMMARY:Night at the Mausoleum w/ Camy Huot + Modern Figure + Holograph + H
	ollow Reflection
DTSTAMP:20260421T035921Z
DTSTART:20260619T183000Z
URL:https://offbeat.amsterdam/event/night-at-the-mausoleum-with-camy-huot-m
	odern-figure-holograph-hollow-reflection
GEO:52.354338;4.8553367
LOCATION:OCCII - Amstelveenseweg 134\, 1075 XL Amsterdam
STATUS:CONFIRMED
CATEGORIES:dj,dark synth,amsterdam-zuid,music,new wave,post-wave,punk,schin
	kelbuurt,synth punk,live,festivals
END:VEVENT
BEGIN:VEVENT
UID:20987@offbeat.amsterdam
SUMMARY:TA2REEBAN – تقريبًا (LB\, BEIRUT) + EMIRHAN X + SUPERMARKT
DTSTAMP:20260421T035921Z
DTSTART:20260620T183000Z
URL:https://offbeat.amsterdam/event/ta2reeban-lb-beirut-emirhan-x-supermark
	t
GEO:52.354338;4.8553367
LOCATION:OCCII - Amstelveenseweg 134\, 1075 XL Amsterdam
STATUS:CONFIRMED
CATEGORIES:live,stories,schinkelbuurt,rock,rave,rap,punk,poetry,performance
	,music,improv,hardcore,harami hc/punk,experimental,dance-punk,dance,commun
	ity,books,amsterdam-zuid
END:VEVENT
BEGIN:VEVENT
UID:20618@offbeat.amsterdam
SUMMARY:TRAIDORA (UK) + MORE TBC
DTSTAMP:20260421T035921Z
DTSTART:20260623T183000Z
URL:https://offbeat.amsterdam/event/traidora-uk-more-tbc
GEO:52.354338;4.8553367
LOCATION:OCCII - Amstelveenseweg 134\, 1075 XL Amsterdam
STATUS:CONFIRMED
CATEGORIES:hardcore,schinkelbuurt,rock,queer,punk transfeminista,live,music
	,punk,experimental,electronics,community,books,amsterdam-zuid,gender
END:VEVENT
BEGIN:VEVENT
UID:19404@offbeat.amsterdam
SUMMARY:SICK URGE (FI) + PRESSURE PACT + MEDITATION + ANGSTMÄLER
DTSTAMP:20260421T035921Z
DTSTART:20260704T180000Z
URL:https://offbeat.amsterdam/event/sick-urge-fi-pressure-pact-meditation-a
	ngstmaler
GEO:52.354338;4.8553367
LOCATION:OCCII - Amstelveenseweg 134\, 1075 XL Amsterdam
STATUS:CONFIRMED
CATEGORIES:schinkelbuurt,r & j 's bday bash,punk,meditation,hardcore,commun
	ity,books,amsterdam-zuid
END:VEVENT
BEGIN:VEVENT
UID:20617@offbeat.amsterdam
SUMMARY:HANDLE (UK\, Absolute Fiction/Upset! The Rhythm) + KANIPCHEN-FIT + 
	DJ STEVE
DTSTAMP:20260421T035921Z
DTSTART:20260705T183000Z
URL:https://offbeat.amsterdam/event/handle-uk-absolute-fictionupset-the-rhy
	thm-kanipchen-fit-dj-steve
GEO:52.354338;4.8553367
LOCATION:OCCII - Amstelveenseweg 134\, 1075 XL Amsterdam
STATUS:CONFIRMED
CATEGORIES:dj,art-rock,books,community,amsterdam-zuid,no-wave,schinkelbuurt
	,weird-punk
END:VEVENT
BEGIN:VEVENT
UID:20983@offbeat.amsterdam
SUMMARY:DEAD MOON NIGHT w/ TOODY COLE & HER BAND (US) + JENNY DON’T & THE S
	PURS (US) + DJ BONE
DTSTAMP:20260421T035921Z
DTSTART:20260901T183000Z
URL:https://offbeat.amsterdam/event/dead-moon-night-with-toody-cole-and-her
	-band-us-jenny-dont-and-the-spurs-us-dj-bone
GEO:52.354338;4.8553367
LOCATION:OCCII - Amstelveenseweg 134\, 1075 XL Amsterdam
STATUS:CONFIRMED
CATEGORIES:punk,rock,rock 'n' roll,rock’n’roll,music,garage rock,dj,diy,com
	munity,books,amsterdam-zuid,schinkelbuurt,underground
END:VEVENT
END:VCALENDAR
