BEGIN:VCALENDAR
VERSION:2.0
CALSCALE:GREGORIAN
PRODID:adamgibbons/ics
METHOD:PUBLISH
X-PUBLISHED-TTL:PT1H
BEGIN:VEVENT
UID:20320@offbeat.amsterdam
SUMMARY:DWAALGASTEN
DTSTAMP:20260420T075240Z
DTSTART:20260423T183000Z
DTEND:20260423T210000Z
URL:https://offbeat.amsterdam/event/dwaalgasten
GEO:52.3358778;4.9266131
LOCATION:Grond - Bijdorpstraat 1\, 1096 AP Amsterdam
STATUS:CONFIRMED
CATEGORIES:music,overamstel,stories,talk,amsterdam-oost
END:VEVENT
BEGIN:VEVENT
UID:20515@offbeat.amsterdam
SUMMARY:DJ Sniff – Mitchell/Peters duo
DTSTAMP:20260420T075240Z
DTSTART:20260430T180000Z
DTEND:20260430T213000Z
URL:https://offbeat.amsterdam/event/dj-sniff-mitchellpeters-duo
GEO:52.3358778;4.9266131
LOCATION:Grond - Bijdorpstraat 1\, 1096 AP Amsterdam
STATUS:CONFIRMED
CATEGORIES:vinyl,performance,overamstel,music,jazz,concert,amsterdam-oost,d
	j,experimental,hip-hop,improv
END:VEVENT
BEGIN:VEVENT
UID:20659@offbeat.amsterdam
SUMMARY:David Mitchell’s Natural Light – album release
DTSTAMP:20260420T075240Z
DTSTART:20260507T180000Z
DTEND:20260507T200000Z
URL:https://offbeat.amsterdam/event/david-mitchells-natural-light-album-rel
	ease
GEO:52.3358778;4.9266131
LOCATION:Grond - Bijdorpstraat 1\, 1096 AP Amsterdam
STATUS:CONFIRMED
CATEGORIES:amsterdam-oost,film,improv,overamstel,performance
END:VEVENT
BEGIN:VEVENT
UID:19289@offbeat.amsterdam
SUMMARY:Lokhipster Album Launch
DTSTAMP:20260420T075240Z
DTSTART:20260510T123000Z
DTEND:20260510T150000Z
URL:https://offbeat.amsterdam/event/lokhipster-album-launch
GEO:52.3358778;4.9266131
LOCATION:Grond - Bijdorpstraat 1\, 1096 AP Amsterdam
STATUS:CONFIRMED
CATEGORIES:overamstel,music,experimental,jazz,rock,amsterdam-oost
END:VEVENT
BEGIN:VEVENT
UID:20853@offbeat.amsterdam
SUMMARY:EMBER #2
DTSTAMP:20260420T075240Z
DTSTART:20260514T170000Z
DTEND:20260514T190000Z
URL:https://offbeat.amsterdam/event/ember-2
GEO:52.3358778;4.9266131
LOCATION:Grond - Bijdorpstraat 1\, 1096 AP Amsterdam
STATUS:CONFIRMED
CATEGORIES:sculpture,amsterdam-oost,music,overamstel,visual art,workshop
END:VEVENT
BEGIN:VEVENT
UID:20660@offbeat.amsterdam
SUMMARY:Orb Weaver with Maarten Visser
DTSTAMP:20260420T075240Z
DTSTART:20260518T180000Z
DTEND:20260518T203000Z
URL:https://offbeat.amsterdam/event/orb-weaver-with-maarten-visser
GEO:52.3358778;4.9266131
LOCATION:Grond - Bijdorpstraat 1\, 1096 AP Amsterdam
STATUS:CONFIRMED
CATEGORIES:overamstel,amsterdam-oost,electronics,improv,jazz
END:VEVENT
END:VCALENDAR
