BEGIN:VCALENDAR
VERSION:2.0
CALSCALE:GREGORIAN
PRODID:adamgibbons/ics
METHOD:PUBLISH
X-PUBLISHED-TTL:PT1H
BEGIN:VEVENT
UID:19841@offbeat.amsterdam
SUMMARY:Tolerantie: een gevaarlijk goed
DTSTAMP:20260420T035333Z
DTSTART:20260420T180000Z
URL:https://offbeat.amsterdam/event/tolerantie-een-gevaarlijk-goed
GEO:52.3630433;4.8828596
LOCATION:De Balie - Kleine-Gartmanplantsoen 10\, 1017 RR Amsterdam
STATUS:CONFIRMED
CATEGORIES:idee & verbeelding,leidseplein,politiek & democratie,amsterdam-c
	entrum
END:VEVENT
BEGIN:VEVENT
UID:18982@offbeat.amsterdam
SUMMARY:Georgi Gospodinov: the Weaponization of Nostalgia
DTSTAMP:20260420T035333Z
DTSTART:20260421T180000Z
URL:https://offbeat.amsterdam/event/georgi-gospodinov-the-weaponization-of-
	nostalgia-1
GEO:52.3630433;4.8828596
LOCATION:De Balie - Kleine-Gartmanplantsoen 10\, 1017 RR Amsterdam
STATUS:CONFIRMED
CATEGORIES:stories,amsterdam-centrum,leidseplein,idee & verbeelding,books
END:VEVENT
BEGIN:VEVENT
UID:19160@offbeat.amsterdam
SUMMARY:Dear stranger with Ece Temelkuran
DTSTAMP:20260420T035333Z
DTSTART:20260422T180000Z
URL:https://offbeat.amsterdam/event/dear-stranger-with-ece-temelkuran
GEO:52.3630433;4.8828596
LOCATION:De Balie - Kleine-Gartmanplantsoen 10\, 1017 RR Amsterdam
STATUS:CONFIRMED
CATEGORIES:leidseplein,idee & verbeelding,theater,refugees,performance,amst
	erdam-centrum,books,democracy
END:VEVENT
BEGIN:VEVENT
UID:19801@offbeat.amsterdam
SUMMARY:Pavel Krisevich: Russian Prison Art
DTSTAMP:20260420T035333Z
DTSTART:20260423T180000Z
URL:https://offbeat.amsterdam/event/pavel-krisevich-russian-prison-art
GEO:52.3630433;4.8828596
LOCATION:De Balie - Kleine-Gartmanplantsoen 10\, 1017 RR Amsterdam
STATUS:CONFIRMED
CATEGORIES:exhibition,performance,leidseplein,geopolitiek & mensenrechten,b
	ooks,amsterdam-centrum
END:VEVENT
BEGIN:VEVENT
UID:20395@offbeat.amsterdam
SUMMARY:Plein Publiek: Ellen de Bruin
DTSTAMP:20260420T035333Z
DTSTART:20260424T153000Z
URL:https://offbeat.amsterdam/event/plein-publiek-ellen-de-bruin
GEO:52.3630433;4.8828596
LOCATION:De Balie - Kleine-Gartmanplantsoen 10\, 1017 RR Amsterdam
STATUS:CONFIRMED
CATEGORIES:amsterdam-centrum,idee & verbeelding,leidseplein
END:VEVENT
BEGIN:VEVENT
UID:18738@offbeat.amsterdam
SUMMARY:Dear professor – met het Nederlands Kamerkoor
DTSTAMP:20260420T035333Z
DTSTART:20260424T180000Z
URL:https://offbeat.amsterdam/event/dear-professor-met-het-nederlands-kamer
	koor
GEO:52.3630433;4.8828596
LOCATION:De Balie - Kleine-Gartmanplantsoen 10\, 1017 RR Amsterdam
STATUS:CONFIRMED
CATEGORIES:amsterdam-centrum,music,leidseplein,idee & verbeelding
END:VEVENT
BEGIN:VEVENT
UID:18596@offbeat.amsterdam
SUMMARY:Free Speech\, an Origin Story
DTSTAMP:20260420T035333Z
DTSTART:20260425T173000Z
URL:https://offbeat.amsterdam/event/free-speech-an-origin-story
GEO:52.3630433;4.8828596
LOCATION:De Balie - Kleine-Gartmanplantsoen 10\, 1017 RR Amsterdam
STATUS:CONFIRMED
CATEGORIES:amsterdam-centrum,books,idee & verbeelding,leidseplein,stories
END:VEVENT
BEGIN:VEVENT
UID:19864@offbeat.amsterdam
SUMMARY:CinéDialoog: The Shipwrecked
DTSTAMP:20260420T035333Z
DTSTART:20260428T170000Z
URL:https://offbeat.amsterdam/event/cinedialoog-the-shipwrecked
GEO:52.3630433;4.8828596
LOCATION:De Balie - Kleine-Gartmanplantsoen 10\, 1017 RR Amsterdam
STATUS:CONFIRMED
CATEGORIES:leidseplein,amsterdam-centrum,film,jungle,stories
END:VEVENT
BEGIN:VEVENT
UID:19798@offbeat.amsterdam
SUMMARY:Astrid H. Roemer: over de gekte van een vrouw
DTSTAMP:20260420T035333Z
DTSTART:20260429T180000Z
URL:https://offbeat.amsterdam/event/astrid-h-roemer-over-de-gekte-van-een-v
	rouw
GEO:52.3630433;4.8828596
LOCATION:De Balie - Kleine-Gartmanplantsoen 10\, 1017 RR Amsterdam
STATUS:CONFIRMED
CATEGORIES:leidseplein,amsterdam-centrum,idee & verbeelding,poetry
END:VEVENT
BEGIN:VEVENT
UID:20224@offbeat.amsterdam
SUMMARY:Amsterdam Koerdisch Film Festival: Arzela From Amed
DTSTAMP:20260420T035333Z
DTSTART:20260430T173000Z
URL:https://offbeat.amsterdam/event/amsterdam-koerdisch-film-festival-arzel
	a-from-amed
GEO:52.3630433;4.8828596
LOCATION:De Balie - Kleine-Gartmanplantsoen 10\, 1017 RR Amsterdam
STATUS:CONFIRMED
CATEGORIES:film,leidseplein,amsterdam-centrum,cinema,emancipatie & identite
	it,festivals
END:VEVENT
BEGIN:VEVENT
UID:19159@offbeat.amsterdam
SUMMARY:CinéDialoog: A Ringing in the Ears
DTSTAMP:20260420T035333Z
DTSTART:20260430T180000Z
URL:https://offbeat.amsterdam/event/cinedialoog-a-ringing-in-the-ears
GEO:52.3630433;4.8828596
LOCATION:De Balie - Kleine-Gartmanplantsoen 10\, 1017 RR Amsterdam
STATUS:CONFIRMED
CATEGORIES:amsterdam-centrum,music,leidseplein,film
END:VEVENT
BEGIN:VEVENT
UID:19866@offbeat.amsterdam
SUMMARY:Plein Publiek: Mina Etemad
DTSTAMP:20260420T035333Z
DTSTART:20260501T153000Z
URL:https://offbeat.amsterdam/event/plein-publiek-mina-etemad
GEO:52.3630433;4.8828596
LOCATION:De Balie - Kleine-Gartmanplantsoen 10\, 1017 RR Amsterdam
STATUS:CONFIRMED
CATEGORIES:amsterdam-centrum,idee & verbeelding,leidseplein,emancipatie & i
	dentiteit
END:VEVENT
BEGIN:VEVENT
UID:19863@offbeat.amsterdam
SUMMARY:CinéDialoog: Verweesd eigendom
DTSTAMP:20260420T035333Z
DTSTART:20260501T180000Z
URL:https://offbeat.amsterdam/event/cinedialoog-verweesd-eigendom
GEO:52.3630433;4.8828596
LOCATION:De Balie - Kleine-Gartmanplantsoen 10\, 1017 RR Amsterdam
STATUS:CONFIRMED
CATEGORIES:leidseplein,amsterdam-centrum,film
END:VEVENT
BEGIN:VEVENT
UID:20393@offbeat.amsterdam
SUMMARY:Behind the Opera: Le nozze di Figaro
DTSTAMP:20260420T035333Z
DTSTART:20260502T180000Z
URL:https://offbeat.amsterdam/event/behind-the-opera-le-nozze-di-figaro
GEO:52.3630433;4.8828596
LOCATION:De Balie - Kleine-Gartmanplantsoen 10\, 1017 RR Amsterdam
STATUS:CONFIRMED
CATEGORIES:leidseplein,idee & verbeelding,amsterdam-centrum
END:VEVENT
BEGIN:VEVENT
UID:18983@offbeat.amsterdam
SUMMARY:Oksana Zabuzhko: on Ukraine’s past and present
DTSTAMP:20260420T035333Z
DTSTART:20260503T130000Z
URL:https://offbeat.amsterdam/event/oksana-zabuzhko-on-ukraines-past-and-pr
	esent
GEO:52.3630433;4.8828596
LOCATION:De Balie - Kleine-Gartmanplantsoen 10\, 1017 RR Amsterdam
STATUS:CONFIRMED
CATEGORIES:stories,amsterdam-centrum,books,democracy,geopolitiek & mensenre
	chten,idee & verbeelding,leidseplein
END:VEVENT
BEGIN:VEVENT
UID:20749@offbeat.amsterdam
SUMMARY:Gesprek Voor de Dam: hoe hou je herdenken levend?
DTSTAMP:20260420T035333Z
DTSTART:20260503T180000Z
URL:https://offbeat.amsterdam/event/gesprek-voor-de-dam-hoe-hou-je-herdenke
	n-levend
GEO:52.3630433;4.8828596
LOCATION:De Balie - Kleine-Gartmanplantsoen 10\, 1017 RR Amsterdam
STATUS:CONFIRMED
CATEGORIES:leidseplein,theater,politiek & democratie,amsterdam-centrum
END:VEVENT
BEGIN:VEVENT
UID:19800@offbeat.amsterdam
SUMMARY:Maar wat er ook gebeurt er klinkt muziek
DTSTAMP:20260420T035333Z
DTSTART:20260504T190000Z
URL:https://offbeat.amsterdam/event/maar-wat-er-ook-gebeurt-er-klinkt-muzie
	k
GEO:52.3630433;4.8828596
LOCATION:De Balie - Kleine-Gartmanplantsoen 10\, 1017 RR Amsterdam
STATUS:CONFIRMED
CATEGORIES:leidseplein,amsterdam-centrum,idee & verbeelding,live,music
END:VEVENT
BEGIN:VEVENT
UID:20256@offbeat.amsterdam
SUMMARY:Live Journalism: thuiszitters\, het gezin en de bureaucratische wir
	war
DTSTAMP:20260420T035333Z
DTSTART:20260506T173000Z
URL:https://offbeat.amsterdam/event/live-journalism-thuiszitters-het-gezin-
	en-de-bureaucratische-wirwar
GEO:52.3630433;4.8828596
LOCATION:De Balie - Kleine-Gartmanplantsoen 10\, 1017 RR Amsterdam
STATUS:CONFIRMED
CATEGORIES:emancipatie & identiteit,leidseplein,live,amsterdam-centrum
END:VEVENT
BEGIN:VEVENT
UID:20642@offbeat.amsterdam
SUMMARY:Tachtig jaar na de Revolusi – een gedeeld verhaal?
DTSTAMP:20260420T035333Z
DTSTART:20260506T180000Z
URL:https://offbeat.amsterdam/event/tachtig-jaar-na-de-revolusi-een-gedeeld
	-verhaal
GEO:52.3630433;4.8828596
LOCATION:De Balie - Kleine-Gartmanplantsoen 10\, 1017 RR Amsterdam
STATUS:CONFIRMED
CATEGORIES:theater,politiek & democratie,leidseplein,gender,emancipatie & i
	dentiteit,amsterdam-centrum
END:VEVENT
BEGIN:VEVENT
UID:20688@offbeat.amsterdam
SUMMARY:CinéDialoog: Celtic Utopia
DTSTAMP:20260420T035333Z
DTSTART:20260507T173000Z
URL:https://offbeat.amsterdam/event/cinedialoog-celtic-utopia
GEO:52.3630433;4.8828596
LOCATION:De Balie - Kleine-Gartmanplantsoen 10\, 1017 RR Amsterdam
STATUS:CONFIRMED
CATEGORIES:amsterdam-centrum,leidseplein,film
END:VEVENT
BEGIN:VEVENT
UID:20225@offbeat.amsterdam
SUMMARY:Theatervoorstelling: BURGER
DTSTAMP:20260420T035333Z
DTSTART:20260507T180000Z
URL:https://offbeat.amsterdam/event/theatervoorstelling-burger
GEO:52.3630433;4.8828596
LOCATION:De Balie - Kleine-Gartmanplantsoen 10\, 1017 RR Amsterdam
STATUS:CONFIRMED
CATEGORIES:leidseplein,amsterdam-centrum,politiek & democratie,emancipatie 
	& identiteit
END:VEVENT
BEGIN:VEVENT
UID:19161@offbeat.amsterdam
SUMMARY:Plein Publiek: Brankele Frank
DTSTAMP:20260420T035333Z
DTSTART:20260508T153000Z
URL:https://offbeat.amsterdam/event/plein-publiek-brankele-frank
GEO:52.3630433;4.8828596
LOCATION:De Balie - Kleine-Gartmanplantsoen 10\, 1017 RR Amsterdam
STATUS:CONFIRMED
CATEGORIES:metal,leidseplein,amsterdam-centrum,leven & tijdgeest
END:VEVENT
BEGIN:VEVENT
UID:19942@offbeat.amsterdam
SUMMARY:Stop Worrying and Love the Bomb?
DTSTAMP:20260420T035333Z
DTSTART:20260508T180000Z
URL:https://offbeat.amsterdam/event/stop-worrying-and-love-the-bomb
GEO:52.3630433;4.8828596
LOCATION:De Balie - Kleine-Gartmanplantsoen 10\, 1017 RR Amsterdam
STATUS:CONFIRMED
CATEGORIES:geopolitiek & mensenrechten,leidseplein,amsterdam-centrum
END:VEVENT
BEGIN:VEVENT
UID:20091@offbeat.amsterdam
SUMMARY:European Literature Night: Transformation
DTSTAMP:20260420T035333Z
DTSTART:20260509T173000Z
URL:https://offbeat.amsterdam/event/european-literature-night-transformatio
	n
GEO:52.3630433;4.8828596
LOCATION:De Balie - Kleine-Gartmanplantsoen 10\, 1017 RR Amsterdam
STATUS:CONFIRMED
CATEGORIES:poetry,leidseplein,idee & verbeelding,amsterdam-centrum,books,th
	eater,stories,refugees
END:VEVENT
BEGIN:VEVENT
UID:19026@offbeat.amsterdam
SUMMARY:Met Nederland in therapie
DTSTAMP:20260420T035333Z
DTSTART:20260509T180000Z
URL:https://offbeat.amsterdam/event/met-nederland-in-therapie
GEO:52.3630433;4.8828596
LOCATION:De Balie - Kleine-Gartmanplantsoen 10\, 1017 RR Amsterdam
STATUS:CONFIRMED
CATEGORIES:extern,amsterdam-centrum,leidseplein
END:VEVENT
BEGIN:VEVENT
UID:20354@offbeat.amsterdam
SUMMARY:History\, Memory\, Commemoration: Sulawesi
DTSTAMP:20260420T035333Z
DTSTART:20260510T140000Z
URL:https://offbeat.amsterdam/event/history-memory-commemoration-sulawesi
GEO:52.3630433;4.8828596
LOCATION:De Balie - Kleine-Gartmanplantsoen 10\, 1017 RR Amsterdam
STATUS:CONFIRMED
CATEGORIES:amsterdam-centrum,discussion,film,idee & verbeelding,leidseplein
END:VEVENT
BEGIN:VEVENT
UID:20428@offbeat.amsterdam
SUMMARY:Techdenkers: hoe veilig zijn mijn data?
DTSTAMP:20260420T035333Z
DTSTART:20260511T180000Z
URL:https://offbeat.amsterdam/event/techdenkers-hoe-veilig-zijn-mijn-data
GEO:52.3630433;4.8828596
LOCATION:De Balie - Kleine-Gartmanplantsoen 10\, 1017 RR Amsterdam
STATUS:CONFIRMED
CATEGORIES:amsterdam-centrum,leidseplein,politiek & democratie
END:VEVENT
BEGIN:VEVENT
UID:20788@offbeat.amsterdam
SUMMARY:Nationaal Gesprek over Vrijheid: Maria Janssen Steenberg
DTSTAMP:20260420T035333Z
DTSTART:20260511T220000Z
URL:https://offbeat.amsterdam/event/nationaal-gesprek-over-vrijheid-maria-j
	anssen-steenberg
GEO:52.3630433;4.8828596
LOCATION:De Balie - Kleine-Gartmanplantsoen 10\, 1017 RR Amsterdam
STATUS:CONFIRMED
CATEGORIES:amsterdam-centrum,nationaal gesprek over vrijheid,leidseplein
END:VEVENT
BEGIN:VEVENT
UID:20654@offbeat.amsterdam
SUMMARY:Ophef! Staat de artistieke vrijheid onder druk?
DTSTAMP:20260420T035333Z
DTSTART:20260512T173000Z
URL:https://offbeat.amsterdam/event/ophef-staat-de-artistieke-vrijheid-onde
	r-druk
GEO:52.3630433;4.8828596
LOCATION:De Balie - Kleine-Gartmanplantsoen 10\, 1017 RR Amsterdam
STATUS:CONFIRMED
CATEGORIES:politiek & democratie,amsterdam-centrum,idee & verbeelding,leids
	eplein
END:VEVENT
BEGIN:VEVENT
UID:20847@offbeat.amsterdam
SUMMARY:After the Iran War? The New Balance of Power in the Middle East
DTSTAMP:20260420T035333Z
DTSTART:20260512T180000Z
URL:https://offbeat.amsterdam/event/after-the-iran-war-the-new-balance-of-p
	ower-in-the-middle-east
GEO:52.3630433;4.8828596
LOCATION:De Balie - Kleine-Gartmanplantsoen 10\, 1017 RR Amsterdam
STATUS:CONFIRMED
CATEGORIES:geopolitiek & mensenrechten,leidseplein,amsterdam-centrum
END:VEVENT
BEGIN:VEVENT
UID:20639@offbeat.amsterdam
SUMMARY:Nationaal Gesprek over Vrijheid: Sybrand van Haersma Buma
DTSTAMP:20260420T035333Z
DTSTART:20260512T220000Z
URL:https://offbeat.amsterdam/event/nationaal-gesprek-over-vrijheid-sybrand
	-van-haersma-buma-1
GEO:52.3630433;4.8828596
LOCATION:De Balie - Kleine-Gartmanplantsoen 10\, 1017 RR Amsterdam
STATUS:CONFIRMED
CATEGORIES:amsterdam-centrum,nationaal gesprek over vrijheid,leidseplein
END:VEVENT
BEGIN:VEVENT
UID:20355@offbeat.amsterdam
SUMMARY:Nederland\, gidsland? – over queer emancipatie en politiek
DTSTAMP:20260420T035333Z
DTSTART:20260513T180000Z
URL:https://offbeat.amsterdam/event/nederland-gidsland-over-queer-emancipat
	ie-en-politiek
GEO:52.3630433;4.8828596
LOCATION:De Balie - Kleine-Gartmanplantsoen 10\, 1017 RR Amsterdam
STATUS:CONFIRMED
CATEGORIES:emancipatie & identiteit,leidseplein,politiek & democratie,queer
	,amsterdam-centrum
END:VEVENT
BEGIN:VEVENT
UID:20850@offbeat.amsterdam
SUMMARY:Jongens toch
DTSTAMP:20260420T035333Z
DTSTART:20260517T130000Z
URL:https://offbeat.amsterdam/event/jongens-toch
GEO:52.3630433;4.8828596
LOCATION:De Balie - Kleine-Gartmanplantsoen 10\, 1017 RR Amsterdam
STATUS:CONFIRMED
CATEGORIES:leven & tijdgeest,emancipatie & identiteit,amsterdam-centrum,lei
	dseplein,community
END:VEVENT
BEGIN:VEVENT
UID:20394@offbeat.amsterdam
SUMMARY:Laurent Binet: between history and imagination
DTSTAMP:20260420T035333Z
DTSTART:20260518T183000Z
URL:https://offbeat.amsterdam/event/laurent-binet-between-history-and-imagi
	nation
GEO:52.3630433;4.8828596
LOCATION:De Balie - Kleine-Gartmanplantsoen 10\, 1017 RR Amsterdam
STATUS:CONFIRMED
CATEGORIES:stories,talk,leidseplein,idee & verbeelding,amsterdam-centrum
END:VEVENT
BEGIN:VEVENT
UID:20849@offbeat.amsterdam
SUMMARY:Hoe werkt de wapenhandel?
DTSTAMP:20260420T035333Z
DTSTART:20260519T183000Z
URL:https://offbeat.amsterdam/event/hoe-werkt-de-wapenhandel
GEO:52.3630433;4.8828596
LOCATION:De Balie - Kleine-Gartmanplantsoen 10\, 1017 RR Amsterdam
STATUS:CONFIRMED
CATEGORIES:leidseplein,amsterdam-centrum,geopolitiek & mensenrechten,politi
	ek & democratie
END:VEVENT
BEGIN:VEVENT
UID:20656@offbeat.amsterdam
SUMMARY:‘Io sono Giorgia’ – the two faces of Meloni
DTSTAMP:20260420T035333Z
DTSTART:20260527T180000Z
URL:https://offbeat.amsterdam/event/io-sono-giorgia-the-two-faces-of-meloni
GEO:52.3630433;4.8828596
LOCATION:De Balie - Kleine-Gartmanplantsoen 10\, 1017 RR Amsterdam
STATUS:CONFIRMED
CATEGORIES:amsterdam-centrum,geopolitiek & mensenrechten,leidseplein,party
END:VEVENT
BEGIN:VEVENT
UID:20848@offbeat.amsterdam
SUMMARY:Hoe updaten we de rechtsstaat? – met Maxim Februari
DTSTAMP:20260420T035333Z
DTSTART:20260528T173000Z
URL:https://offbeat.amsterdam/event/hoe-updaten-we-de-rechtsstaat-met-maxim
	-februari
GEO:52.3630433;4.8828596
LOCATION:De Balie - Kleine-Gartmanplantsoen 10\, 1017 RR Amsterdam
STATUS:CONFIRMED
CATEGORIES:politiek & democratie,amsterdam-centrum,leidseplein
END:VEVENT
BEGIN:VEVENT
UID:19985@offbeat.amsterdam
SUMMARY:Nationaal Gesprek over Vrijheid: Carol van Eert
DTSTAMP:20260420T035333Z
DTSTART:20260528T220000Z
URL:https://offbeat.amsterdam/event/nationaal-gesprek-over-vrijheid-carol-v
	an-eert
GEO:52.3630433;4.8828596
LOCATION:De Balie - Kleine-Gartmanplantsoen 10\, 1017 RR Amsterdam
STATUS:CONFIRMED
CATEGORIES:amsterdam-centrum,nationaal gesprek over vrijheid,leidseplein
END:VEVENT
BEGIN:VEVENT
UID:19027@offbeat.amsterdam
SUMMARY:Plein Publiek: Belle van Heerikhuizen
DTSTAMP:20260420T035333Z
DTSTART:20260529T153000Z
URL:https://offbeat.amsterdam/event/plein-publiek-belle-van-heerikhuizen
GEO:52.3630433;4.8828596
LOCATION:De Balie - Kleine-Gartmanplantsoen 10\, 1017 RR Amsterdam
STATUS:CONFIRMED
CATEGORIES:theater,amsterdam-centrum,idee & verbeelding,leidseplein
END:VEVENT
BEGIN:VEVENT
UID:20655@offbeat.amsterdam
SUMMARY:Welcome in the age of oligarchy
DTSTAMP:20260420T035333Z
DTSTART:20260529T180000Z
URL:https://offbeat.amsterdam/event/welcome-in-the-age-of-oligarchy
GEO:52.3630433;4.8828596
LOCATION:De Balie - Kleine-Gartmanplantsoen 10\, 1017 RR Amsterdam
STATUS:CONFIRMED
CATEGORIES:books,amsterdam-centrum,democracy,geopolitiek & mensenrechten,le
	idseplein,party
END:VEVENT
BEGIN:VEVENT
UID:20852@offbeat.amsterdam
SUMMARY:Nazaten: omgaan met een beladen familieverleden
DTSTAMP:20260420T035333Z
DTSTART:20260531T180000Z
URL:https://offbeat.amsterdam/event/nazaten-omgaan-met-een-beladen-familiev
	erleden
GEO:52.3630433;4.8828596
LOCATION:De Balie - Kleine-Gartmanplantsoen 10\, 1017 RR Amsterdam
STATUS:CONFIRMED
CATEGORIES:leidseplein,amsterdam-centrum,emancipatie & identiteit
END:VEVENT
BEGIN:VEVENT
UID:20640@offbeat.amsterdam
SUMMARY:Nationaal Gesprek over Vrijheid: Thom van Campen
DTSTAMP:20260420T035333Z
DTSTART:20260531T220000Z
URL:https://offbeat.amsterdam/event/nationaal-gesprek-over-vrijheid-thom-va
	n-campen
GEO:52.3630433;4.8828596
LOCATION:De Balie - Kleine-Gartmanplantsoen 10\, 1017 RR Amsterdam
STATUS:CONFIRMED
CATEGORIES:leidseplein,nationaal gesprek over vrijheid,amsterdam-centrum
END:VEVENT
BEGIN:VEVENT
UID:20637@offbeat.amsterdam
SUMMARY:Nationaal Gesprek over Vrijheid: Barbara Kathmann
DTSTAMP:20260420T035333Z
DTSTART:20260602T220000Z
URL:https://offbeat.amsterdam/event/nationaal-gesprek-over-vrijheid-barbara
	-kathmann
GEO:52.3630433;4.8828596
LOCATION:De Balie - Kleine-Gartmanplantsoen 10\, 1017 RR Amsterdam
STATUS:CONFIRMED
CATEGORIES:leidseplein,amsterdam-centrum,nationaal gesprek over vrijheid
END:VEVENT
BEGIN:VEVENT
UID:20789@offbeat.amsterdam
SUMMARY:Nationaal Gesprek over Vrijheid: Suleyman Aslami
DTSTAMP:20260420T035333Z
DTSTART:20260603T220000Z
URL:https://offbeat.amsterdam/event/nationaal-gesprek-over-vrijheid-suleyma
	n-aslami
GEO:52.3630433;4.8828596
LOCATION:De Balie - Kleine-Gartmanplantsoen 10\, 1017 RR Amsterdam
STATUS:CONFIRMED
CATEGORIES:amsterdam-centrum,leidseplein,nationaal gesprek over vrijheid
END:VEVENT
BEGIN:VEVENT
UID:19740@offbeat.amsterdam
SUMMARY:Journalistiek Theater: van klaslokaal naar thuiszitters
DTSTAMP:20260420T035333Z
DTSTART:20260608T180000Z
URL:https://offbeat.amsterdam/event/journalistiek-theater-van-klaslokaal-na
	ar-thuiszitters
GEO:52.3630433;4.8828596
LOCATION:De Balie - Kleine-Gartmanplantsoen 10\, 1017 RR Amsterdam
STATUS:CONFIRMED
CATEGORIES:leidseplein,amsterdam-centrum,emancipatie & identiteit,live,thea
	ter
END:VEVENT
BEGIN:VEVENT
UID:20638@offbeat.amsterdam
SUMMARY:Nationaal Gesprek over Vrijheid: Roelien Kamminga
DTSTAMP:20260420T035333Z
DTSTART:20260610T220000Z
URL:https://offbeat.amsterdam/event/nationaal-gesprek-over-vrijheid-roelien
	-kamminga
GEO:52.3630433;4.8828596
LOCATION:De Balie - Kleine-Gartmanplantsoen 10\, 1017 RR Amsterdam
STATUS:CONFIRMED
CATEGORIES:leidseplein,amsterdam-centrum,nationaal gesprek over vrijheid
END:VEVENT
BEGIN:VEVENT
UID:19799@offbeat.amsterdam
SUMMARY:Eindeloos vertier met Peter Buwalda
DTSTAMP:20260420T035333Z
DTSTART:20260611T180000Z
URL:https://offbeat.amsterdam/event/eindeloos-vertier-met-peter-buwalda
GEO:52.3630433;4.8828596
LOCATION:De Balie - Kleine-Gartmanplantsoen 10\, 1017 RR Amsterdam
STATUS:CONFIRMED
CATEGORIES:leidseplein,idee & verbeelding,amsterdam-centrum
END:VEVENT
BEGIN:VEVENT
UID:20641@offbeat.amsterdam
SUMMARY:Nationaal Gesprek over Vrijheid: Thom van Campen
DTSTAMP:20260420T035333Z
DTSTART:20260614T220000Z
URL:https://offbeat.amsterdam/event/nationaal-gesprek-over-vrijheid-thom-va
	n-campen-1
GEO:52.3630433;4.8828596
LOCATION:De Balie - Kleine-Gartmanplantsoen 10\, 1017 RR Amsterdam
STATUS:CONFIRMED
CATEGORIES:leidseplein,nationaal gesprek over vrijheid,amsterdam-centrum
END:VEVENT
BEGIN:VEVENT
UID:20750@offbeat.amsterdam
SUMMARY:Plein publiek: Caro Derkx
DTSTAMP:20260420T035333Z
DTSTART:20260619T153000Z
URL:https://offbeat.amsterdam/event/plein-publiek-caro-derkx
GEO:52.3630433;4.8828596
LOCATION:De Balie - Kleine-Gartmanplantsoen 10\, 1017 RR Amsterdam
STATUS:CONFIRMED
CATEGORIES:leidseplein,leven & tijdgeest,amsterdam-centrum,theater,idee & v
	erbeelding
END:VEVENT
BEGIN:VEVENT
UID:20851@offbeat.amsterdam
SUMMARY:Nationaal Gesprek over Vrijheid: Lisa Westerveld
DTSTAMP:20260420T035333Z
DTSTART:20261011T220000Z
URL:https://offbeat.amsterdam/event/nationaal-gesprek-over-vrijheid-lisa-we
	sterveld
GEO:52.3630433;4.8828596
LOCATION:De Balie - Kleine-Gartmanplantsoen 10\, 1017 RR Amsterdam
STATUS:CONFIRMED
CATEGORIES:leidseplein,nationaal gesprek over vrijheid,amsterdam-centrum
END:VEVENT
END:VCALENDAR
