BEGIN:VCALENDAR
VERSION:2.0
CALSCALE:GREGORIAN
PRODID:adamgibbons/ics
METHOD:PUBLISH
X-PUBLISHED-TTL:PT1H
BEGIN:VEVENT
UID:19987@offbeat.amsterdam
SUMMARY:20/04 COMMUNITY CUISINE: CEUVEL WORKSHOP
DTSTAMP:20260420T050232Z
DTSTART:20260420T160000Z
DTEND:20260420T193000Z
URL:https://offbeat.amsterdam/event/2004-community-cuisine-ceuvel-workshop
GEO:52.3930912;4.9096685
LOCATION:De Ceuvel - Korte Papaverweg 2\, 1032 KB Amsterdam
STATUS:CONFIRMED
CATEGORIES:buiksloterham,community,dinner,amsterdam-noord,talk,workshop
END:VEVENT
BEGIN:VEVENT
UID:20502@offbeat.amsterdam
SUMMARY:EARTH DAY concert by Gecko (UK) and Imme (NL)
DTSTAMP:20260420T050232Z
DTSTART:20260422T170000Z
DTEND:20260422T200000Z
URL:https://offbeat.amsterdam/event/earth-day-concert-by-gecko-uk-and-imme-
	nl
GEO:52.3930912;4.9096685
LOCATION:De Ceuvel - Korte Papaverweg 2\, 1032 KB Amsterdam
STATUS:CONFIRMED
CATEGORIES:buiksloterham,concert,music,amsterdam-noord
END:VEVENT
BEGIN:VEVENT
UID:19210@offbeat.amsterdam
SUMMARY:Sound meditation by Judy 22/04
DTSTAMP:20260420T050232Z
DTSTART:20260422T170000Z
DTEND:20260422T181500Z
URL:https://offbeat.amsterdam/event/sound-meditation-by-judy-2204
GEO:52.3930912;4.9096685
LOCATION:De Ceuvel - Korte Papaverweg 2\, 1032 KB Amsterdam
STATUS:CONFIRMED
CATEGORIES:meditation,amsterdam-noord,buiksloterham,theater,yoga
END:VEVENT
BEGIN:VEVENT
UID:20178@offbeat.amsterdam
SUMMARY:YOGA WITH KASHA
DTSTAMP:20260420T050232Z
DTSTART:20260423T163000Z
DTEND:20260423T174500Z
URL:https://offbeat.amsterdam/event/yoga-with-kasha-9
GEO:52.3930912;4.9096685
LOCATION:De Ceuvel - Korte Papaverweg 2\, 1032 KB Amsterdam
STATUS:CONFIRMED
CATEGORIES:gender,yoga,soul,community,classes,buiksloterham,books,amsterdam
	-noord
END:VEVENT
BEGIN:VEVENT
UID:20180@offbeat.amsterdam
SUMMARY:YOGA WITH KASHA
DTSTAMP:20260420T050232Z
DTSTART:20260425T080000Z
DTEND:20260425T091500Z
URL:https://offbeat.amsterdam/event/yoga-with-kasha-11
GEO:52.3930912;4.9096685
LOCATION:De Ceuvel - Korte Papaverweg 2\, 1032 KB Amsterdam
STATUS:CONFIRMED
CATEGORIES:buiksloterham,books,amsterdam-noord,yoga,soul,gender,community,c
	lasses
END:VEVENT
BEGIN:VEVENT
UID:2249@offbeat.amsterdam
SUMMARY:KONING CEUVEL // KING’S NIGHT
DTSTAMP:20260420T050232Z
DTSTART:20260426T190000Z
DTEND:20260427T013000Z
URL:https://offbeat.amsterdam/event/koning-ceuvel-kings-night
GEO:52.3930912;4.9096685
LOCATION:De Ceuvel - Korte Papaverweg 2\, 1032 KB Amsterdam
STATUS:CONFIRMED
CATEGORIES:improv,funk,festivals,electronics,eclectic,dj,dance,concert,colo
	nialism,buiksloterham,punk,psychedelic rock,reggae,techno,rock,soul,amster
	dam-noord,performance,party,afro,music,live,lecture,jazz
END:VEVENT
BEGIN:VEVENT
UID:20181@offbeat.amsterdam
SUMMARY:YOGA WITH KASHA
DTSTAMP:20260420T050232Z
DTSTART:20260430T163000Z
DTEND:20260430T174500Z
URL:https://offbeat.amsterdam/event/yoga-with-kasha-12
GEO:52.3930912;4.9096685
LOCATION:De Ceuvel - Korte Papaverweg 2\, 1032 KB Amsterdam
STATUS:CONFIRMED
CATEGORIES:buiksloterham,yoga,soul,gender,community,classes,books,amsterdam
	-noord
END:VEVENT
BEGIN:VEVENT
UID:20179@offbeat.amsterdam
SUMMARY:YOGA WITH KASHA
DTSTAMP:20260420T050232Z
DTSTART:20260502T080000Z
DTEND:20260502T091500Z
URL:https://offbeat.amsterdam/event/yoga-with-kasha-10
GEO:52.3930912;4.9096685
LOCATION:De Ceuvel - Korte Papaverweg 2\, 1032 KB Amsterdam
STATUS:CONFIRMED
CATEGORIES:books,soul,yoga,amsterdam-noord,buiksloterham,classes,community,
	gender
END:VEVENT
BEGIN:VEVENT
UID:20098@offbeat.amsterdam
SUMMARY:Purifying Park Afternoon! Want to lend us a hand?
DTSTAMP:20260420T050232Z
DTSTART:20260506T113000Z
DTEND:20260506T143000Z
URL:https://offbeat.amsterdam/event/purifying-park-afternoon-want-to-lend-u
	s-a-hand-14
GEO:52.3930912;4.9096685
LOCATION:De Ceuvel - Korte Papaverweg 2\, 1032 KB Amsterdam
STATUS:CONFIRMED
CATEGORIES:buiksloterham,phytoremediation,plants,amsterdam-noord
END:VEVENT
BEGIN:VEVENT
UID:18937@offbeat.amsterdam
SUMMARY:Music in ‘t Café // Spull
DTSTAMP:20260420T050232Z
DTSTART:20260507T193000Z
DTEND:20260507T210000Z
URL:https://offbeat.amsterdam/event/music-night-at-the-cafe-spull
GEO:52.3930912;4.9096685
LOCATION:De Ceuvel - Korte Papaverweg 2\, 1032 KB Amsterdam
STATUS:CONFIRMED
CATEGORIES:funk,afro,amsterdam-noord,buiksloterham,dinner,improv,jazz,live,
	music,soul
END:VEVENT
BEGIN:VEVENT
UID:18634@offbeat.amsterdam
SUMMARY:Rehearsal of the Amsterdam Climate Choir
DTSTAMP:20260420T050232Z
DTSTART:20260512T173000Z
DTEND:20260512T190000Z
URL:https://offbeat.amsterdam/event/rehearsal-of-the-amsterdam-climate-choi
	r-3
GEO:52.3930912;4.9096685
LOCATION:De Ceuvel - Korte Papaverweg 2\, 1032 KB Amsterdam
STATUS:CONFIRMED
CATEGORIES:amsterdam-noord,activism,blues,buiksloterham,live,music
END:VEVENT
BEGIN:VEVENT
UID:20607@offbeat.amsterdam
SUMMARY:Bloeiklas at De Ceuvel (for people aged 18-35) ”about love”
DTSTAMP:20260420T050232Z
DTSTART:20260513T091100Z
DTEND:20260513T220000Z
URL:https://offbeat.amsterdam/event/bloeiklas-at-de-ceuvel-for-people-aged-
	18-35-about-love
GEO:52.3930912;4.9096685
LOCATION:De Ceuvel - Korte Papaverweg 2\, 1032 KB Amsterdam
STATUS:CONFIRMED
CATEGORIES:buiksloterham,stories,amsterdam-noord
END:VEVENT
BEGIN:VEVENT
UID:20500@offbeat.amsterdam
SUMMARY:Chess tournament @ the Ceuvel! 14/05
DTSTAMP:20260420T050232Z
DTSTART:20260514T180000Z
DTEND:20260514T220000Z
URL:https://offbeat.amsterdam/event/chess-tournament-the-ceuvel-1405
GEO:52.3930912;4.9096685
LOCATION:De Ceuvel - Korte Papaverweg 2\, 1032 KB Amsterdam
STATUS:CONFIRMED
CATEGORIES:buiksloterham,amsterdam-noord,books,games
END:VEVENT
BEGIN:VEVENT
UID:20501@offbeat.amsterdam
SUMMARY:DRIFT Philosophy Festival // Between Dream and Deed
DTSTAMP:20260420T050232Z
DTSTART:20260516T170000Z
DTEND:20260517T010000Z
URL:https://offbeat.amsterdam/event/drift-philosophy-festival-between-dream
	-and-deed
GEO:52.3930912;4.9096685
LOCATION:De Ceuvel - Korte Papaverweg 2\, 1032 KB Amsterdam
STATUS:CONFIRMED
CATEGORIES:democracy,festivals,gender,performance,poetry,amsterdam-noord,bo
	oks,buiksloterham
END:VEVENT
BEGIN:VEVENT
UID:16873@offbeat.amsterdam
SUMMARY:Mini safari about birds: “Looking with your ears”
DTSTAMP:20260420T050232Z
DTSTART:20260517T090000Z
DTEND:20260517T103000Z
URL:https://offbeat.amsterdam/event/mini-safari-about-birds-looking-with-yo
	ur-ears
GEO:52.3930912;4.9096685
LOCATION:De Ceuvel - Korte Papaverweg 2\, 1032 KB Amsterdam
STATUS:CONFIRMED
CATEGORIES:food,amsterdam-noord,buiksloterham,live
END:VEVENT
BEGIN:VEVENT
UID:19211@offbeat.amsterdam
SUMMARY:Sound meditation by Judy 28/05
DTSTAMP:20260420T050232Z
DTSTART:20260528T170000Z
DTEND:20260528T181500Z
URL:https://offbeat.amsterdam/event/sound-meditation-by-judy-2705
GEO:52.3930912;4.9096685
LOCATION:De Ceuvel - Korte Papaverweg 2\, 1032 KB Amsterdam
STATUS:CONFIRMED
CATEGORIES:theater,yoga,amsterdam-noord,buiksloterham,meditation
END:VEVENT
BEGIN:VEVENT
UID:19802@offbeat.amsterdam
SUMMARY:Workshop: Learn how to use your citizen’s right to speak in defense
	 of the rights of the Bee.
DTSTAMP:20260420T050232Z
DTSTART:20260529T103000Z
DTEND:20260529T140000Z
URL:https://offbeat.amsterdam/event/workshop-learn-how-to-use-your-citizens
	-right-to-speak-in-defense-of-the-rights-of-the-bee-1
GEO:52.3930912;4.9096685
LOCATION:De Ceuvel - Korte Papaverweg 2\, 1032 KB Amsterdam
STATUS:CONFIRMED
CATEGORIES:workshop,amsterdam-noord,buiksloterham
END:VEVENT
BEGIN:VEVENT
UID:15816@offbeat.amsterdam
SUMMARY:Foraging Expedition 31/05
DTSTAMP:20260420T050232Z
DTSTART:20260531T073000Z
DTEND:20260531T113000Z
URL:https://offbeat.amsterdam/event/foraging-expedition-3105
GEO:52.3930912;4.9096685
LOCATION:De Ceuvel - Korte Papaverweg 2\, 1032 KB Amsterdam
STATUS:CONFIRMED
CATEGORIES:buiksloterham,amsterdam-noord,plants,foraging,food
END:VEVENT
BEGIN:VEVENT
UID:20096@offbeat.amsterdam
SUMMARY:Purifying Park Afternoon! Want to lend us a hand?
DTSTAMP:20260420T050232Z
DTSTART:20260603T113000Z
DTEND:20260603T143000Z
URL:https://offbeat.amsterdam/event/purifying-park-afternoon-want-to-lend-u
	s-a-hand-12
GEO:52.3930912;4.9096685
LOCATION:De Ceuvel - Korte Papaverweg 2\, 1032 KB Amsterdam
STATUS:CONFIRMED
CATEGORIES:plants,phytoremediation,amsterdam-noord,buiksloterham
END:VEVENT
BEGIN:VEVENT
UID:18636@offbeat.amsterdam
SUMMARY:Rehearsal of the Amsterdam Climate Choir 9/6
DTSTAMP:20260420T050232Z
DTSTART:20260609T173000Z
DTEND:20260609T190000Z
URL:https://offbeat.amsterdam/event/rehearsal-of-the-amsterdam-climate-choi
	r-96
GEO:52.3930912;4.9096685
LOCATION:De Ceuvel - Korte Papaverweg 2\, 1032 KB Amsterdam
STATUS:CONFIRMED
CATEGORIES:buiksloterham,blues,amsterdam-noord,activism,music,live
END:VEVENT
BEGIN:VEVENT
UID:19209@offbeat.amsterdam
SUMMARY:Sound meditation by Judy 18/06
DTSTAMP:20260420T050232Z
DTSTART:20260618T170000Z
DTEND:20260618T181500Z
URL:https://offbeat.amsterdam/event/sound-meditation-by-judy-1706
GEO:52.3930912;4.9096685
LOCATION:De Ceuvel - Korte Papaverweg 2\, 1032 KB Amsterdam
STATUS:CONFIRMED
CATEGORIES:meditation,yoga,amsterdam-noord,buiksloterham,theater
END:VEVENT
BEGIN:VEVENT
UID:18688@offbeat.amsterdam
SUMMARY:The Birthday | 12 Years of De Ceuvel!
DTSTAMP:20260420T050232Z
DTSTART:20260620T091100Z
DTEND:20260620T220000Z
URL:https://offbeat.amsterdam/event/the-birthday-or-12-years-of-de-ceuvel
GEO:52.3930912;4.9096685
LOCATION:De Ceuvel - Korte Papaverweg 2\, 1032 KB Amsterdam
STATUS:CONFIRMED
CATEGORIES:dance,amsterdam-noord,music,buiksloterham
END:VEVENT
BEGIN:VEVENT
UID:15817@offbeat.amsterdam
SUMMARY:Make your own Barefoot shoes!
DTSTAMP:20260420T050232Z
DTSTART:20260624T070000Z
DTEND:20260624T153000Z
URL:https://offbeat.amsterdam/event/make-your-own-barefoot-shoes
GEO:52.3930912;4.9096685
LOCATION:De Ceuvel - Korte Papaverweg 2\, 1032 KB Amsterdam
STATUS:CONFIRMED
CATEGORIES:amsterdam-noord,workshop,buiksloterham
END:VEVENT
BEGIN:VEVENT
UID:19876@offbeat.amsterdam
SUMMARY:Workshop: Learn how to use your citizen’s right to speak in defense
	 of the rights of the Bee.
DTSTAMP:20260420T050232Z
DTSTART:20260626T103000Z
DTEND:20260626T140000Z
URL:https://offbeat.amsterdam/event/workshop-learn-how-to-use-your-citizens
	-right-to-speak-in-defense-of-the-rights-of-the-bee-3
GEO:52.3930912;4.9096685
LOCATION:De Ceuvel - Korte Papaverweg 2\, 1032 KB Amsterdam
STATUS:CONFIRMED
CATEGORIES:buiksloterham,amsterdam-noord,workshop
END:VEVENT
BEGIN:VEVENT
UID:20094@offbeat.amsterdam
SUMMARY:Purifying Park Afternoon! Want to lend us a hand?
DTSTAMP:20260420T050232Z
DTSTART:20260701T113000Z
DTEND:20260701T143000Z
URL:https://offbeat.amsterdam/event/purifying-park-afternoon-want-to-lend-u
	s-a-hand-10
GEO:52.3930912;4.9096685
LOCATION:De Ceuvel - Korte Papaverweg 2\, 1032 KB Amsterdam
STATUS:CONFIRMED
CATEGORIES:amsterdam-noord,plants,phytoremediation,buiksloterham
END:VEVENT
BEGIN:VEVENT
UID:20093@offbeat.amsterdam
SUMMARY:Mini Safari “Join the Wild Bee Expedition and discover the mystery 
	of the wild bee”
DTSTAMP:20260420T050232Z
DTSTART:20260705T090000Z
DTEND:20260705T103000Z
URL:https://offbeat.amsterdam/event/mini-safari-join-the-wild-bee-expeditio
	n-and-discover-the-mystery-of-the-wild-bee
GEO:52.3930912;4.9096685
LOCATION:De Ceuvel - Korte Papaverweg 2\, 1032 KB Amsterdam
STATUS:CONFIRMED
CATEGORIES:buiksloterham,food,live,plants,amsterdam-noord
END:VEVENT
BEGIN:VEVENT
UID:19871@offbeat.amsterdam
SUMMARY:Mini safari about caterpillars ”Butterfly dinner – what do caterpil
	lars eat?”
DTSTAMP:20260420T050232Z
DTSTART:20260712T090000Z
DTEND:20260712T103000Z
URL:https://offbeat.amsterdam/event/mini-safari-about-caterpillars-butterfl
	y-dinner-what-do-caterpillars-eat
GEO:52.3930912;4.9096685
LOCATION:De Ceuvel - Korte Papaverweg 2\, 1032 KB Amsterdam
STATUS:CONFIRMED
CATEGORIES:dinner,buiksloterham,amsterdam-noord,food
END:VEVENT
BEGIN:VEVENT
UID:19873@offbeat.amsterdam
SUMMARY:Mini safari about nettles ”Stinging plant and human friend”
DTSTAMP:20260420T050232Z
DTSTART:20260719T090000Z
DTEND:20260719T103000Z
URL:https://offbeat.amsterdam/event/mini-safari-about-nettles-stinging-plan
	t-and-human-friend
GEO:52.3930912;4.9096685
LOCATION:De Ceuvel - Korte Papaverweg 2\, 1032 KB Amsterdam
STATUS:CONFIRMED
CATEGORIES:stories,amsterdam-noord,buiksloterham,food,lecture,plants
END:VEVENT
BEGIN:VEVENT
UID:19870@offbeat.amsterdam
SUMMARY:Mini Safari about soil life – Do you know creepy crawlies?
DTSTAMP:20260420T050232Z
DTSTART:20260726T090000Z
DTEND:20260726T103000Z
URL:https://offbeat.amsterdam/event/mini-safari-about-soil-life-do-you-know
	-creepy-crawlies-1
GEO:52.3930912;4.9096685
LOCATION:De Ceuvel - Korte Papaverweg 2\, 1032 KB Amsterdam
STATUS:CONFIRMED
CATEGORIES:plants,live,food,buiksloterham,amsterdam-noord
END:VEVENT
BEGIN:VEVENT
UID:19869@offbeat.amsterdam
SUMMARY:Mini Safari about soil life – Do you know creepy crawlies?
DTSTAMP:20260420T050232Z
DTSTART:20260809T090000Z
DTEND:20260809T103000Z
URL:https://offbeat.amsterdam/event/mini-safari-about-soil-life-do-you-know
	-creepy-crawlies
GEO:52.3930912;4.9096685
LOCATION:De Ceuvel - Korte Papaverweg 2\, 1032 KB Amsterdam
STATUS:CONFIRMED
CATEGORIES:amsterdam-noord,live,plants,food,buiksloterham
END:VEVENT
BEGIN:VEVENT
UID:19872@offbeat.amsterdam
SUMMARY:Mini safari about elderflower ”A sweet plant full of stories”
DTSTAMP:20260420T050232Z
DTSTART:20260823T090000Z
DTEND:20260823T103000Z
URL:https://offbeat.amsterdam/event/mini-safari-about-elderflower-a-sweet-p
	lant-full-of-stories
GEO:52.3930912;4.9096685
LOCATION:De Ceuvel - Korte Papaverweg 2\, 1032 KB Amsterdam
STATUS:CONFIRMED
CATEGORIES:lecture,plants,stories,amsterdam-noord,buiksloterham,food
END:VEVENT
BEGIN:VEVENT
UID:20095@offbeat.amsterdam
SUMMARY:Purifying Park Afternoon! Want to lend us a hand?
DTSTAMP:20260420T050232Z
DTSTART:20260902T113000Z
DTEND:20260902T143000Z
URL:https://offbeat.amsterdam/event/purifying-park-afternoon-want-to-lend-u
	s-a-hand-11
GEO:52.3930912;4.9096685
LOCATION:De Ceuvel - Korte Papaverweg 2\, 1032 KB Amsterdam
STATUS:CONFIRMED
CATEGORIES:plants,buiksloterham,amsterdam-noord,phytoremediation
END:VEVENT
BEGIN:VEVENT
UID:19875@offbeat.amsterdam
SUMMARY:Workshop: Learn how to use your citizen’s right to speak in defense
	 of the rights of the Bee (02/10)
DTSTAMP:20260420T050232Z
DTSTART:20261002T103000Z
DTEND:20261002T140000Z
URL:https://offbeat.amsterdam/event/workshop-learn-how-to-use-your-citizens
	-right-to-speak-in-defense-of-the-rights-of-the-bee-0210
GEO:52.3930912;4.9096685
LOCATION:De Ceuvel - Korte Papaverweg 2\, 1032 KB Amsterdam
STATUS:CONFIRMED
CATEGORIES:buiksloterham,workshop,amsterdam-noord
END:VEVENT
BEGIN:VEVENT
UID:19868@offbeat.amsterdam
SUMMARY:De Ceuvel Autumn Celebration – Alternative World Animal Day
DTSTAMP:20260420T050232Z
DTSTART:20261004T090000Z
DTEND:20261004T150000Z
URL:https://offbeat.amsterdam/event/de-ceuvel-autumn-celebration-alternativ
	e-world-animal-day
GEO:52.3930912;4.9096685
LOCATION:De Ceuvel - Korte Papaverweg 2\, 1032 KB Amsterdam
STATUS:CONFIRMED
CATEGORIES:music,documentary,plants,talk,theater,buiksloterham,amsterdam-no
	ord,alternative
END:VEVENT
BEGIN:VEVENT
UID:20099@offbeat.amsterdam
SUMMARY:Purifying Park Afternoon! Want to lend us a hand?
DTSTAMP:20260420T050232Z
DTSTART:20261007T113000Z
DTEND:20261007T143000Z
URL:https://offbeat.amsterdam/event/purifying-park-afternoon-want-to-lend-u
	s-a-hand-15
GEO:52.3930912;4.9096685
LOCATION:De Ceuvel - Korte Papaverweg 2\, 1032 KB Amsterdam
STATUS:CONFIRMED
CATEGORIES:buiksloterham,amsterdam-noord,phytoremediation,plants
END:VEVENT
BEGIN:VEVENT
UID:20097@offbeat.amsterdam
SUMMARY:Purifying Park Afternoon! Want to lend us a hand?
DTSTAMP:20260420T050232Z
DTSTART:20261104T123000Z
DTEND:20261104T153000Z
URL:https://offbeat.amsterdam/event/purifying-park-afternoon-want-to-lend-u
	s-a-hand-13
GEO:52.3930912;4.9096685
LOCATION:De Ceuvel - Korte Papaverweg 2\, 1032 KB Amsterdam
STATUS:CONFIRMED
CATEGORIES:buiksloterham,phytoremediation,plants,amsterdam-noord
END:VEVENT
BEGIN:VEVENT
UID:19874@offbeat.amsterdam
SUMMARY:Workshop: Learn how to use your citizen’s right to speak in defense
	 of the rights of the Bee
DTSTAMP:20260420T050232Z
DTSTART:20261106T113000Z
DTEND:20261106T150000Z
URL:https://offbeat.amsterdam/event/workshop-learn-how-to-use-your-citizens
	-right-to-speak-in-defense-of-the-rights-of-the-bee-2
GEO:52.3930912;4.9096685
LOCATION:De Ceuvel - Korte Papaverweg 2\, 1032 KB Amsterdam
STATUS:CONFIRMED
CATEGORIES:amsterdam-noord,buiksloterham,workshop
END:VEVENT
END:VCALENDAR
