BEGIN:VCALENDAR
VERSION:2.0
CALSCALE:GREGORIAN
PRODID:adamgibbons/ics
METHOD:PUBLISH
X-PUBLISHED-TTL:PT1H
BEGIN:VEVENT
UID:15012@offbeat.amsterdam
SUMMARY:Samizdat: Stories from the Underground
DTSTAMP:20260420T094004Z
DTSTART:20260421T180000Z
DTEND:20260421T203000Z
URL:https://offbeat.amsterdam/event/samizdat-stories-from-the-underground-1
	1
GEO:52.3759775;4.9275458
LOCATION:Mezrab - Veemkade 576\, 1019 BL Amsterdam
STATUS:CONFIRMED
CATEGORIES:eastern docklands,amsterdam-oost,stories
END:VEVENT
BEGIN:VEVENT
UID:15211@offbeat.amsterdam
SUMMARY:Open Stage Storytelling Night
DTSTAMP:20260420T094004Z
DTSTART:20260422T180000Z
DTEND:20260422T203000Z
URL:https://offbeat.amsterdam/event/open-stage-storytelling-night-58
GEO:52.3759775;4.9275458
LOCATION:Mezrab - Veemkade 576\, 1019 BL Amsterdam
STATUS:CONFIRMED
CATEGORIES:eastern docklands,amsterdam-oost,stories
END:VEVENT
BEGIN:VEVENT
UID:19089@offbeat.amsterdam
SUMMARY:Gay & Unplugged ♫ Samuel Andryk and Stemin
DTSTAMP:20260420T094004Z
DTSTART:20260423T183000Z
DTEND:20260423T210000Z
URL:https://offbeat.amsterdam/event/gay-and-unplugged-beamed-eighth-notes-s
	amuel-andryk-and-stemin
GEO:52.3759775;4.9275458
LOCATION:Mezrab - Veemkade 576\, 1019 BL Amsterdam
STATUS:CONFIRMED
CATEGORIES:live,music,storytelling,queer,amsterdam-oost,eastern docklands
END:VEVENT
BEGIN:VEVENT
UID:15251@offbeat.amsterdam
SUMMARY:Mezrab Friday Night Storytelling
DTSTAMP:20260420T094004Z
DTSTART:20260424T180000Z
DTEND:20260424T210000Z
URL:https://offbeat.amsterdam/event/mezrab-friday-night-storytelling-60
GEO:52.3759775;4.9275458
LOCATION:Mezrab - Veemkade 576\, 1019 BL Amsterdam
STATUS:CONFIRMED
CATEGORIES:storytelling,stories,music,eastern docklands,amsterdam-oost
END:VEVENT
BEGIN:VEVENT
UID:19845@offbeat.amsterdam
SUMMARY:Disco Diaspora ★ Cabo Verde ★ MF Andrade ♫
DTSTAMP:20260420T094004Z
DTSTART:20260425T193000Z
DTEND:20260426T000000Z
URL:https://offbeat.amsterdam/event/disco-diaspora-star-cabo-verde-star-mf-
	andrade-beamed-eighth-notes
GEO:52.3759775;4.9275458
LOCATION:Mezrab - Veemkade 576\, 1019 BL Amsterdam
STATUS:CONFIRMED
CATEGORIES:music,amsterdam-oost,vinyl,storytelling,community,dance,eastern 
	docklands,stories
END:VEVENT
BEGIN:VEVENT
UID:16376@offbeat.amsterdam
SUMMARY:Orchestre Partout Jam
DTSTAMP:20260420T094004Z
DTSTART:20260426T180000Z
DTEND:20260426T210000Z
URL:https://offbeat.amsterdam/event/orchestre-partout-jam-2
GEO:52.3759775;4.9275458
LOCATION:Mezrab - Veemkade 576\, 1019 BL Amsterdam
STATUS:CONFIRMED
CATEGORIES:orchestra,amsterdam-oost,eastern docklands,improv
END:VEVENT
BEGIN:VEVENT
UID:16329@offbeat.amsterdam
SUMMARY:Mezrab Comedy Open Mic
DTSTAMP:20260420T094004Z
DTSTART:20260427T180000Z
DTEND:20260427T203000Z
URL:https://offbeat.amsterdam/event/mezrab-comedy-open-mic-11
GEO:52.3759775;4.9275458
LOCATION:Mezrab - Veemkade 576\, 1019 BL Amsterdam
STATUS:CONFIRMED
CATEGORIES:eastern docklands,amsterdam-oost,open mic,comedy
END:VEVENT
BEGIN:VEVENT
UID:15273@offbeat.amsterdam
SUMMARY:Pearls on a String
DTSTAMP:20260420T094004Z
DTSTART:20260428T180000Z
DTEND:20260428T203000Z
URL:https://offbeat.amsterdam/event/pearls-on-a-string-11
GEO:52.3759775;4.9275458
LOCATION:Mezrab - Veemkade 576\, 1019 BL Amsterdam
STATUS:CONFIRMED
CATEGORIES:improv,storytelling,stories,music,eastern docklands,amsterdam-oo
	st
END:VEVENT
BEGIN:VEVENT
UID:15279@offbeat.amsterdam
SUMMARY:Open Stage Storytelling Night
DTSTAMP:20260420T094004Z
DTSTART:20260429T180000Z
DTEND:20260429T203000Z
URL:https://offbeat.amsterdam/event/open-stage-storytelling-night-59
GEO:52.3759775;4.9275458
LOCATION:Mezrab - Veemkade 576\, 1019 BL Amsterdam
STATUS:CONFIRMED
CATEGORIES:stories,amsterdam-oost,eastern docklands
END:VEVENT
BEGIN:VEVENT
UID:15297@offbeat.amsterdam
SUMMARY:Mezrab Friday Night Storytelling
DTSTAMP:20260420T094004Z
DTSTART:20260501T180000Z
DTEND:20260501T210000Z
URL:https://offbeat.amsterdam/event/mezrab-friday-night-storytelling-61
GEO:52.3759775;4.9275458
LOCATION:Mezrab - Veemkade 576\, 1019 BL Amsterdam
STATUS:CONFIRMED
CATEGORIES:storytelling,music,stories,eastern docklands,amsterdam-oost
END:VEVENT
BEGIN:VEVENT
UID:15399@offbeat.amsterdam
SUMMARY:The Original Mezrab Comedy Night
DTSTAMP:20260420T094004Z
DTSTART:20260502T180000Z
DTEND:20260502T203000Z
URL:https://offbeat.amsterdam/event/the-original-mezrab-comedy-night-12
GEO:52.3759775;4.9275458
LOCATION:Mezrab - Veemkade 576\, 1019 BL Amsterdam
STATUS:CONFIRMED
CATEGORIES:comedy,talk,performance,eastern docklands,community,amsterdam-oo
	st
END:VEVENT
BEGIN:VEVENT
UID:15437@offbeat.amsterdam
SUMMARY:Mythos. Ancient tales from all around the world.
DTSTAMP:20260420T094004Z
DTSTART:20260505T180000Z
DTEND:20260505T203000Z
URL:https://offbeat.amsterdam/event/mythos-ancient-tales-from-all-around-th
	e-world-12
GEO:52.3759775;4.9275458
LOCATION:Mezrab - Veemkade 576\, 1019 BL Amsterdam
STATUS:CONFIRMED
CATEGORIES:stories,amsterdam-oost,storytelling,eastern docklands
END:VEVENT
BEGIN:VEVENT
UID:15438@offbeat.amsterdam
SUMMARY:Open Stage Storytelling Night
DTSTAMP:20260420T094004Z
DTSTART:20260506T180000Z
DTEND:20260506T203000Z
URL:https://offbeat.amsterdam/event/open-stage-storytelling-night-60
GEO:52.3759775;4.9275458
LOCATION:Mezrab - Veemkade 576\, 1019 BL Amsterdam
STATUS:CONFIRMED
CATEGORIES:eastern docklands,amsterdam-oost,stories
END:VEVENT
BEGIN:VEVENT
UID:20802@offbeat.amsterdam
SUMMARY:Voices of Resilience: The Architecture of Anxiety – Biology\, Story
	\, and the Path to Resilience
DTSTAMP:20260420T094004Z
DTSTART:20260507T180000Z
DTEND:20260507T203000Z
URL:https://offbeat.amsterdam/event/voices-of-resilience-the-architecture-o
	f-anxiety-biology-story-and-the-path-to-resilience
GEO:52.3759775;4.9275458
LOCATION:Mezrab - Veemkade 576\, 1019 BL Amsterdam
STATUS:CONFIRMED
CATEGORIES:comedy,eastern docklands,music,q&a,stories,storytelling,amsterda
	m-oost
END:VEVENT
BEGIN:VEVENT
UID:15934@offbeat.amsterdam
SUMMARY:Spotlight Story lab
DTSTAMP:20260420T094004Z
DTSTART:20260508T180000Z
DTEND:20260508T200000Z
URL:https://offbeat.amsterdam/event/spotlight-story-lab-6
GEO:52.3759775;4.9275458
LOCATION:Mezrab - Veemkade 576\, 1019 BL Amsterdam
STATUS:CONFIRMED
CATEGORIES:stories,amsterdam-oost,eastern docklands,storytelling
END:VEVENT
BEGIN:VEVENT
UID:15455@offbeat.amsterdam
SUMMARY:Mezrab Friday Night Storytelling
DTSTAMP:20260420T094004Z
DTSTART:20260508T180000Z
DTEND:20260508T210000Z
URL:https://offbeat.amsterdam/event/mezrab-friday-night-storytelling-62
GEO:52.3759775;4.9275458
LOCATION:Mezrab - Veemkade 576\, 1019 BL Amsterdam
STATUS:CONFIRMED
CATEGORIES:storytelling,stories,music,eastern docklands,amsterdam-oost
END:VEVENT
BEGIN:VEVENT
UID:19996@offbeat.amsterdam
SUMMARY:Beats Kebab ★ Babi & Katayoun ♫ Global Dance Night
DTSTAMP:20260420T094004Z
DTSTART:20260509T193000Z
DTEND:20260510T000000Z
URL:https://offbeat.amsterdam/event/beats-kebab-star-babi-and-katayoun-beam
	ed-eighth-notes-global-dance-night
GEO:52.3759775;4.9275458
LOCATION:Mezrab - Veemkade 576\, 1019 BL Amsterdam
STATUS:CONFIRMED
CATEGORIES:music,party,amsterdam-oost,dance,dj,eastern docklands,funk
END:VEVENT
BEGIN:VEVENT
UID:15456@offbeat.amsterdam
SUMMARY:The MezJam
DTSTAMP:20260420T094004Z
DTSTART:20260510T180000Z
DTEND:20260510T203000Z
URL:https://offbeat.amsterdam/event/the-mezjam-14
GEO:52.3759775;4.9275458
LOCATION:Mezrab - Veemkade 576\, 1019 BL Amsterdam
STATUS:CONFIRMED
CATEGORIES:amsterdam-oost,eastern docklands,music,piano
END:VEVENT
BEGIN:VEVENT
UID:16726@offbeat.amsterdam
SUMMARY:LGBT+ storytelling night
DTSTAMP:20260420T094004Z
DTSTART:20260512T180000Z
DTEND:20260512T203000Z
URL:https://offbeat.amsterdam/event/off-the-page-7
GEO:52.3759775;4.9275458
LOCATION:Mezrab - Veemkade 576\, 1019 BL Amsterdam
STATUS:CONFIRMED
CATEGORIES:stories,community,eastern docklands,music,queer,amsterdam-oost
END:VEVENT
BEGIN:VEVENT
UID:16790@offbeat.amsterdam
SUMMARY:Open Stage Storytelling Night
DTSTAMP:20260420T094004Z
DTSTART:20260513T180000Z
DTEND:20260513T203000Z
URL:https://offbeat.amsterdam/event/open-stage-storytelling-night-61
GEO:52.3759775;4.9275458
LOCATION:Mezrab - Veemkade 576\, 1019 BL Amsterdam
STATUS:CONFIRMED
CATEGORIES:amsterdam-oost,eastern docklands,stories
END:VEVENT
BEGIN:VEVENT
UID:19846@offbeat.amsterdam
SUMMARY:Şenkop ★ Anatolian Folk Jazz Trio ★ Magic Carpet Sessions ♫
DTSTAMP:20260420T094004Z
DTSTART:20260514T183000Z
DTEND:20260514T210000Z
URL:https://offbeat.amsterdam/event/senkop-star-anatolian-folk-jazz-trio-st
	ar-magic-carpet-sessions-beamed-eighth-notes
GEO:52.3759775;4.9275458
LOCATION:Mezrab - Veemkade 576\, 1019 BL Amsterdam
STATUS:CONFIRMED
CATEGORIES:performance,amsterdam-oost,concert,eastern docklands,jazz,music
END:VEVENT
BEGIN:VEVENT
UID:16822@offbeat.amsterdam
SUMMARY:Mezrab Friday Night Storytelling
DTSTAMP:20260420T094004Z
DTSTART:20260515T180000Z
DTEND:20260515T210000Z
URL:https://offbeat.amsterdam/event/mezrab-friday-night-storytelling-63
GEO:52.3759775;4.9275458
LOCATION:Mezrab - Veemkade 576\, 1019 BL Amsterdam
STATUS:CONFIRMED
CATEGORIES:stories,eastern docklands,amsterdam-oost,music,storytelling
END:VEVENT
BEGIN:VEVENT
UID:18554@offbeat.amsterdam
SUMMARY:The ALT Mezrab Comedy Night
DTSTAMP:20260420T094004Z
DTSTART:20260516T180000Z
DTEND:20260516T203000Z
URL:https://offbeat.amsterdam/event/the-alt-mezrab-comedy-night-12
GEO:52.3759775;4.9275458
LOCATION:Mezrab - Veemkade 576\, 1019 BL Amsterdam
STATUS:CONFIRMED
CATEGORIES:film,amsterdam-oost,comedy,eastern docklands,improv
END:VEVENT
BEGIN:VEVENT
UID:20463@offbeat.amsterdam
SUMMARY:Balfolk Social in de Mezrab met Duo Cavez-Montenaro en Duo Baftig
DTSTAMP:20260420T094004Z
DTSTART:20260517T141500Z
URL:https://offbeat.amsterdam/event/balfolk-social-in-de-mezrab-met-duo-cav
	ez-montenaro-en-duo-baftig
GEO:52.3759775;4.9275458
LOCATION:Mezrab - Veemkade 576\, 1019 BL Amsterdam
STATUS:CONFIRMED
CATEGORIES:music,amsterdam-oost,dance,eastern docklands,live,workshop
END:VEVENT
BEGIN:VEVENT
UID:20366@offbeat.amsterdam
SUMMARY:Persian language storytelling night
DTSTAMP:20260420T094004Z
DTSTART:20260518T173000Z
DTEND:20260518T203000Z
URL:https://offbeat.amsterdam/event/persian-language-storytelling-night-5
GEO:52.3759775;4.9275458
LOCATION:Mezrab - Veemkade 576\, 1019 BL Amsterdam
STATUS:CONFIRMED
CATEGORIES:eastern docklands,amsterdam-oost,storytelling,stories
END:VEVENT
BEGIN:VEVENT
UID:16837@offbeat.amsterdam
SUMMARY:Samizdat: Stories from the Underground
DTSTAMP:20260420T094004Z
DTSTART:20260519T180000Z
DTEND:20260519T203000Z
URL:https://offbeat.amsterdam/event/samizdat-stories-from-the-underground-1
	2
GEO:52.3759775;4.9275458
LOCATION:Mezrab - Veemkade 576\, 1019 BL Amsterdam
STATUS:CONFIRMED
CATEGORIES:amsterdam-oost,stories,eastern docklands
END:VEVENT
BEGIN:VEVENT
UID:16860@offbeat.amsterdam
SUMMARY:Open Stage Storytelling Night
DTSTAMP:20260420T094004Z
DTSTART:20260520T180000Z
DTEND:20260520T203000Z
URL:https://offbeat.amsterdam/event/open-stage-storytelling-night-62
GEO:52.3759775;4.9275458
LOCATION:Mezrab - Veemkade 576\, 1019 BL Amsterdam
STATUS:CONFIRMED
CATEGORIES:eastern docklands,amsterdam-oost,stories
END:VEVENT
BEGIN:VEVENT
UID:18319@offbeat.amsterdam
SUMMARY:Gidiki live ★ Greek Folk ★ Salón Sonoro ♫
DTSTAMP:20260420T094004Z
DTSTART:20260521T190000Z
URL:https://offbeat.amsterdam/event/gidiki-live-star-greek-folk-star-salon-
	sonoro-beamed-eighth-notes
GEO:52.3759775;4.9275458
LOCATION:Mezrab - Veemkade 576\, 1019 BL Amsterdam
STATUS:CONFIRMED
CATEGORIES:live,performance,music,improv,festivals,eastern docklands,amster
	dam-oost
END:VEVENT
BEGIN:VEVENT
UID:16886@offbeat.amsterdam
SUMMARY:Mezrab Friday Night Storytelling
DTSTAMP:20260420T094004Z
DTSTART:20260522T180000Z
DTEND:20260522T210000Z
URL:https://offbeat.amsterdam/event/mezrab-friday-night-storytelling-64
GEO:52.3759775;4.9275458
LOCATION:Mezrab - Veemkade 576\, 1019 BL Amsterdam
STATUS:CONFIRMED
CATEGORIES:stories,storytelling,amsterdam-oost,eastern docklands,music
END:VEVENT
BEGIN:VEVENT
UID:16944@offbeat.amsterdam
SUMMARY:Mezrab Comedy Open Mic
DTSTAMP:20260420T094004Z
DTSTART:20260525T180000Z
DTEND:20260525T203000Z
URL:https://offbeat.amsterdam/event/mezrab-comedy-open-mic-12
GEO:52.3759775;4.9275458
LOCATION:Mezrab - Veemkade 576\, 1019 BL Amsterdam
STATUS:CONFIRMED
CATEGORIES:comedy,open mic,amsterdam-oost,eastern docklands
END:VEVENT
BEGIN:VEVENT
UID:17001@offbeat.amsterdam
SUMMARY:Pearls on a String
DTSTAMP:20260420T094004Z
DTSTART:20260526T180000Z
DTEND:20260526T203000Z
URL:https://offbeat.amsterdam/event/pearls-on-a-string-12
GEO:52.3759775;4.9275458
LOCATION:Mezrab - Veemkade 576\, 1019 BL Amsterdam
STATUS:CONFIRMED
CATEGORIES:stories,music,improv,amsterdam-oost,eastern docklands,storytelli
	ng
END:VEVENT
BEGIN:VEVENT
UID:17071@offbeat.amsterdam
SUMMARY:Open Stage Storytelling Night
DTSTAMP:20260420T094004Z
DTSTART:20260527T180000Z
DTEND:20260527T203000Z
URL:https://offbeat.amsterdam/event/open-stage-storytelling-night-63
GEO:52.3759775;4.9275458
LOCATION:Mezrab - Veemkade 576\, 1019 BL Amsterdam
STATUS:CONFIRMED
CATEGORIES:eastern docklands,stories,amsterdam-oost
END:VEVENT
BEGIN:VEVENT
UID:17110@offbeat.amsterdam
SUMMARY:Mezrab Friday Night Storytelling
DTSTAMP:20260420T094004Z
DTSTART:20260529T180000Z
DTEND:20260529T210000Z
URL:https://offbeat.amsterdam/event/mezrab-friday-night-storytelling-65
GEO:52.3759775;4.9275458
LOCATION:Mezrab - Veemkade 576\, 1019 BL Amsterdam
STATUS:CONFIRMED
CATEGORIES:storytelling,stories,music,eastern docklands,amsterdam-oost
END:VEVENT
BEGIN:VEVENT
UID:17168@offbeat.amsterdam
SUMMARY:Mythos. Ancient tales from all around the world.
DTSTAMP:20260420T094004Z
DTSTART:20260602T180000Z
DTEND:20260602T203000Z
URL:https://offbeat.amsterdam/event/mythos-ancient-tales-from-all-around-th
	e-world-13
GEO:52.3759775;4.9275458
LOCATION:Mezrab - Veemkade 576\, 1019 BL Amsterdam
STATUS:CONFIRMED
CATEGORIES:storytelling,eastern docklands,stories,amsterdam-oost
END:VEVENT
BEGIN:VEVENT
UID:17180@offbeat.amsterdam
SUMMARY:Open Stage Storytelling Night
DTSTAMP:20260420T094004Z
DTSTART:20260603T180000Z
DTEND:20260603T203000Z
URL:https://offbeat.amsterdam/event/open-stage-storytelling-night-64
GEO:52.3759775;4.9275458
LOCATION:Mezrab - Veemkade 576\, 1019 BL Amsterdam
STATUS:CONFIRMED
CATEGORIES:amsterdam-oost,stories,eastern docklands
END:VEVENT
BEGIN:VEVENT
UID:20185@offbeat.amsterdam
SUMMARY:Zeid Hamdan live ★ The Godfather of Lebanese Underground Music ♫
DTSTAMP:20260420T094004Z
DTSTART:20260604T190000Z
DTEND:20260604T210000Z
URL:https://offbeat.amsterdam/event/zeid-hamdan-live-star-the-godfather-of-
	lebanese-underground-music-beamed-eighth-notes
GEO:52.3759775;4.9275458
LOCATION:Mezrab - Veemkade 576\, 1019 BL Amsterdam
STATUS:CONFIRMED
CATEGORIES:live,jazz,electronics,eastern docklands,concert,amsterdam-oost,a
	lternative,music
END:VEVENT
BEGIN:VEVENT
UID:17219@offbeat.amsterdam
SUMMARY:Mezrab Friday Night Storytelling
DTSTAMP:20260420T094004Z
DTSTART:20260605T180000Z
DTEND:20260605T210000Z
URL:https://offbeat.amsterdam/event/mezrab-friday-night-storytelling-66
GEO:52.3759775;4.9275458
LOCATION:Mezrab - Veemkade 576\, 1019 BL Amsterdam
STATUS:CONFIRMED
CATEGORIES:storytelling,amsterdam-oost,eastern docklands,music,stories
END:VEVENT
BEGIN:VEVENT
UID:17267@offbeat.amsterdam
SUMMARY:The Original Mezrab Comedy Night
DTSTAMP:20260420T094004Z
DTSTART:20260606T180000Z
DTEND:20260606T203000Z
URL:https://offbeat.amsterdam/event/the-original-mezrab-comedy-night-13
GEO:52.3759775;4.9275458
LOCATION:Mezrab - Veemkade 576\, 1019 BL Amsterdam
STATUS:CONFIRMED
CATEGORIES:amsterdam-oost,talk,performance,eastern docklands,community,come
	dy
END:VEVENT
BEGIN:VEVENT
UID:20367@offbeat.amsterdam
SUMMARY:Persian language storytelling night
DTSTAMP:20260420T094004Z
DTSTART:20260608T173000Z
DTEND:20260608T203000Z
URL:https://offbeat.amsterdam/event/persian-language-storytelling-night-6
GEO:52.3759775;4.9275458
LOCATION:Mezrab - Veemkade 576\, 1019 BL Amsterdam
STATUS:CONFIRMED
CATEGORIES:amsterdam-oost,eastern docklands,stories,storytelling
END:VEVENT
BEGIN:VEVENT
UID:17335@offbeat.amsterdam
SUMMARY:Off the Page
DTSTAMP:20260420T094004Z
DTSTART:20260609T180000Z
DTEND:20260609T203000Z
URL:https://offbeat.amsterdam/event/off-the-page-8
GEO:52.3759775;4.9275458
LOCATION:Mezrab - Veemkade 576\, 1019 BL Amsterdam
STATUS:CONFIRMED
CATEGORIES:amsterdam-oost,eastern docklands,books,stories
END:VEVENT
BEGIN:VEVENT
UID:17369@offbeat.amsterdam
SUMMARY:Open Stage Storytelling Night
DTSTAMP:20260420T094004Z
DTSTART:20260610T180000Z
DTEND:20260610T203000Z
URL:https://offbeat.amsterdam/event/open-stage-storytelling-night-65
GEO:52.3759775;4.9275458
LOCATION:Mezrab - Veemkade 576\, 1019 BL Amsterdam
STATUS:CONFIRMED
CATEGORIES:eastern docklands,stories,amsterdam-oost
END:VEVENT
BEGIN:VEVENT
UID:20956@offbeat.amsterdam
SUMMARY:Club Amsterdam Klezmer ★ Diaspora Release Party ♫
DTSTAMP:20260420T094004Z
DTSTART:20260611T180000Z
DTEND:20260611T230000Z
URL:https://offbeat.amsterdam/event/club-amsterdam-klezmer-star-diaspora-re
	lease-party-beamed-eighth-notes
GEO:52.3759775;4.9275458
LOCATION:Mezrab - Veemkade 576\, 1019 BL Amsterdam
STATUS:CONFIRMED
CATEGORIES:party,amsterdam-oost,concert,dance,dj,eastern docklands,live,mus
	ic,punk,ska
END:VEVENT
BEGIN:VEVENT
UID:17452@offbeat.amsterdam
SUMMARY:Mezrab Friday Night Storytelling
DTSTAMP:20260420T094004Z
DTSTART:20260612T180000Z
DTEND:20260612T210000Z
URL:https://offbeat.amsterdam/event/mezrab-friday-night-storytelling-67
GEO:52.3759775;4.9275458
LOCATION:Mezrab - Veemkade 576\, 1019 BL Amsterdam
STATUS:CONFIRMED
CATEGORIES:music,stories,storytelling,amsterdam-oost,eastern docklands
END:VEVENT
BEGIN:VEVENT
UID:17674@offbeat.amsterdam
SUMMARY:The MezJam
DTSTAMP:20260420T094004Z
DTSTART:20260614T180000Z
DTEND:20260614T203000Z
URL:https://offbeat.amsterdam/event/the-mezjam-15
GEO:52.3759775;4.9275458
LOCATION:Mezrab - Veemkade 576\, 1019 BL Amsterdam
STATUS:CONFIRMED
CATEGORIES:amsterdam-oost,eastern docklands,music,piano
END:VEVENT
BEGIN:VEVENT
UID:17833@offbeat.amsterdam
SUMMARY:Samizdat: Stories from the Underground
DTSTAMP:20260420T094004Z
DTSTART:20260616T180000Z
DTEND:20260616T203000Z
URL:https://offbeat.amsterdam/event/samizdat-stories-from-the-underground-1
	3
GEO:52.3759775;4.9275458
LOCATION:Mezrab - Veemkade 576\, 1019 BL Amsterdam
STATUS:CONFIRMED
CATEGORIES:amsterdam-oost,stories,eastern docklands
END:VEVENT
BEGIN:VEVENT
UID:17877@offbeat.amsterdam
SUMMARY:Open Stage Storytelling Night
DTSTAMP:20260420T094004Z
DTSTART:20260617T180000Z
DTEND:20260617T203000Z
URL:https://offbeat.amsterdam/event/open-stage-storytelling-night-66
GEO:52.3759775;4.9275458
LOCATION:Mezrab - Veemkade 576\, 1019 BL Amsterdam
STATUS:CONFIRMED
CATEGORIES:eastern docklands,amsterdam-oost,stories
END:VEVENT
BEGIN:VEVENT
UID:19030@offbeat.amsterdam
SUMMARY:Nano Stern ★ Chilean Singer-Songwriter ♫
DTSTAMP:20260420T094004Z
DTSTART:20260618T183000Z
DTEND:20260618T210000Z
URL:https://offbeat.amsterdam/event/nano-stern-star-chilean-singer-songwrit
	er-beamed-eighth-notes
GEO:52.3759775;4.9275458
LOCATION:Mezrab - Veemkade 576\, 1019 BL Amsterdam
STATUS:CONFIRMED
CATEGORIES:music,rock,experimental,eastern docklands,documentary,concert,am
	sterdam-oost,activism,festivals,film,jazz,performance
END:VEVENT
BEGIN:VEVENT
UID:17885@offbeat.amsterdam
SUMMARY:Mezrab Friday Night Storytelling
DTSTAMP:20260420T094004Z
DTSTART:20260619T180000Z
DTEND:20260619T210000Z
URL:https://offbeat.amsterdam/event/mezrab-friday-night-storytelling-68
GEO:52.3759775;4.9275458
LOCATION:Mezrab - Veemkade 576\, 1019 BL Amsterdam
STATUS:CONFIRMED
CATEGORIES:stories,amsterdam-oost,eastern docklands,music,storytelling
END:VEVENT
BEGIN:VEVENT
UID:18555@offbeat.amsterdam
SUMMARY:The ALT Mezrab Comedy Night
DTSTAMP:20260420T094004Z
DTSTART:20260620T180000Z
DTEND:20260620T203000Z
URL:https://offbeat.amsterdam/event/the-alt-mezrab-comedy-night-13
GEO:52.3759775;4.9275458
LOCATION:Mezrab - Veemkade 576\, 1019 BL Amsterdam
STATUS:CONFIRMED
CATEGORIES:amsterdam-oost,comedy,eastern docklands,film,improv
END:VEVENT
BEGIN:VEVENT
UID:17930@offbeat.amsterdam
SUMMARY:Mezrab Comedy Open Mic
DTSTAMP:20260420T094004Z
DTSTART:20260622T180000Z
DTEND:20260622T203000Z
URL:https://offbeat.amsterdam/event/mezrab-comedy-open-mic-13
GEO:52.3759775;4.9275458
LOCATION:Mezrab - Veemkade 576\, 1019 BL Amsterdam
STATUS:CONFIRMED
CATEGORIES:comedy,eastern docklands,open mic,amsterdam-oost
END:VEVENT
BEGIN:VEVENT
UID:18053@offbeat.amsterdam
SUMMARY:Pearls on a String
DTSTAMP:20260420T094004Z
DTSTART:20260623T180000Z
DTEND:20260623T203000Z
URL:https://offbeat.amsterdam/event/pearls-on-a-string-13
GEO:52.3759775;4.9275458
LOCATION:Mezrab - Veemkade 576\, 1019 BL Amsterdam
STATUS:CONFIRMED
CATEGORIES:improv,music,stories,eastern docklands,amsterdam-oost,storytelli
	ng
END:VEVENT
BEGIN:VEVENT
UID:18094@offbeat.amsterdam
SUMMARY:Open Stage Storytelling Night
DTSTAMP:20260420T094004Z
DTSTART:20260624T180000Z
DTEND:20260624T203000Z
URL:https://offbeat.amsterdam/event/open-stage-storytelling-night-67
GEO:52.3759775;4.9275458
LOCATION:Mezrab - Veemkade 576\, 1019 BL Amsterdam
STATUS:CONFIRMED
CATEGORIES:amsterdam-oost,stories,eastern docklands
END:VEVENT
BEGIN:VEVENT
UID:18126@offbeat.amsterdam
SUMMARY:Mezrab Friday Night Storytelling
DTSTAMP:20260420T094004Z
DTSTART:20260626T180000Z
DTEND:20260626T210000Z
URL:https://offbeat.amsterdam/event/mezrab-friday-night-storytelling-69
GEO:52.3759775;4.9275458
LOCATION:Mezrab - Veemkade 576\, 1019 BL Amsterdam
STATUS:CONFIRMED
CATEGORIES:music,amsterdam-oost,stories,storytelling,eastern docklands
END:VEVENT
BEGIN:VEVENT
UID:20132@offbeat.amsterdam
SUMMARY:Bohemian Balkan Night ★ Nadara Gyspsy Wedding Band ♫
DTSTAMP:20260420T094004Z
DTSTART:20260627T190000Z
DTEND:20260627T230000Z
URL:https://offbeat.amsterdam/event/bohemian-balkan-night-star-nadara-gysps
	y-wedding-band-beamed-eighth-notes
GEO:52.3759775;4.9275458
LOCATION:Mezrab - Veemkade 576\, 1019 BL Amsterdam
STATUS:CONFIRMED
CATEGORIES:jazz,soul,amsterdam-oost,concert,eastern docklands,film
END:VEVENT
BEGIN:VEVENT
UID:18199@offbeat.amsterdam
SUMMARY:Orchestre Partout Jam
DTSTAMP:20260420T094004Z
DTSTART:20260628T180000Z
DTEND:20260628T210000Z
URL:https://offbeat.amsterdam/event/orchestre-partout-jam-1
GEO:52.3759775;4.9275458
LOCATION:Mezrab - Veemkade 576\, 1019 BL Amsterdam
STATUS:CONFIRMED
CATEGORIES:orchestra,improv,eastern docklands,amsterdam-oost
END:VEVENT
BEGIN:VEVENT
UID:18218@offbeat.amsterdam
SUMMARY:Welcome to the Playground
DTSTAMP:20260420T094004Z
DTSTART:20260630T180000Z
DTEND:20260630T203000Z
URL:https://offbeat.amsterdam/event/welcome-to-the-playground-4
GEO:52.3759775;4.9275458
LOCATION:Mezrab - Veemkade 576\, 1019 BL Amsterdam
STATUS:CONFIRMED
CATEGORIES:amsterdam-oost,stories,music,eastern docklands,comedy
END:VEVENT
BEGIN:VEVENT
UID:19995@offbeat.amsterdam
SUMMARY:Afro Anatolian Tales ft Burak Savaş ★ Tarab Dance ★ Magic Carpet Se
	ssions ♫
DTSTAMP:20260420T094004Z
DTSTART:20260702T183000Z
DTEND:20260702T210000Z
URL:https://offbeat.amsterdam/event/afro-anatolian-tales-ft-burak-savas-sta
	r-tarab-dance-star-magic-carpet-sessions-beamed-eighth-notes
GEO:52.3759775;4.9275458
LOCATION:Mezrab - Veemkade 576\, 1019 BL Amsterdam
STATUS:CONFIRMED
CATEGORIES:afro,eastern docklands,dance,concert,amsterdam-oost,music,jazz,i
	mprov,electronics
END:VEVENT
BEGIN:VEVENT
UID:18363@offbeat.amsterdam
SUMMARY:Orchestre Partout Jam
DTSTAMP:20260420T094004Z
DTSTART:20260927T180000Z
DTEND:20260927T210000Z
URL:https://offbeat.amsterdam/event/orchestre-partout-jam-3
GEO:52.3759775;4.9275458
LOCATION:Mezrab - Veemkade 576\, 1019 BL Amsterdam
STATUS:CONFIRMED
CATEGORIES:improv,orchestra,amsterdam-oost,eastern docklands
END:VEVENT
BEGIN:VEVENT
UID:18470@offbeat.amsterdam
SUMMARY:Orchestre Partout Jam
DTSTAMP:20260420T094004Z
DTSTART:20261122T190000Z
DTEND:20261122T220000Z
URL:https://offbeat.amsterdam/event/orchestre-partout-jam-4
GEO:52.3759775;4.9275458
LOCATION:Mezrab - Veemkade 576\, 1019 BL Amsterdam
STATUS:CONFIRMED
CATEGORIES:eastern docklands,orchestra,amsterdam-oost,improv
END:VEVENT
END:VCALENDAR
