BEGIN:VCALENDAR
VERSION:2.0
CALSCALE:GREGORIAN
PRODID:adamgibbons/ics
METHOD:PUBLISH
X-PUBLISHED-TTL:PT1H
BEGIN:VEVENT
UID:19222@offbeat.amsterdam
SUMMARY:Einhundert 10 YEARS
DTSTAMP:20260420T005228Z
DTSTART:20260424T213000Z
DTEND:20260425T050000Z
URL:https://offbeat.amsterdam/event/einhundert-10-years
GEO:52.385573;4.9257197
LOCATION:Garage Noord - Gedempt Hamerkanaal 40\, 1021 KM\, Amsterdam
STATUS:CONFIRMED
CATEGORIES:amsterdam-noord,community,hamerkwartier
END:VEVENT
BEGIN:VEVENT
UID:19993@offbeat.amsterdam
SUMMARY:MIRROR ZONE w/Spekki Webu\, V:SONNTA\, Jorine\, HyperLili\, Kareem 
	El Morr
DTSTAMP:20260420T005228Z
DTSTART:20260425T213000Z
DTEND:20260425T220000Z
URL:https://offbeat.amsterdam/event/mirror-zone-withspekki-webu-vsonnta-jor
	ine-hyperlili-kareem-el-morr
GEO:52.385573;4.9257197
LOCATION:Garage Noord - Gedempt Hamerkanaal 40\, 1021 KM\, Amsterdam
STATUS:CONFIRMED
CATEGORIES:amsterdam-noord,hamerkwartier,community
END:VEVENT
BEGIN:VEVENT
UID:19852@offbeat.amsterdam
SUMMARY:Pacific Ondergronds w/ Camy Huot (live)\, Vals Alarm (live)\, UITZE
	NDBUREAU (live)\, Brandmerk (live)\, John G.W. Love (live)\, Amz\, Rotatio
	nal\, Nightmare People From Hell\, KRUISPUNT DJ vs. DJ INBRANDER\, ODP & d
	j Unk
DTSTAMP:20260420T005228Z
DTSTART:20260426T213000Z
DTEND:20260427T050000Z
URL:https://offbeat.amsterdam/event/pacific-ondergronds
GEO:52.385573;4.9257197
LOCATION:Garage Noord - Gedempt Hamerkanaal 40\, 1021 KM\, Amsterdam
STATUS:CONFIRMED
CATEGORIES:hamerkwartier,community,live,dj,amsterdam-noord
END:VEVENT
BEGIN:VEVENT
UID:19225@offbeat.amsterdam
SUMMARY:noclubs w/ noleaks
DTSTAMP:20260420T005228Z
DTSTART:20260427T200000Z
DTEND:20260428T050000Z
URL:https://offbeat.amsterdam/event/no-clubs-with-no-leaks
GEO:52.385573;4.9257197
LOCATION:Garage Noord - Gedempt Hamerkanaal 40\, 1021 KM\, Amsterdam
STATUS:CONFIRMED
CATEGORIES:hamerkwartier,community,amsterdam-noord
END:VEVENT
BEGIN:VEVENT
UID:20800@offbeat.amsterdam
SUMMARY:nthng all night + bar40 hosted by  b:3tter irl  ★ sh4rput4 w/ baby 
	ganoush\, Candy Coup\, AMIR\, Faedro
DTSTAMP:20260420T005228Z
DTSTART:20260501T213000Z
DTEND:20260502T050000Z
URL:https://offbeat.amsterdam/event/nthng-all-night-bar40-hosted-by-b3tter-
	irl-star-sh4rput4-with-baby-ganoush-candy-coup-amir-faedro
GEO:52.385573;4.9257197
LOCATION:Garage Noord - Gedempt Hamerkanaal 40\, 1021 KM\, Amsterdam
STATUS:CONFIRMED
CATEGORIES:amsterdam-noord,hamerkwartier,community
END:VEVENT
BEGIN:VEVENT
UID:20793@offbeat.amsterdam
SUMMARY:Burst City w/ Arda (io)\, Marquis de Sade\, Volition Immanent + \, 
	Parrish Smith b2b Mila V\, Devil's Advocate\, Melanie Havens + bar40 hoste
	d by Spacebunker
DTSTAMP:20260420T005228Z
DTSTART:20260502T213000Z
DTEND:20260503T050000Z
URL:https://offbeat.amsterdam/event/burst-city-with-arda-io-marquis-de-sade
	-volition-immanent-parrish-smith-b2b-mila-v-devils-advocate-melanie-havens
	-bar40-hosted-by-spacebunker
GEO:52.385573;4.9257197
LOCATION:Garage Noord - Gedempt Hamerkanaal 40\, 1021 KM\, Amsterdam
STATUS:CONFIRMED
CATEGORIES:amsterdam-noord,hamerkwartier,community
END:VEVENT
BEGIN:VEVENT
UID:20799@offbeat.amsterdam
SUMMARY:The Bug\, Jo FLM\, Rrita Jashari + bar40 hosted by Toff Youth & Sie
	rra House w/ Riddimbox (live)\, Say Less\, Blasé Vanguard\, Charwinoa
DTSTAMP:20260420T005228Z
DTSTART:20260508T213000Z
DTEND:20260509T050000Z
URL:https://offbeat.amsterdam/event/the-bug-jo-flm-rrita-jashari-bar40-host
	ed-by-toff-youth-and-sierra-house-with-riddimbox-live-say-less-blase-vangu
	ard-charwinoa
GEO:52.385573;4.9257197
LOCATION:Garage Noord - Gedempt Hamerkanaal 40\, 1021 KM\, Amsterdam
STATUS:CONFIRMED
CATEGORIES:live,amsterdam-noord,community,hamerkwartier
END:VEVENT
BEGIN:VEVENT
UID:20797@offbeat.amsterdam
SUMMARY:Los Angles Hard Weekend
DTSTAMP:20260420T005228Z
DTSTART:20260509T213000Z
DTEND:20260510T230000Z
URL:https://offbeat.amsterdam/event/los-angles-hard-weekend
GEO:52.385573;4.9257197
LOCATION:Garage Noord - Gedempt Hamerkanaal 40\, 1021 KM\, Amsterdam
STATUS:CONFIRMED
CATEGORIES:hamerkwartier,amsterdam-noord,community,dj
END:VEVENT
BEGIN:VEVENT
UID:20794@offbeat.amsterdam
SUMMARY:Club Romantico w/ DNGDNGDNG\, Florentino\, Styn\, VALILA + bar40 ho
	sted by Asnam أصنام w/ Ha Kyoon (live performance) Carrageenan (live) Swam
	p Trax  TBA
DTSTAMP:20260420T005228Z
DTSTART:20260515T213000Z
DTEND:20260516T050000Z
URL:https://offbeat.amsterdam/event/club-romantico-with-dngdngdng-florentin
	o-styn-valila-bar40-hosted-by-asnam-w-ha-kyoon-live-performance-carrageena
	n-live-swamp-trax-tba
GEO:52.385573;4.9257197
LOCATION:Garage Noord - Gedempt Hamerkanaal 40\, 1021 KM\, Amsterdam
STATUS:CONFIRMED
CATEGORIES:performance,hamerkwartier,community,amsterdam-noord,live
END:VEVENT
BEGIN:VEVENT
UID:20798@offbeat.amsterdam
SUMMARY:Mantis w/ Forest Drive West\, DB1 (live)\, Lynne\, Mattikk
DTSTAMP:20260420T005228Z
DTSTART:20260516T213000Z
DTEND:20260517T050000Z
URL:https://offbeat.amsterdam/event/mantis-with-forest-drive-west-db1-live-
	lynne-mattikk
GEO:52.385573;4.9257197
LOCATION:Garage Noord - Gedempt Hamerkanaal 40\, 1021 KM\, Amsterdam
STATUS:CONFIRMED
CATEGORIES:live,amsterdam-noord,community,hamerkwartier
END:VEVENT
BEGIN:VEVENT
UID:20795@offbeat.amsterdam
SUMMARY:Lente Kabinet after w/ Han\, Elias Mazian\, Stella Zekri\, Amz\, DJ
	 SWISHA
DTSTAMP:20260420T005228Z
DTSTART:20260523T213000Z
DTEND:20260524T050000Z
URL:https://offbeat.amsterdam/event/lente-kabinet-after-with-han-elias-mazi
	an-stella-zekri-amz-dj-swisha
GEO:52.385573;4.9257197
LOCATION:Garage Noord - Gedempt Hamerkanaal 40\, 1021 KM\, Amsterdam
STATUS:CONFIRMED
CATEGORIES:dj,community,amsterdam-noord,hamerkwartier
END:VEVENT
BEGIN:VEVENT
UID:20796@offbeat.amsterdam
SUMMARY:Lente Kabinet after w/ Mia Cecile\, Call Super\, LazerGazer\, april
	222.\, DJ Moortje
DTSTAMP:20260420T005228Z
DTSTART:20260524T213000Z
DTEND:20260525T050000Z
URL:https://offbeat.amsterdam/event/lente-kabinet-after-with-mia-cecile-cal
	l-super-lazergazer-april222-dj-moortje
GEO:52.385573;4.9257197
LOCATION:Garage Noord - Gedempt Hamerkanaal 40\, 1021 KM\, Amsterdam
STATUS:CONFIRMED
CATEGORIES:dj,amsterdam-noord,community,hamerkwartier
END:VEVENT
BEGIN:VEVENT
UID:20265@offbeat.amsterdam
SUMMARY:FIBER Festival
DTSTAMP:20260420T005228Z
DTSTART:20260529T200000Z
URL:https://offbeat.amsterdam/event/fiber-festival
GEO:52.385573;4.9257197
LOCATION:Garage Noord - Gedempt Hamerkanaal 40\, 1021 KM\, Amsterdam
STATUS:CONFIRMED
CATEGORIES:amsterdam-noord,festivals,hamerkwartier,dj
END:VEVENT
END:VCALENDAR
