BEGIN:VCALENDAR
VERSION:2.0
CALSCALE:GREGORIAN
PRODID:adamgibbons/ics
METHOD:PUBLISH
X-PUBLISHED-TTL:PT1H
BEGIN:VEVENT
UID:20295@offbeat.amsterdam
SUMMARY:Frok - Blueprint - De Formule
DTSTAMP:20260420T035425Z
DTSTART:20260424T180000Z
URL:https://offbeat.amsterdam/event/bands
GEO:52.3608111;4.8770451
LOCATION:Vondelbunker - Vondelpark 8A\, 1071 AA Amsterdam
STATUS:CONFIRMED
CATEGORIES:amsterdam-west,vondelparkbuurt,rock,punk,performance,music/conce
	rt,music,live,indie,electronics,dj
END:VEVENT
BEGIN:VEVENT
UID:6158@offbeat.amsterdam
SUMMARY:Bunker Chess Club
DTSTAMP:20260420T035425Z
DTSTART:20260426T123000Z
DTEND:20260426T160000Z
URL:https://offbeat.amsterdam/event/bunker-chess-club-45
GEO:52.3608111;4.8770451
LOCATION:Vondelbunker - Vondelpark 8A\, 1071 AA Amsterdam
STATUS:CONFIRMED
CATEGORIES:vondelparkbuurt,amsterdam-west,bar/cafe,games
END:VEVENT
BEGIN:VEVENT
UID:6159@offbeat.amsterdam
SUMMARY:Bunker Chess Club
DTSTAMP:20260420T035425Z
DTSTART:20260503T123000Z
DTEND:20260503T160000Z
URL:https://offbeat.amsterdam/event/bunker-chess-club-46
GEO:52.3608111;4.8770451
LOCATION:Vondelbunker - Vondelpark 8A\, 1071 AA Amsterdam
STATUS:CONFIRMED
CATEGORIES:vondelparkbuurt,amsterdam-west,bar/cafe,games
END:VEVENT
BEGIN:VEVENT
UID:6160@offbeat.amsterdam
SUMMARY:Bunker Chess Club
DTSTAMP:20260420T035425Z
DTSTART:20260510T123000Z
DTEND:20260510T160000Z
URL:https://offbeat.amsterdam/event/bunker-chess-club-47
GEO:52.3608111;4.8770451
LOCATION:Vondelbunker - Vondelpark 8A\, 1071 AA Amsterdam
STATUS:CONFIRMED
CATEGORIES:bar/cafe,amsterdam-west,vondelparkbuurt,games
END:VEVENT
BEGIN:VEVENT
UID:6161@offbeat.amsterdam
SUMMARY:Bunker Chess Club
DTSTAMP:20260420T035425Z
DTSTART:20260517T123000Z
DTEND:20260517T160000Z
URL:https://offbeat.amsterdam/event/bunker-chess-club-48
GEO:52.3608111;4.8770451
LOCATION:Vondelbunker - Vondelpark 8A\, 1071 AA Amsterdam
STATUS:CONFIRMED
CATEGORIES:games,amsterdam-west,bar/cafe,vondelparkbuurt
END:VEVENT
BEGIN:VEVENT
UID:6162@offbeat.amsterdam
SUMMARY:Bunker Chess Club
DTSTAMP:20260420T035425Z
DTSTART:20260524T123000Z
DTEND:20260524T160000Z
URL:https://offbeat.amsterdam/event/bunker-chess-club-49
GEO:52.3608111;4.8770451
LOCATION:Vondelbunker - Vondelpark 8A\, 1071 AA Amsterdam
STATUS:CONFIRMED
CATEGORIES:amsterdam-west,bar/cafe,games,vondelparkbuurt
END:VEVENT
BEGIN:VEVENT
UID:6163@offbeat.amsterdam
SUMMARY:Bunker Chess Club
DTSTAMP:20260420T035425Z
DTSTART:20260531T123000Z
DTEND:20260531T160000Z
URL:https://offbeat.amsterdam/event/bunker-chess-club-50
GEO:52.3608111;4.8770451
LOCATION:Vondelbunker - Vondelpark 8A\, 1071 AA Amsterdam
STATUS:CONFIRMED
CATEGORIES:bar/cafe,amsterdam-west,vondelparkbuurt,games
END:VEVENT
BEGIN:VEVENT
UID:6164@offbeat.amsterdam
SUMMARY:Bunker Chess Club
DTSTAMP:20260420T035425Z
DTSTART:20260607T123000Z
DTEND:20260607T160000Z
URL:https://offbeat.amsterdam/event/bunker-chess-club-51
GEO:52.3608111;4.8770451
LOCATION:Vondelbunker - Vondelpark 8A\, 1071 AA Amsterdam
STATUS:CONFIRMED
CATEGORIES:amsterdam-west,vondelparkbuurt,games,bar/cafe
END:VEVENT
BEGIN:VEVENT
UID:6165@offbeat.amsterdam
SUMMARY:Bunker Chess Club
DTSTAMP:20260420T035425Z
DTSTART:20260614T123000Z
DTEND:20260614T160000Z
URL:https://offbeat.amsterdam/event/bunker-chess-club-52
GEO:52.3608111;4.8770451
LOCATION:Vondelbunker - Vondelpark 8A\, 1071 AA Amsterdam
STATUS:CONFIRMED
CATEGORIES:amsterdam-west,vondelparkbuurt,games,bar/cafe
END:VEVENT
BEGIN:VEVENT
UID:6166@offbeat.amsterdam
SUMMARY:Bunker Chess Club
DTSTAMP:20260420T035425Z
DTSTART:20260621T123000Z
DTEND:20260621T160000Z
URL:https://offbeat.amsterdam/event/bunker-chess-club-53
GEO:52.3608111;4.8770451
LOCATION:Vondelbunker - Vondelpark 8A\, 1071 AA Amsterdam
STATUS:CONFIRMED
CATEGORIES:bar/cafe,vondelparkbuurt,games,amsterdam-west
END:VEVENT
END:VCALENDAR
