BEGIN:VCALENDAR
VERSION:2.0
CALSCALE:GREGORIAN
PRODID:adamgibbons/ics
METHOD:PUBLISH
X-PUBLISHED-TTL:PT1H
BEGIN:VEVENT
UID:20331@offbeat.amsterdam
SUMMARY:Soil movie night
DTSTAMP:20260420T050231Z
DTSTART:20260423T160000Z
DTEND:20260423T180000Z
URL:https://offbeat.amsterdam/event/soil-movie-night
GEO:52.3765012;4.9132763
LOCATION:Mediamatic - Dijksgracht 6\, 1019 BS Amsterdam
STATUS:CONFIRMED
CATEGORIES:eastern docklands,amsterdam-centrum,film,movie night
END:VEVENT
BEGIN:VEVENT
UID:18917@offbeat.amsterdam
SUMMARY:Meet-a-Maker
DTSTAMP:20260420T050231Z
DTSTART:20260424T140000Z
DTEND:20260424T150000Z
URL:https://offbeat.amsterdam/event/meet-a-maker-28
GEO:52.3765012;4.9132763
LOCATION:Mediamatic - Dijksgracht 6\, 1019 BS Amsterdam
STATUS:CONFIRMED
CATEGORIES:amsterdam-centrum,community,eastern docklands,exhibition,food,fo
	raging,mental health,plants,talk
END:VEVENT
BEGIN:VEVENT
UID:18552@offbeat.amsterdam
SUMMARY:Unfolding  Universes
DTSTAMP:20260420T050231Z
DTSTART:20260429T173000Z
DTEND:20260429T190000Z
URL:https://offbeat.amsterdam/event/chapter-2-unfolding-universes
GEO:52.3765012;4.9132763
LOCATION:Mediamatic - Dijksgracht 6\, 1019 BS Amsterdam
STATUS:CONFIRMED
CATEGORIES:meditation,neurodiversity,talk,performance,amsterdam-centrum,boo
	ks,capitalism,eastern docklands,feminism,games
END:VEVENT
BEGIN:VEVENT
UID:20546@offbeat.amsterdam
SUMMARY:Dystopia Wetlands
DTSTAMP:20260420T050231Z
DTSTART:20260501T173000Z
DTEND:20260501T190000Z
URL:https://offbeat.amsterdam/event/dystopia-wetlands
GEO:52.3765012;4.9132763
LOCATION:Mediamatic - Dijksgracht 6\, 1019 BS Amsterdam
STATUS:CONFIRMED
CATEGORIES:alternative,performance,plants,music,live,gender,electronics,eas
	tern docklands,dance,community,amsterdam-centrum
END:VEVENT
BEGIN:VEVENT
UID:20859@offbeat.amsterdam
SUMMARY:HABITS
DTSTAMP:20260420T050231Z
DTSTART:20260515T100000Z
DTEND:20260515T214500Z
URL:https://offbeat.amsterdam/event/habits
GEO:52.3765012;4.9132763
LOCATION:Mediamatic - Dijksgracht 6\, 1019 BS Amsterdam
STATUS:CONFIRMED
CATEGORIES:repair,storytelling,alternative,plants,performance,music,live,fo
	od,eastern docklands,dj,dinner,dance,concert,community,amsterdam-centrum
END:VEVENT
BEGIN:VEVENT
UID:19703@offbeat.amsterdam
SUMMARY:Meet-a-Maker
DTSTAMP:20260420T050231Z
DTSTART:20260521T110000Z
DTEND:20260521T113000Z
URL:https://offbeat.amsterdam/event/meet-a-maker-31
GEO:52.3765012;4.9132763
LOCATION:Mediamatic - Dijksgracht 6\, 1019 BS Amsterdam
STATUS:CONFIRMED
CATEGORIES:talk,eastern docklands,exhibition,amsterdam-centrum
END:VEVENT
BEGIN:VEVENT
UID:18918@offbeat.amsterdam
SUMMARY:Meet-a-Maker
DTSTAMP:20260420T050231Z
DTSTART:20260521T140000Z
DTEND:20260521T150000Z
URL:https://offbeat.amsterdam/event/meet-a-maker-29
GEO:52.3765012;4.9132763
LOCATION:Mediamatic - Dijksgracht 6\, 1019 BS Amsterdam
STATUS:CONFIRMED
CATEGORIES:eastern docklands,community,amsterdam-centrum,talk,plants,mental
	 health,foraging,food,exhibition
END:VEVENT
BEGIN:VEVENT
UID:19853@offbeat.amsterdam
SUMMARY:Meet-a-Maker
DTSTAMP:20260420T050231Z
DTSTART:20260522T140000Z
DTEND:20260522T150000Z
URL:https://offbeat.amsterdam/event/meet-a-maker-35
GEO:52.3765012;4.9132763
LOCATION:Mediamatic - Dijksgracht 6\, 1019 BS Amsterdam
STATUS:CONFIRMED
CATEGORIES:performance,amsterdam-centrum,dance,eastern docklands,ecology,ex
	hibition,feminism,gender,queer,talk
END:VEVENT
BEGIN:VEVENT
UID:19843@offbeat.amsterdam
SUMMARY:Meet-a-Maker
DTSTAMP:20260420T050231Z
DTSTART:20260611T140000Z
DTEND:20260611T150000Z
URL:https://offbeat.amsterdam/event/meet-a-maker-32
GEO:52.3765012;4.9132763
LOCATION:Mediamatic - Dijksgracht 6\, 1019 BS Amsterdam
STATUS:CONFIRMED
CATEGORIES:ecology,talk,exhibition,live,amsterdam-centrum,eastern docklands
END:VEVENT
BEGIN:VEVENT
UID:20547@offbeat.amsterdam
SUMMARY:Dystopia Wetlands
DTSTAMP:20260420T050231Z
DTSTART:20260611T173000Z
DTEND:20260611T190000Z
URL:https://offbeat.amsterdam/event/dystopia-wetlands-1
GEO:52.3765012;4.9132763
LOCATION:Mediamatic - Dijksgracht 6\, 1019 BS Amsterdam
STATUS:CONFIRMED
CATEGORIES:amsterdam-centrum,alternative,music,performance,plants,live,gend
	er,electronics,eastern docklands,dance,community
END:VEVENT
BEGIN:VEVENT
UID:19844@offbeat.amsterdam
SUMMARY:Meet-a-Maker
DTSTAMP:20260420T050231Z
DTSTART:20260625T140000Z
DTEND:20260625T150000Z
URL:https://offbeat.amsterdam/event/meet-a-maker-33
GEO:52.3765012;4.9132763
LOCATION:Mediamatic - Dijksgracht 6\, 1019 BS Amsterdam
STATUS:CONFIRMED
CATEGORIES:live,talk,amsterdam-centrum,eastern docklands,ecology,exhibition
END:VEVENT
BEGIN:VEVENT
UID:18920@offbeat.amsterdam
SUMMARY:Open Daily Tours
DTSTAMP:20260420T050231Z
DTSTART:20261218T130000Z
DTEND:20261218T134500Z
URL:https://offbeat.amsterdam/event/open-daily-tours-1
GEO:52.3765012;4.9132763
LOCATION:Mediamatic - Dijksgracht 6\, 1019 BS Amsterdam
STATUS:CONFIRMED
CATEGORIES:experimental,talk,amsterdam-centrum,dinner,eastern docklands,exh
	ibition
END:VEVENT
END:VCALENDAR
