BEGIN:VCALENDAR
VERSION:2.0
CALSCALE:GREGORIAN
PRODID:adamgibbons/ics
METHOD:PUBLISH
X-PUBLISHED-TTL:PT1H
BEGIN:VEVENT
UID:17705@offbeat.amsterdam
SUMMARY:ABC Community bike repair event
DTSTAMP:20260420T050655Z
DTSTART:20260421T110000Z
DTEND:20260421T160000Z
URL:https://offbeat.amsterdam/event/abc-community-bike-repair-event-19
LOCATION:Vrankrijk - Spuistraat 216\, 1012 VT Amsterdam
STATUS:CONFIRMED
CATEGORIES:amsterdam-centrum,spui,repair,diy workshop,community
END:VEVENT
BEGIN:VEVENT
UID:17736@offbeat.amsterdam
SUMMARY:WTF Queer Wednesday Fruitfilia Presents Nocturnal Diarrhea
DTSTAMP:20260420T050655Z
DTSTART:20260422T173000Z
DTEND:20260422T220000Z
URL:https://offbeat.amsterdam/event/wtf-queer-wednesday-42
LOCATION:Vrankrijk - Spuistraat 216\, 1012 VT Amsterdam
STATUS:CONFIRMED
CATEGORIES:queer,spui,vegan,voku,music,performance,poetry,social,amsterdam-
	centrum,benefit,food,live
END:VEVENT
BEGIN:VEVENT
UID:17701@offbeat.amsterdam
SUMMARY:AAAH ! Anarchist Action Assistance Hour
DTSTAMP:20260420T050655Z
DTSTART:20260423T170000Z
DTEND:20260423T183000Z
URL:https://offbeat.amsterdam/event/aaah-anarchist-action-assistance-hour-5
	7
LOCATION:Vrankrijk - Spuistraat 216\, 1012 VT Amsterdam
STATUS:CONFIRMED
CATEGORIES:aaah!,amsterdam-centrum,spui,talk
END:VEVENT
BEGIN:VEVENT
UID:17721@offbeat.amsterdam
SUMMARY:Friday Punk Night
DTSTAMP:20260420T050655Z
DTSTART:20260424T190000Z
DTEND:20260425T000000Z
URL:https://offbeat.amsterdam/event/friday-punk-night-60
LOCATION:Vrankrijk - Spuistraat 216\, 1012 VT Amsterdam
STATUS:CONFIRMED
CATEGORIES:amsterdam-centrum,spui,social,punk,music,metal,live,food
END:VEVENT
BEGIN:VEVENT
UID:17730@offbeat.amsterdam
SUMMARY:Medic Mondays
DTSTAMP:20260420T050655Z
DTSTART:20260427T160000Z
DTEND:20260427T190000Z
URL:https://offbeat.amsterdam/event/medic-mondays-48
LOCATION:Vrankrijk - Spuistraat 216\, 1012 VT Amsterdam
STATUS:CONFIRMED
CATEGORIES:amsterdam-centrum,community,mental health,spui,street medics
END:VEVENT
BEGIN:VEVENT
UID:17739@offbeat.amsterdam
SUMMARY:WTF Queer Wednesday
DTSTAMP:20260420T050655Z
DTSTART:20260429T173000Z
DTEND:20260429T220000Z
URL:https://offbeat.amsterdam/event/wtf-queer-wednesday-45
LOCATION:Vrankrijk - Spuistraat 216\, 1012 VT Amsterdam
STATUS:CONFIRMED
CATEGORIES:community,amsterdam-centrum,food,queer,social,spui,vegan,voku
END:VEVENT
BEGIN:VEVENT
UID:19140@offbeat.amsterdam
SUMMARY:AAAH ! Anarchist Action Assistance Hour
DTSTAMP:20260420T050655Z
DTSTART:20260430T170000Z
DTEND:20260430T183000Z
URL:https://offbeat.amsterdam/event/aaah-anarchist-action-assistance-hour-5
	8
LOCATION:Vrankrijk - Spuistraat 216\, 1012 VT Amsterdam
STATUS:CONFIRMED
CATEGORIES:spui,talk,aaah!,amsterdam-centrum
END:VEVENT
BEGIN:VEVENT
UID:17722@offbeat.amsterdam
SUMMARY:Friday Punk Night
DTSTAMP:20260420T050655Z
DTSTART:20260501T190000Z
DTEND:20260502T000000Z
URL:https://offbeat.amsterdam/event/friday-punk-night-61
LOCATION:Vrankrijk - Spuistraat 216\, 1012 VT Amsterdam
STATUS:CONFIRMED
CATEGORIES:amsterdam-centrum,punk,music,metal,live,food,spui,social
END:VEVENT
BEGIN:VEVENT
UID:17706@offbeat.amsterdam
SUMMARY:ABC Community bike repair event
DTSTAMP:20260420T050655Z
DTSTART:20260505T110000Z
DTEND:20260505T160000Z
URL:https://offbeat.amsterdam/event/abc-community-bike-repair-event-20
LOCATION:Vrankrijk - Spuistraat 216\, 1012 VT Amsterdam
STATUS:CONFIRMED
CATEGORIES:spui,repair,diy workshop,community,amsterdam-centrum
END:VEVENT
BEGIN:VEVENT
UID:17742@offbeat.amsterdam
SUMMARY:WTF Queer Wednesday NO VOKU/ WTF Q MTG
DTSTAMP:20260420T050655Z
DTSTART:20260506T190000Z
DTEND:20260506T230000Z
URL:https://offbeat.amsterdam/event/wtf-queer-wednesday-no-voku-wtf-q-mtg-1
	5
LOCATION:Vrankrijk - Spuistraat 216\, 1012 VT Amsterdam
STATUS:CONFIRMED
CATEGORIES:amsterdam-centrum,queer,social,spui,voku
END:VEVENT
BEGIN:VEVENT
UID:19141@offbeat.amsterdam
SUMMARY:AAAH ! Anarchist Action Assistance Hour
DTSTAMP:20260420T050655Z
DTSTART:20260507T170000Z
DTEND:20260507T183000Z
URL:https://offbeat.amsterdam/event/aaah-anarchist-action-assistance-hour-5
	9
LOCATION:Vrankrijk - Spuistraat 216\, 1012 VT Amsterdam
STATUS:CONFIRMED
CATEGORIES:aaah!,amsterdam-centrum,talk,spui
END:VEVENT
BEGIN:VEVENT
UID:17731@offbeat.amsterdam
SUMMARY:Medic Mondays
DTSTAMP:20260420T050655Z
DTSTART:20260511T160000Z
DTEND:20260511T190000Z
URL:https://offbeat.amsterdam/event/medic-mondays-49
LOCATION:Vrankrijk - Spuistraat 216\, 1012 VT Amsterdam
STATUS:CONFIRMED
CATEGORIES:mental health,community,amsterdam-centrum,street medics,spui
END:VEVENT
BEGIN:VEVENT
UID:17740@offbeat.amsterdam
SUMMARY:WTF Queer Wednesday
DTSTAMP:20260420T050655Z
DTSTART:20260513T173000Z
DTEND:20260513T220000Z
URL:https://offbeat.amsterdam/event/wtf-queer-wednesday-46
LOCATION:Vrankrijk - Spuistraat 216\, 1012 VT Amsterdam
STATUS:CONFIRMED
CATEGORIES:social,queer,food,community,amsterdam-centrum,voku,vegan,spui
END:VEVENT
BEGIN:VEVENT
UID:19142@offbeat.amsterdam
SUMMARY:AAAH ! Anarchist Action Assistance Hour
DTSTAMP:20260420T050655Z
DTSTART:20260514T170000Z
DTEND:20260514T200000Z
URL:https://offbeat.amsterdam/event/aaah-anarchist-action-assistance-hour-6
	0
LOCATION:Vrankrijk - Spuistraat 216\, 1012 VT Amsterdam
STATUS:CONFIRMED
CATEGORIES:spui,talk,amsterdam-centrum,aaah!
END:VEVENT
BEGIN:VEVENT
UID:17707@offbeat.amsterdam
SUMMARY:ABC Community bike repair event
DTSTAMP:20260420T050655Z
DTSTART:20260519T110000Z
DTEND:20260519T160000Z
URL:https://offbeat.amsterdam/event/abc-community-bike-repair-event-21
LOCATION:Vrankrijk - Spuistraat 216\, 1012 VT Amsterdam
STATUS:CONFIRMED
CATEGORIES:amsterdam-centrum,spui,repair,diy workshop,community
END:VEVENT
BEGIN:VEVENT
UID:17743@offbeat.amsterdam
SUMMARY:WTF Queer Wednesday NO VOKU/ WTF Q MTG
DTSTAMP:20260420T050655Z
DTSTART:20260603T190000Z
DTEND:20260603T230000Z
URL:https://offbeat.amsterdam/event/wtf-queer-wednesday-no-voku-wtf-q-mtg-1
	6
LOCATION:Vrankrijk - Spuistraat 216\, 1012 VT Amsterdam
STATUS:CONFIRMED
CATEGORIES:social,amsterdam-centrum,voku,spui,queer
END:VEVENT
END:VCALENDAR
