BEGIN:VCALENDAR
VERSION:2.0
CALSCALE:GREGORIAN
PRODID:adamgibbons/ics
METHOD:PUBLISH
X-PUBLISHED-TTL:PT1H
BEGIN:VEVENT
UID:20962@offbeat.amsterdam
SUMMARY:CiNEMERCATOR - Danny Boyle  TRAiNSPOTTING   1996
DTSTAMP:20260420T063612Z
DTSTART:20260422T180000Z
URL:https://offbeat.amsterdam/event/cinemercator-danny-boyle-trainspotting-
	1996
LOCATION:Supermercator - Mercatorplein 3H\, 1057 BX Amsterdam
STATUS:CONFIRMED
CATEGORIES:amsterdam-west,de-baarsjes,film,oud-west,talk
END:VEVENT
BEGIN:VEVENT
UID:20963@offbeat.amsterdam
SUMMARY:LiVE DRAWING
DTSTAMP:20260420T063612Z
DTSTART:20260428T170000Z
DTEND:20260428T200000Z
URL:https://offbeat.amsterdam/event/live-drawing-5
LOCATION:Supermercator - Mercatorplein 3H\, 1057 BX Amsterdam
STATUS:CONFIRMED
CATEGORIES:amsterdam-west,de-baarsjes,drawing,oud-west
END:VEVENT
END:VCALENDAR
