BEGIN:VCALENDAR
VERSION:2.0
CALSCALE:GREGORIAN
PRODID:adamgibbons/ics
METHOD:PUBLISH
X-PUBLISHED-TTL:PT1H
BEGIN:VEVENT
UID:18703@offbeat.amsterdam
SUMMARY:Vault Sessions & RADION: Blasha & Allatt ANL
DTSTAMP:20260420T045646Z
DTSTART:20260424T210000Z
DTEND:20260425T070000Z
URL:https://offbeat.amsterdam/event/vault-sessions-and-radion-blasha-and-al
	latt-anl
LOCATION:Radion - Louwesweg 1\, 1066 EA Amsterdam
STATUS:CONFIRMED
CATEGORIES:storytelling,performance,slotervaart,amsterdam nieuw-west
END:VEVENT
BEGIN:VEVENT
UID:19712@offbeat.amsterdam
SUMMARY:Aura 8 Year Anniversary
DTSTAMP:20260420T045646Z
DTSTART:20260425T210000Z
DTEND:20260426T050000Z
URL:https://offbeat.amsterdam/event/aura-8-year-anniversary
LOCATION:Radion - Louwesweg 1\, 1066 EA Amsterdam
STATUS:CONFIRMED
CATEGORIES:slotervaart,amsterdam nieuw-west,dance,music
END:VEVENT
BEGIN:VEVENT
UID:17396@offbeat.amsterdam
SUMMARY:FURTHER: Kingsnight 2026
DTSTAMP:20260420T045646Z
DTSTART:20260426T210000Z
DTEND:20260427T060000Z
URL:https://offbeat.amsterdam/event/further-kingsnight-2026
LOCATION:Radion - Louwesweg 1\, 1066 EA Amsterdam
STATUS:CONFIRMED
CATEGORIES:slotervaart,amsterdam nieuw-west
END:VEVENT
BEGIN:VEVENT
UID:20451@offbeat.amsterdam
SUMMARY:GRID x RADION
DTSTAMP:20260420T045646Z
DTSTART:20260501T210000Z
DTEND:20260502T050000Z
URL:https://offbeat.amsterdam/event/grid-x-radion
LOCATION:Radion - Louwesweg 1\, 1066 EA Amsterdam
STATUS:CONFIRMED
CATEGORIES:dj,amsterdam nieuw-west,slotervaart,rave
END:VEVENT
BEGIN:VEVENT
UID:9756@offbeat.amsterdam
SUMMARY:Voices
DTSTAMP:20260420T045646Z
DTSTART:20260502T210000Z
DTEND:20260503T050000Z
URL:https://offbeat.amsterdam/event/voices
LOCATION:Radion - Louwesweg 1\, 1066 EA Amsterdam
STATUS:CONFIRMED
CATEGORIES:slotervaart,amsterdam nieuw-west
END:VEVENT
BEGIN:VEVENT
UID:18421@offbeat.amsterdam
SUMMARY:Kinky Creators Fair
DTSTAMP:20260420T045646Z
DTSTART:20260503T100000Z
DTEND:20260504T160000Z
URL:https://offbeat.amsterdam/event/kinky-creators-fair-1
LOCATION:Radion - Louwesweg 1\, 1066 EA Amsterdam
STATUS:CONFIRMED
CATEGORIES:amsterdam nieuw-west,party,slotervaart,exhibition
END:VEVENT
BEGIN:VEVENT
UID:20306@offbeat.amsterdam
SUMMARY:PAX-ROMANA: Floralia II
DTSTAMP:20260420T045646Z
DTSTART:20260508T210000Z
DTEND:20260509T080000Z
URL:https://offbeat.amsterdam/event/pax-romana-floralia-ii
LOCATION:Radion - Louwesweg 1\, 1066 EA Amsterdam
STATUS:CONFIRMED
CATEGORIES:amsterdam nieuw-west,community,dance,live,music,slotervaart
END:VEVENT
BEGIN:VEVENT
UID:20715@offbeat.amsterdam
SUMMARY:Ouwe Stijl is Botergeil
DTSTAMP:20260420T045646Z
DTSTART:20260509T200000Z
DTEND:20260510T050000Z
URL:https://offbeat.amsterdam/event/ouwe-stijl-is-botergeil
LOCATION:Radion - Louwesweg 1\, 1066 EA Amsterdam
STATUS:CONFIRMED
CATEGORIES:dj,slotervaart,hardcore,amsterdam nieuw-west
END:VEVENT
BEGIN:VEVENT
UID:20929@offbeat.amsterdam
SUMMARY:RADION x ACTA spring gathering
DTSTAMP:20260420T045646Z
DTSTART:20260515T170000Z
DTEND:20260516T030000Z
URL:https://offbeat.amsterdam/event/radion-x-acta-spring-gathering
LOCATION:Radion - Louwesweg 1\, 1066 EA Amsterdam
STATUS:CONFIRMED
CATEGORIES:food,amsterdam nieuw-west,community,dj,hardcore,music,slotervaar
	t
END:VEVENT
BEGIN:VEVENT
UID:20714@offbeat.amsterdam
SUMMARY:Labyrinth
DTSTAMP:20260420T045646Z
DTSTART:20260516T210000Z
DTEND:20260517T050000Z
URL:https://offbeat.amsterdam/event/labyrinth
LOCATION:Radion - Louwesweg 1\, 1066 EA Amsterdam
STATUS:CONFIRMED
CATEGORIES:stories,slotervaart,amsterdam nieuw-west
END:VEVENT
BEGIN:VEVENT
UID:20931@offbeat.amsterdam
SUMMARY:Techno Yoga - start 18:30
DTSTAMP:20260420T045646Z
DTSTART:20260519T160000Z
DTEND:20260519T180000Z
URL:https://offbeat.amsterdam/event/techno-yoga-start-1830
LOCATION:Radion - Louwesweg 1\, 1066 EA Amsterdam
STATUS:CONFIRMED
CATEGORIES:yoga,alternative,amsterdam nieuw-west,classes,music,gender,slote
	rvaart,techno
END:VEVENT
BEGIN:VEVENT
UID:20930@offbeat.amsterdam
SUMMARY:Techno Yoga - Start 20:00
DTSTAMP:20260420T045646Z
DTSTART:20260519T180000Z
DTEND:20260519T200000Z
URL:https://offbeat.amsterdam/event/techno-yoga-start-2000
LOCATION:Radion - Louwesweg 1\, 1066 EA Amsterdam
STATUS:CONFIRMED
CATEGORIES:yoga,slotervaart,alternative,amsterdam nieuw-west,classes,music,
	gender,techno
END:VEVENT
BEGIN:VEVENT
UID:20927@offbeat.amsterdam
SUMMARY:RADION  w/ Mark Broom\, Carmen Electro\, HUJUS
DTSTAMP:20260420T045646Z
DTSTART:20260522T210000Z
DTEND:20260523T050000Z
URL:https://offbeat.amsterdam/event/radion-with-mark-broom-carmen-electro-h
	ujus
LOCATION:Radion - Louwesweg 1\, 1066 EA Amsterdam
STATUS:CONFIRMED
CATEGORIES:techno,slotervaart,music,dj,amsterdam nieuw-west
END:VEVENT
BEGIN:VEVENT
UID:20928@offbeat.amsterdam
SUMMARY:RADION invites Rutger and Bianca
DTSTAMP:20260420T045646Z
DTSTART:20260529T210000Z
DTEND:20260530T050000Z
URL:https://offbeat.amsterdam/event/radion-invites-rutger-and-bianca
LOCATION:Radion - Louwesweg 1\, 1066 EA Amsterdam
STATUS:CONFIRMED
CATEGORIES:slotervaart,rave,music,community,amsterdam nieuw-west
END:VEVENT
BEGIN:VEVENT
UID:20926@offbeat.amsterdam
SUMMARY:POING & The Planet present: Six Sex (live)
DTSTAMP:20260420T045646Z
DTSTART:20260626T210000Z
DTEND:20260627T050000Z
URL:https://offbeat.amsterdam/event/poing-and-the-planet-present-six-sex-li
	ve
LOCATION:Radion - Louwesweg 1\, 1066 EA Amsterdam
STATUS:CONFIRMED
CATEGORIES:slotervaart,rave,live,amsterdam nieuw-west
END:VEVENT
END:VCALENDAR
