BEGIN:VCALENDAR
VERSION:2.0
CALSCALE:GREGORIAN
PRODID:adamgibbons/ics
METHOD:PUBLISH
X-PUBLISHED-TTL:PT1H
BEGIN:VEVENT
UID:17227@offbeat.amsterdam
SUMMARY:YOGA WITH A VIEW | VINYASA FLOW
DTSTAMP:20260420T045803Z
DTSTART:20260426T083000Z
DTEND:20260426T100000Z
URL:https://offbeat.amsterdam/event/yoga-with-a-view-or-vinyasa-flow-7
LOCATION:Pllek - TT Neveritaweg 59\, 1033 WB Amsterdam
STATUS:CONFIRMED
CATEGORIES:meditation,classes,amsterdam-noord,yoga,ndsm
END:VEVENT
BEGIN:VEVENT
UID:18558@offbeat.amsterdam
SUMMARY:RUIGE RAKKERS | FEESTTANTES
DTSTAMP:20260420T045803Z
DTSTART:20260426T110000Z
DTEND:20260426T140000Z
URL:https://offbeat.amsterdam/event/ruige-rakkers-or-feesttantes
LOCATION:Pllek - TT Neveritaweg 59\, 1033 WB Amsterdam
STATUS:CONFIRMED
CATEGORIES:amsterdam-noord,ndsm,party
END:VEVENT
BEGIN:VEVENT
UID:18030@offbeat.amsterdam
SUMMARY:👑 PLLEK KINGSDAY 2025
DTSTAMP:20260420T045803Z
DTSTART:20260427T100000Z
DTEND:20260428T010000Z
URL:https://offbeat.amsterdam/event/pllek-kingsday-2025
LOCATION:Pllek - TT Neveritaweg 59\, 1033 WB Amsterdam
STATUS:CONFIRMED
CATEGORIES:party,amsterdam-noord,dance,ndsm
END:VEVENT
BEGIN:VEVENT
UID:20625@offbeat.amsterdam
SUMMARY:LIBERTY DAY 2026 | FREEDOM LUNCH & EVENT
DTSTAMP:20260420T045803Z
DTSTART:20260505T093000Z
DTEND:20260505T193000Z
URL:https://offbeat.amsterdam/event/liberty-day-2026-or-freedom-lunch-and-e
	vent
LOCATION:Pllek - TT Neveritaweg 59\, 1033 WB Amsterdam
STATUS:CONFIRMED
CATEGORIES:amsterdam-noord,blues,dj,festivals,live,music,ndsm,performance,s
	tories
END:VEVENT
BEGIN:VEVENT
UID:20869@offbeat.amsterdam
SUMMARY:FILMS WITH A VIEW | THERE WILL BE BLOOD
DTSTAMP:20260420T045803Z
DTSTART:20260512T191500Z
URL:https://offbeat.amsterdam/event/films-with-a-view-or-there-will-be-bloo
	d
LOCATION:Pllek - TT Neveritaweg 59\, 1033 WB Amsterdam
STATUS:CONFIRMED
CATEGORIES:talk,amsterdam-noord,film,food,ndsm
END:VEVENT
BEGIN:VEVENT
UID:20868@offbeat.amsterdam
SUMMARY:FILMS WITH A VIEW | LA CHIMERA
DTSTAMP:20260420T045803Z
DTSTART:20260519T191500Z
URL:https://offbeat.amsterdam/event/films-with-a-view-or-la-chimera
LOCATION:Pllek - TT Neveritaweg 59\, 1033 WB Amsterdam
STATUS:CONFIRMED
CATEGORIES:amsterdam-noord,comedy,film,ndsm
END:VEVENT
BEGIN:VEVENT
UID:20867@offbeat.amsterdam
SUMMARY:FILMS WITH A VIEW | AMSTERDAM
DTSTAMP:20260420T045803Z
DTSTART:20260526T191500Z
URL:https://offbeat.amsterdam/event/films-with-a-view-or-amsterdam
LOCATION:Pllek - TT Neveritaweg 59\, 1033 WB Amsterdam
STATUS:CONFIRMED
CATEGORIES:food,amsterdam-noord,film,rock,comedy,ndsm
END:VEVENT
END:VCALENDAR
