BEGIN:VCALENDAR
VERSION:2.0
CALSCALE:GREGORIAN
PRODID:adamgibbons/ics
METHOD:PUBLISH
X-PUBLISHED-TTL:PT1H
BEGIN:VEVENT
UID:20517@offbeat.amsterdam
SUMMARY:Drunken Choir Rehearsal by Singing Lessons Amsterdam
DTSTAMP:20260420T045905Z
DTSTART:20260420T173000Z
DTEND:20260420T193000Z
URL:https://offbeat.amsterdam/event/drunken-choir-rehearsal-by-singing-less
	ons-amsterdam-4
LOCATION:Parlour - Cornelis Troostplein 23\, 1072 JJ Amsterdam
STATUS:CONFIRMED
CATEGORIES:amsterdam-zuid,music,de pijp,community
END:VEVENT
BEGIN:VEVENT
UID:18940@offbeat.amsterdam
SUMMARY:PARLOUR Presents... Signe Dø and Anna Soleil
DTSTAMP:20260420T045905Z
DTSTART:20260425T170000Z
DTEND:20260425T203000Z
URL:https://offbeat.amsterdam/event/parlour-presents-signe-do-and-anna-sole
	il
LOCATION:Parlour - Cornelis Troostplein 23\, 1072 JJ Amsterdam
STATUS:CONFIRMED
CATEGORIES:theater,music,performance,piano,pride,stories,amsterdam-zuid,con
	cert,de pijp,electronics,festivals,live
END:VEVENT
BEGIN:VEVENT
UID:20708@offbeat.amsterdam
SUMMARY:FIRST CONTACT: Identified Foreign Objects LIVE at PARLOUR
DTSTAMP:20260420T045905Z
DTSTART:20260509T173000Z
DTEND:20260509T200000Z
URL:https://offbeat.amsterdam/event/first-contact-identified-foreign-object
	s-live-at-parlour
LOCATION:Parlour - Cornelis Troostplein 23\, 1072 JJ Amsterdam
STATUS:CONFIRMED
CATEGORIES:rock,metal,live,de pijp,amsterdam-zuid
END:VEVENT
END:VCALENDAR
