BEGIN:VCALENDAR
VERSION:2.0
CALSCALE:GREGORIAN
PRODID:adamgibbons/ics
METHOD:PUBLISH
X-PUBLISHED-TTL:PT1H
BEGIN:VEVENT
UID:9693@offbeat.amsterdam
SUMMARY:Introduction to Bookbinding 1: Pamphlets\, Stab Bindings & Concerti
	nas
DTSTAMP:20260420T061658Z
DTSTART:20260420T163000Z
DTEND:20260420T183000Z
URL:https://offbeat.amsterdam/event/introduction-to-bookbinding-1-pamphlets
	-stab-bindings-and-concertinas
LOCATION:OT301 - Overtoom 301\, 1054 HW Amsterdam
STATUS:CONFIRMED
CATEGORIES:workshop,amsterdam-west,bookbinding,books,vondelparkbuurt
END:VEVENT
BEGIN:VEVENT
UID:17034@offbeat.amsterdam
SUMMARY:Lunch at Café Gilde
DTSTAMP:20260420T061658Z
DTSTART:20260421T100000Z
DTEND:20260421T150000Z
URL:https://offbeat.amsterdam/event/mep-daylunch-12
LOCATION:OT301 - Overtoom 301\, 1054 HW Amsterdam
STATUS:CONFIRMED
CATEGORIES:books,amsterdam-west,vondelparkbuurt,music,games,food
END:VEVENT
BEGIN:VEVENT
UID:20713@offbeat.amsterdam
SUMMARY:SubWaves #19
DTSTAMP:20260420T061658Z
DTSTART:20260421T180000Z
DTEND:20260421T210000Z
URL:https://offbeat.amsterdam/event/subwaves-19
LOCATION:OT301 - Overtoom 301\, 1054 HW Amsterdam
STATUS:CONFIRMED
CATEGORIES:improv,amsterdam-west,blues,concert,film,opening,performance,pia
	no,vondelparkbuurt
END:VEVENT
BEGIN:VEVENT
UID:18574@offbeat.amsterdam
SUMMARY:Lunch at Café Gilde
DTSTAMP:20260420T061658Z
DTSTART:20260422T100000Z
DTEND:20260422T150000Z
URL:https://offbeat.amsterdam/event/lunch-at-cafe-gilde-26
LOCATION:OT301 - Overtoom 301\, 1054 HW Amsterdam
STATUS:CONFIRMED
CATEGORIES:food,games,vondelparkbuurt,music,amsterdam-west,books
END:VEVENT
BEGIN:VEVENT
UID:17083@offbeat.amsterdam
SUMMARY:Lunch at Café Gilde
DTSTAMP:20260420T061658Z
DTSTART:20260423T100000Z
DTEND:20260423T150000Z
URL:https://offbeat.amsterdam/event/lunch-at-cafe-gilde-12
LOCATION:OT301 - Overtoom 301\, 1054 HW Amsterdam
STATUS:CONFIRMED
CATEGORIES:books,games,music,amsterdam-west,vondelparkbuurt,food
END:VEVENT
BEGIN:VEVENT
UID:17021@offbeat.amsterdam
SUMMARY:Lunch at Café Gilde
DTSTAMP:20260420T061658Z
DTSTART:20260424T100000Z
DTEND:20260424T150000Z
URL:https://offbeat.amsterdam/event/lunchborrel-at-cafe-gilde-13
LOCATION:OT301 - Overtoom 301\, 1054 HW Amsterdam
STATUS:CONFIRMED
CATEGORIES:books,games,music,vondelparkbuurt,amsterdam-west,food
END:VEVENT
BEGIN:VEVENT
UID:20199@offbeat.amsterdam
SUMMARY:4S4S - 4bidden sounds 4bidden spaces: an evening of electro-acousti
	c experimentations in surround
DTSTAMP:20260420T061658Z
DTSTART:20260424T170000Z
DTEND:20260424T190000Z
URL:https://offbeat.amsterdam/event/4s4s-4bidden-sounds-4bidden-spaces-an-e
	vening-of-electro-acoustic-experimentations-in-surround
LOCATION:OT301 - Overtoom 301\, 1054 HW Amsterdam
STATUS:CONFIRMED
CATEGORIES:amsterdam-west,vondelparkbuurt,electro acoustic explorations in 
	surround system
END:VEVENT
BEGIN:VEVENT
UID:20289@offbeat.amsterdam
SUMMARY:Rave Radar
DTSTAMP:20260420T061658Z
DTSTART:20260424T200000Z
DTEND:20260425T010000Z
URL:https://offbeat.amsterdam/event/rave-radar
LOCATION:OT301 - Overtoom 301\, 1054 HW Amsterdam
STATUS:CONFIRMED
CATEGORIES:vondelparkbuurt,amsterdam-west,community,live,(live) techno,rave
	,techno
END:VEVENT
BEGIN:VEVENT
UID:20338@offbeat.amsterdam
SUMMARY:To Dive X  Sex\, “Lies” and Videotape
DTSTAMP:20260420T061658Z
DTSTART:20260425T170000Z
DTEND:20260425T200000Z
URL:https://offbeat.amsterdam/event/to-dive-x-sex-lies-and-videotape-1
LOCATION:OT301 - Overtoom 301\, 1054 HW Amsterdam
STATUS:CONFIRMED
CATEGORIES:games,amsterdam-west,chinese,comedy,dance,film,vondelparkbuurt,s
	tories,shorts,patriarchy
END:VEVENT
BEGIN:VEVENT
UID:20945@offbeat.amsterdam
SUMMARY:Dinner at Café Gilde
DTSTAMP:20260420T061658Z
DTSTART:20260425T170000Z
DTEND:20260425T200000Z
URL:https://offbeat.amsterdam/event/dinner-at-cafe-gilde-13
LOCATION:OT301 - Overtoom 301\, 1054 HW Amsterdam
STATUS:CONFIRMED
CATEGORIES:vondelparkbuurt,amsterdam-west,books,dinner
END:VEVENT
BEGIN:VEVENT
UID:20392@offbeat.amsterdam
SUMMARY:No Escape / Benefit for ADEV
DTSTAMP:20260420T061658Z
DTSTART:20260425T190000Z
DTEND:20260426T010000Z
URL:https://offbeat.amsterdam/event/no-escape-benefit-for-adev
LOCATION:OT301 - Overtoom 301\, 1054 HW Amsterdam
STATUS:CONFIRMED
CATEGORIES:party,hardcore,festivals,electronics,acid,amsterdam-west,dance,d
	j,punk,rave,techno,tekno,vinyl,vondelparkbuurt,music,live,industrial,hc
END:VEVENT
BEGIN:VEVENT
UID:17035@offbeat.amsterdam
SUMMARY:Lunch at Café Gilde
DTSTAMP:20260420T061658Z
DTSTART:20260428T100000Z
DTEND:20260428T150000Z
URL:https://offbeat.amsterdam/event/mep-daylunch-13
LOCATION:OT301 - Overtoom 301\, 1054 HW Amsterdam
STATUS:CONFIRMED
CATEGORIES:books,vondelparkbuurt,music,games,food,amsterdam-west
END:VEVENT
BEGIN:VEVENT
UID:18575@offbeat.amsterdam
SUMMARY:Lunch at Café Gilde
DTSTAMP:20260420T061658Z
DTSTART:20260429T100000Z
DTEND:20260429T150000Z
URL:https://offbeat.amsterdam/event/lunch-at-cafe-gilde-27
LOCATION:OT301 - Overtoom 301\, 1054 HW Amsterdam
STATUS:CONFIRMED
CATEGORIES:books,food,vondelparkbuurt,music,games,amsterdam-west
END:VEVENT
BEGIN:VEVENT
UID:17084@offbeat.amsterdam
SUMMARY:Lunch at Café Gilde
DTSTAMP:20260420T061658Z
DTSTART:20260430T100000Z
DTEND:20260430T150000Z
URL:https://offbeat.amsterdam/event/lunch-at-cafe-gilde-13
LOCATION:OT301 - Overtoom 301\, 1054 HW Amsterdam
STATUS:CONFIRMED
CATEGORIES:books,vondelparkbuurt,music,games,amsterdam-west,food
END:VEVENT
BEGIN:VEVENT
UID:17412@offbeat.amsterdam
SUMMARY:Lunch at Café Gilde
DTSTAMP:20260420T061658Z
DTSTART:20260501T100000Z
DTEND:20260501T180000Z
URL:https://offbeat.amsterdam/event/lunchborrel-at-cafe-gilde-14
LOCATION:OT301 - Overtoom 301\, 1054 HW Amsterdam
STATUS:CONFIRMED
CATEGORIES:games,music,vondelparkbuurt,amsterdam-west,books,food
END:VEVENT
BEGIN:VEVENT
UID:20907@offbeat.amsterdam
SUMMARY:queer.red on Tour: New Perspectives
DTSTAMP:20260420T061658Z
DTSTART:20260501T170000Z
DTEND:20260501T210000Z
URL:https://offbeat.amsterdam/event/queerred-on-tour-new-perspectives
LOCATION:OT301 - Overtoom 301\, 1054 HW Amsterdam
STATUS:CONFIRMED
CATEGORIES:festivals,short films,vondelparkbuurt,amsterdam-west,film
END:VEVENT
BEGIN:VEVENT
UID:19888@offbeat.amsterdam
SUMMARY:FACE/LESS by DAR
DTSTAMP:20260420T061658Z
DTSTART:20260501T200000Z
DTEND:20260502T010000Z
URL:https://offbeat.amsterdam/event/faceless-by-dar
LOCATION:OT301 - Overtoom 301\, 1054 HW Amsterdam
STATUS:CONFIRMED
CATEGORIES:funk,vondelparkbuurt,soul,post-club,poetry,performance,music,liv
	e,high-bpm hybrids,hardcore,gabber,festivals,experimental electronic,exper
	imental,emo,electronics,dubstep,dj,deconstructed club,dance,amsterdam-west
END:VEVENT
BEGIN:VEVENT
UID:18219@offbeat.amsterdam
SUMMARY:Atlantis x Atmosphere
DTSTAMP:20260420T061658Z
DTSTART:20260502T200000Z
DTEND:20260503T010000Z
URL:https://offbeat.amsterdam/event/atlantis-x-atmosphere
LOCATION:OT301 - Overtoom 301\, 1054 HW Amsterdam
STATUS:CONFIRMED
CATEGORIES:dj,dnb,drum & bass,vondelparkbuurt,amsterdam-west
END:VEVENT
BEGIN:VEVENT
UID:20946@offbeat.amsterdam
SUMMARY:Shimmy Shake Spring Hafla
DTSTAMP:20260420T061658Z
DTSTART:20260503T123000Z
DTEND:20260503T153000Z
URL:https://offbeat.amsterdam/event/shimmy-shake-spring-hafla
LOCATION:OT301 - Overtoom 301\, 1054 HW Amsterdam
STATUS:CONFIRMED
CATEGORIES:amsterdam-west,dance,vondelparkbuurt,party,alternative
END:VEVENT
BEGIN:VEVENT
UID:17417@offbeat.amsterdam
SUMMARY:Lunch at Café Gilde
DTSTAMP:20260420T061658Z
DTSTART:20260505T100000Z
DTEND:20260505T150000Z
URL:https://offbeat.amsterdam/event/mep-daylunch-at-cafe-gilde
LOCATION:OT301 - Overtoom 301\, 1054 HW Amsterdam
STATUS:CONFIRMED
CATEGORIES:music,food,books,amsterdam-west,vondelparkbuurt,games
END:VEVENT
BEGIN:VEVENT
UID:18577@offbeat.amsterdam
SUMMARY:Lunch at Café Gilde
DTSTAMP:20260420T061658Z
DTSTART:20260506T100000Z
DTEND:20260506T150000Z
URL:https://offbeat.amsterdam/event/lunch-at-cafe-gilde-29
LOCATION:OT301 - Overtoom 301\, 1054 HW Amsterdam
STATUS:CONFIRMED
CATEGORIES:vondelparkbuurt,amsterdam-west,food,books,games,music
END:VEVENT
BEGIN:VEVENT
UID:17408@offbeat.amsterdam
SUMMARY:Lunch at Café Gilde
DTSTAMP:20260420T061658Z
DTSTART:20260507T100000Z
DTEND:20260507T150000Z
URL:https://offbeat.amsterdam/event/lunch-at-cafe-gilde-14
LOCATION:OT301 - Overtoom 301\, 1054 HW Amsterdam
STATUS:CONFIRMED
CATEGORIES:music,amsterdam-west,food,books,vondelparkbuurt,games
END:VEVENT
BEGIN:VEVENT
UID:20863@offbeat.amsterdam
SUMMARY:16mm Cult Movie Night
DTSTAMP:20260420T061658Z
DTSTART:20260507T173000Z
DTEND:20260507T210000Z
URL:https://offbeat.amsterdam/event/16mm-cult-movie-night-2
LOCATION:OT301 - Overtoom 301\, 1054 HW Amsterdam
STATUS:CONFIRMED
CATEGORIES:amsterdam-west,film,movie night,sci-fi,theater,vondelparkbuurt
END:VEVENT
BEGIN:VEVENT
UID:19759@offbeat.amsterdam
SUMMARY:WAHJ Live Performance Premiere
DTSTAMP:20260420T061658Z
DTSTART:20260507T180000Z
DTEND:20260507T215900Z
URL:https://offbeat.amsterdam/event/wahj-live-performance-premiere
LOCATION:OT301 - Overtoom 301\, 1054 HW Amsterdam
STATUS:CONFIRMED
CATEGORIES:ade,film,vondelparkbuurt,techno,amsterdam-west,avant-pop,dark am
	bient,dj,electronic,electronics,experimental,rock,performance,music,live,j
	azz,industrial,experimental arabic,festivals
END:VEVENT
BEGIN:VEVENT
UID:17413@offbeat.amsterdam
SUMMARY:Lunch at Café Gilde
DTSTAMP:20260420T061658Z
DTSTART:20260508T100000Z
DTEND:20260508T150000Z
URL:https://offbeat.amsterdam/event/lunchborrel-at-cafe-gilde-15
LOCATION:OT301 - Overtoom 301\, 1054 HW Amsterdam
STATUS:CONFIRMED
CATEGORIES:books,vondelparkbuurt,music,games,food,amsterdam-west
END:VEVENT
BEGIN:VEVENT
UID:20450@offbeat.amsterdam
SUMMARY:Salvo Asero performance
DTSTAMP:20260420T061658Z
DTSTART:20260508T170000Z
DTEND:20260508T190000Z
URL:https://offbeat.amsterdam/event/salvo-asero-performance
LOCATION:OT301 - Overtoom 301\, 1054 HW Amsterdam
STATUS:CONFIRMED
CATEGORIES:games,amsterdam-west,vondelparkbuurt,performance,jazz
END:VEVENT
BEGIN:VEVENT
UID:18201@offbeat.amsterdam
SUMMARY:Gang of Parrots & Friends
DTSTAMP:20260420T061658Z
DTSTART:20260509T170000Z
DTEND:20260509T210000Z
URL:https://offbeat.amsterdam/event/gang-of-parrots-and-friends-2
LOCATION:OT301 - Overtoom 301\, 1054 HW Amsterdam
STATUS:CONFIRMED
CATEGORIES:experimental,vondelparkbuurt,theater,amsterdam-west,improv,comed
	y
END:VEVENT
BEGIN:VEVENT
UID:19672@offbeat.amsterdam
SUMMARY:Anacalypto & Friends
DTSTAMP:20260420T061658Z
DTSTART:20260509T200000Z
DTEND:20260510T010000Z
URL:https://offbeat.amsterdam/event/anacalypto-and-friends-2
LOCATION:OT301 - Overtoom 301\, 1054 HW Amsterdam
STATUS:CONFIRMED
CATEGORIES:eclectic,dj,electronics,festivals,vondelparkbuurt,vinyl,techno,p
	erformance,music,house,amsterdam-west
END:VEVENT
BEGIN:VEVENT
UID:17418@offbeat.amsterdam
SUMMARY:Lunch at Café Gilde
DTSTAMP:20260420T061658Z
DTSTART:20260512T100000Z
DTEND:20260512T150000Z
URL:https://offbeat.amsterdam/event/mep-daylunch-at-cafe-gilde-1
LOCATION:OT301 - Overtoom 301\, 1054 HW Amsterdam
STATUS:CONFIRMED
CATEGORIES:games,food,amsterdam-west,books,music,vondelparkbuurt
END:VEVENT
BEGIN:VEVENT
UID:18578@offbeat.amsterdam
SUMMARY:Lunch at Café Gilde
DTSTAMP:20260420T061658Z
DTSTART:20260513T100000Z
DTEND:20260513T150000Z
URL:https://offbeat.amsterdam/event/lunch-at-cafe-gilde-30
LOCATION:OT301 - Overtoom 301\, 1054 HW Amsterdam
STATUS:CONFIRMED
CATEGORIES:vondelparkbuurt,food,games,music,amsterdam-west,books
END:VEVENT
BEGIN:VEVENT
UID:17409@offbeat.amsterdam
SUMMARY:Lunch at Café Gilde
DTSTAMP:20260420T061658Z
DTSTART:20260514T100000Z
DTEND:20260514T150000Z
URL:https://offbeat.amsterdam/event/lunch-at-cafe-gilde-15
LOCATION:OT301 - Overtoom 301\, 1054 HW Amsterdam
STATUS:CONFIRMED
CATEGORIES:amsterdam-west,books,food,games,music,vondelparkbuurt
END:VEVENT
BEGIN:VEVENT
UID:17414@offbeat.amsterdam
SUMMARY:Lunch at Café Gilde
DTSTAMP:20260420T061658Z
DTSTART:20260515T100000Z
DTEND:20260515T150000Z
URL:https://offbeat.amsterdam/event/lunchborrel-at-cafe-gilde-16
LOCATION:OT301 - Overtoom 301\, 1054 HW Amsterdam
STATUS:CONFIRMED
CATEGORIES:books,food,vondelparkbuurt,amsterdam-west,games,music
END:VEVENT
BEGIN:VEVENT
UID:20288@offbeat.amsterdam
SUMMARY:Kinetic Energy\, the Second Chapter
DTSTAMP:20260420T061658Z
DTSTART:20260516T200000Z
DTEND:20260517T010000Z
URL:https://offbeat.amsterdam/event/kinetic-energy-the-second-chapter
LOCATION:OT301 - Overtoom 301\, 1054 HW Amsterdam
STATUS:CONFIRMED
CATEGORIES:amsterdam-west,breakbeat,hardcore,happy hardcore,gabber,early ra
	ve,early hardcore,community,vondelparkbuurt,vinyl,rave,jungle
END:VEVENT
BEGIN:VEVENT
UID:17419@offbeat.amsterdam
SUMMARY:Lunch at Café Gilde
DTSTAMP:20260420T061658Z
DTSTART:20260519T100000Z
DTEND:20260519T150000Z
URL:https://offbeat.amsterdam/event/mep-daylunch-at-cafe-gilde-2
LOCATION:OT301 - Overtoom 301\, 1054 HW Amsterdam
STATUS:CONFIRMED
CATEGORIES:vondelparkbuurt,books,food,games,music,amsterdam-west
END:VEVENT
BEGIN:VEVENT
UID:18579@offbeat.amsterdam
SUMMARY:Lunch at Café Gilde
DTSTAMP:20260420T061658Z
DTSTART:20260520T100000Z
DTEND:20260520T150000Z
URL:https://offbeat.amsterdam/event/lunch-at-cafe-gilde-31
LOCATION:OT301 - Overtoom 301\, 1054 HW Amsterdam
STATUS:CONFIRMED
CATEGORIES:food,amsterdam-west,books,games,music,vondelparkbuurt
END:VEVENT
BEGIN:VEVENT
UID:17410@offbeat.amsterdam
SUMMARY:Lunch at Café Gilde
DTSTAMP:20260420T061658Z
DTSTART:20260521T100000Z
DTEND:20260521T150000Z
URL:https://offbeat.amsterdam/event/lunch-at-cafe-gilde-16
LOCATION:OT301 - Overtoom 301\, 1054 HW Amsterdam
STATUS:CONFIRMED
CATEGORIES:food,books,amsterdam-west,games,vondelparkbuurt,music
END:VEVENT
BEGIN:VEVENT
UID:17415@offbeat.amsterdam
SUMMARY:Lunch at Café Gilde
DTSTAMP:20260420T061658Z
DTSTART:20260522T100000Z
DTEND:20260522T150000Z
URL:https://offbeat.amsterdam/event/lunchborrel-at-cafe-gilde-17
LOCATION:OT301 - Overtoom 301\, 1054 HW Amsterdam
STATUS:CONFIRMED
CATEGORIES:music,amsterdam-west,books,food,vondelparkbuurt,games
END:VEVENT
BEGIN:VEVENT
UID:20624@offbeat.amsterdam
SUMMARY:Here come the Drumz
DTSTAMP:20260420T061658Z
DTSTART:20260522T200000Z
DTEND:20260523T010000Z
URL:https://offbeat.amsterdam/event/here-come-the-drumz-1
LOCATION:OT301 - Overtoom 301\, 1054 HW Amsterdam
STATUS:CONFIRMED
CATEGORIES:breakbeat,amsterdam-west,dance,hardcore,jungle,vondelparkbuurt
END:VEVENT
BEGIN:VEVENT
UID:17420@offbeat.amsterdam
SUMMARY:Lunch at Café Gilde
DTSTAMP:20260420T061658Z
DTSTART:20260526T100000Z
DTEND:20260526T150000Z
URL:https://offbeat.amsterdam/event/mep-daylunch-at-cafe-gilde-3
LOCATION:OT301 - Overtoom 301\, 1054 HW Amsterdam
STATUS:CONFIRMED
CATEGORIES:vondelparkbuurt,amsterdam-west,books,food,games,music
END:VEVENT
BEGIN:VEVENT
UID:18580@offbeat.amsterdam
SUMMARY:Lunch at Café Gilde
DTSTAMP:20260420T061658Z
DTSTART:20260527T100000Z
DTEND:20260527T150000Z
URL:https://offbeat.amsterdam/event/lunch-at-cafe-gilde-32
LOCATION:OT301 - Overtoom 301\, 1054 HW Amsterdam
STATUS:CONFIRMED
CATEGORIES:amsterdam-west,books,food,games,music,vondelparkbuurt
END:VEVENT
BEGIN:VEVENT
UID:18922@offbeat.amsterdam
SUMMARY:Singashore
DTSTAMP:20260420T061658Z
DTSTART:20260527T184500Z
DTEND:20260527T213000Z
URL:https://offbeat.amsterdam/event/singashore
LOCATION:OT301 - Overtoom 301\, 1054 HW Amsterdam
STATUS:CONFIRMED
CATEGORIES:vondelparkbuurt,amsterdam-west,choreography and dance,contempora
	ry performance art,dance,performance,plants
END:VEVENT
BEGIN:VEVENT
UID:17411@offbeat.amsterdam
SUMMARY:Lunch at Café Gilde
DTSTAMP:20260420T061658Z
DTSTART:20260528T100000Z
DTEND:20260528T150000Z
URL:https://offbeat.amsterdam/event/lunch-at-cafe-gilde-17
LOCATION:OT301 - Overtoom 301\, 1054 HW Amsterdam
STATUS:CONFIRMED
CATEGORIES:food,books,amsterdam-west,vondelparkbuurt,music,games
END:VEVENT
BEGIN:VEVENT
UID:17416@offbeat.amsterdam
SUMMARY:Lunch at Café Gilde
DTSTAMP:20260420T061658Z
DTSTART:20260529T100000Z
DTEND:20260529T150000Z
URL:https://offbeat.amsterdam/event/lunchborrel-at-cafe-gilde-18
LOCATION:OT301 - Overtoom 301\, 1054 HW Amsterdam
STATUS:CONFIRMED
CATEGORIES:books,food,games,amsterdam-west,music,vondelparkbuurt
END:VEVENT
BEGIN:VEVENT
UID:20666@offbeat.amsterdam
SUMMARY:Breakbeats For Breakfast
DTSTAMP:20260420T061658Z
DTSTART:20260530T200000Z
DTEND:20260531T010000Z
URL:https://offbeat.amsterdam/event/breakbeats-for-breakfast-1
LOCATION:OT301 - Overtoom 301\, 1054 HW Amsterdam
STATUS:CONFIRMED
CATEGORIES:amsterdam-west,jungle,music,vondelparkbuurt
END:VEVENT
BEGIN:VEVENT
UID:18796@offbeat.amsterdam
SUMMARY:Lunch at Café Gilde
DTSTAMP:20260420T061658Z
DTSTART:20260602T100000Z
DTEND:20260602T150000Z
URL:https://offbeat.amsterdam/event/lunch-at-cafe-gilde-37
LOCATION:OT301 - Overtoom 301\, 1054 HW Amsterdam
STATUS:CONFIRMED
CATEGORIES:vondelparkbuurt,amsterdam-west,books,food,games,music
END:VEVENT
BEGIN:VEVENT
UID:18805@offbeat.amsterdam
SUMMARY:Lunch at Café Gilde
DTSTAMP:20260420T061658Z
DTSTART:20260603T100000Z
DTEND:20260603T150000Z
URL:https://offbeat.amsterdam/event/lunch-at-cafe-gilde-46
LOCATION:OT301 - Overtoom 301\, 1054 HW Amsterdam
STATUS:CONFIRMED
CATEGORIES:games,food,music,vondelparkbuurt,books,amsterdam-west
END:VEVENT
BEGIN:VEVENT
UID:20864@offbeat.amsterdam
SUMMARY:16mm Cult Movie Night
DTSTAMP:20260420T061658Z
DTSTART:20260603T173000Z
DTEND:20260603T210000Z
URL:https://offbeat.amsterdam/event/16mm-cult-movie-night-3
LOCATION:OT301 - Overtoom 301\, 1054 HW Amsterdam
STATUS:CONFIRMED
CATEGORIES:movie night,film,amsterdam-west,vondelparkbuurt,spaghetti wester
	n
END:VEVENT
BEGIN:VEVENT
UID:18801@offbeat.amsterdam
SUMMARY:Lunch at Café Gilde
DTSTAMP:20260420T061658Z
DTSTART:20260604T100000Z
DTEND:20260604T150000Z
URL:https://offbeat.amsterdam/event/lunch-at-cafe-gilde-42
LOCATION:OT301 - Overtoom 301\, 1054 HW Amsterdam
STATUS:CONFIRMED
CATEGORIES:games,vondelparkbuurt,music,food,books,amsterdam-west
END:VEVENT
BEGIN:VEVENT
UID:18792@offbeat.amsterdam
SUMMARY:Lunch at Café Gilde
DTSTAMP:20260420T061658Z
DTSTART:20260605T100000Z
DTEND:20260605T150000Z
URL:https://offbeat.amsterdam/event/lunch-at-cafe-gilde-33
LOCATION:OT301 - Overtoom 301\, 1054 HW Amsterdam
STATUS:CONFIRMED
CATEGORIES:vondelparkbuurt,food,games,music,amsterdam-west,books
END:VEVENT
BEGIN:VEVENT
UID:20465@offbeat.amsterdam
SUMMARY:Graveyard
DTSTAMP:20260420T061658Z
DTSTART:20260606T200000Z
DTEND:20260607T010000Z
URL:https://offbeat.amsterdam/event/graveyard-3
LOCATION:OT301 - Overtoom 301\, 1054 HW Amsterdam
STATUS:CONFIRMED
CATEGORIES:metal,music,noise,techno,vondelparkbuurt,dj,ebm,electro,experime
	ntal,hardcore,industrial,amsterdam-west,deconstructed club
END:VEVENT
BEGIN:VEVENT
UID:18797@offbeat.amsterdam
SUMMARY:Lunch at Café Gilde
DTSTAMP:20260420T061658Z
DTSTART:20260609T100000Z
DTEND:20260609T150000Z
URL:https://offbeat.amsterdam/event/lunch-at-cafe-gilde-38
LOCATION:OT301 - Overtoom 301\, 1054 HW Amsterdam
STATUS:CONFIRMED
CATEGORIES:games,amsterdam-west,books,food,music,vondelparkbuurt
END:VEVENT
BEGIN:VEVENT
UID:18806@offbeat.amsterdam
SUMMARY:Lunch at Café Gilde
DTSTAMP:20260420T061658Z
DTSTART:20260610T100000Z
DTEND:20260610T150000Z
URL:https://offbeat.amsterdam/event/lunch-at-cafe-gilde-47
LOCATION:OT301 - Overtoom 301\, 1054 HW Amsterdam
STATUS:CONFIRMED
CATEGORIES:music,amsterdam-west,books,food,games,vondelparkbuurt
END:VEVENT
BEGIN:VEVENT
UID:18802@offbeat.amsterdam
SUMMARY:Lunch at Café Gilde
DTSTAMP:20260420T061658Z
DTSTART:20260611T100000Z
DTEND:20260611T150000Z
URL:https://offbeat.amsterdam/event/lunch-at-cafe-gilde-43
LOCATION:OT301 - Overtoom 301\, 1054 HW Amsterdam
STATUS:CONFIRMED
CATEGORIES:amsterdam-west,games,music,vondelparkbuurt,food,books
END:VEVENT
BEGIN:VEVENT
UID:18793@offbeat.amsterdam
SUMMARY:Lunch at Café Gilde
DTSTAMP:20260420T061658Z
DTSTART:20260612T100000Z
DTEND:20260612T150000Z
URL:https://offbeat.amsterdam/event/lunch-at-cafe-gilde-34
LOCATION:OT301 - Overtoom 301\, 1054 HW Amsterdam
STATUS:CONFIRMED
CATEGORIES:vondelparkbuurt,books,food,games,music,amsterdam-west
END:VEVENT
BEGIN:VEVENT
UID:20011@offbeat.amsterdam
SUMMARY:MASSIEF
DTSTAMP:20260420T061658Z
DTSTART:20260613T190000Z
DTEND:20260614T010000Z
URL:https://offbeat.amsterdam/event/massief
LOCATION:OT301 - Overtoom 301\, 1054 HW Amsterdam
STATUS:CONFIRMED
CATEGORIES:festivals,vondelparkbuurt,vinyl,techno,talk,rave,party,music,jun
	gle,hardcore,experimental,exhibition,electronics,electronic,dubstep,drum &
	 bass,dnb,dj,dance,community,breakbeat,bass,amsterdam-west
END:VEVENT
BEGIN:VEVENT
UID:18798@offbeat.amsterdam
SUMMARY:Lunch at Café Gilde
DTSTAMP:20260420T061658Z
DTSTART:20260616T100000Z
DTEND:20260616T150000Z
URL:https://offbeat.amsterdam/event/lunch-at-cafe-gilde-39
LOCATION:OT301 - Overtoom 301\, 1054 HW Amsterdam
STATUS:CONFIRMED
CATEGORIES:books,food,vondelparkbuurt,music,games,amsterdam-west
END:VEVENT
BEGIN:VEVENT
UID:18808@offbeat.amsterdam
SUMMARY:Lunch at Café Gilde
DTSTAMP:20260420T061658Z
DTSTART:20260617T100000Z
DTEND:20260617T150000Z
URL:https://offbeat.amsterdam/event/lunch-at-cafe-gilde-49
LOCATION:OT301 - Overtoom 301\, 1054 HW Amsterdam
STATUS:CONFIRMED
CATEGORIES:vondelparkbuurt,amsterdam-west,books,food,games,music
END:VEVENT
BEGIN:VEVENT
UID:18803@offbeat.amsterdam
SUMMARY:Lunch at Café Gilde
DTSTAMP:20260420T061658Z
DTSTART:20260618T100000Z
DTEND:20260618T150000Z
URL:https://offbeat.amsterdam/event/lunch-at-cafe-gilde-44
LOCATION:OT301 - Overtoom 301\, 1054 HW Amsterdam
STATUS:CONFIRMED
CATEGORIES:games,music,amsterdam-west,books,food,vondelparkbuurt
END:VEVENT
BEGIN:VEVENT
UID:18794@offbeat.amsterdam
SUMMARY:Lunch at Café Gilde
DTSTAMP:20260420T061658Z
DTSTART:20260619T100000Z
DTEND:20260619T150000Z
URL:https://offbeat.amsterdam/event/lunch-at-cafe-gilde-35
LOCATION:OT301 - Overtoom 301\, 1054 HW Amsterdam
STATUS:CONFIRMED
CATEGORIES:games,books,amsterdam-west,food,vondelparkbuurt,music
END:VEVENT
BEGIN:VEVENT
UID:20466@offbeat.amsterdam
SUMMARY:Life Drawing Weekend Intensive
DTSTAMP:20260420T061658Z
DTSTART:20260619T160000Z
DTEND:20260619T190000Z
URL:https://offbeat.amsterdam/event/life-drawing-weekend-intensive-7
LOCATION:OT301 - Overtoom 301\, 1054 HW Amsterdam
STATUS:CONFIRMED
CATEGORIES:classes,weekend intensives,amsterdam-west,live,vondelparkbuurt
END:VEVENT
BEGIN:VEVENT
UID:20467@offbeat.amsterdam
SUMMARY:Life Drawing Weekend Intensive
DTSTAMP:20260420T061658Z
DTSTART:20260620T140000Z
DTEND:20260620T170000Z
URL:https://offbeat.amsterdam/event/life-drawing-weekend-intensive-8
LOCATION:OT301 - Overtoom 301\, 1054 HW Amsterdam
STATUS:CONFIRMED
CATEGORIES:weekend intensives,live,classes,amsterdam-west,vondelparkbuurt
END:VEVENT
BEGIN:VEVENT
UID:20468@offbeat.amsterdam
SUMMARY:Life Drawing Weekend Intensive
DTSTAMP:20260420T061658Z
DTSTART:20260621T140000Z
DTEND:20260621T170000Z
URL:https://offbeat.amsterdam/event/life-drawing-weekend-intensive-9
LOCATION:OT301 - Overtoom 301\, 1054 HW Amsterdam
STATUS:CONFIRMED
CATEGORIES:vondelparkbuurt,amsterdam-west,classes,weekend intensives,live
END:VEVENT
BEGIN:VEVENT
UID:20469@offbeat.amsterdam
SUMMARY:Life Drawing Weekend Intensive
DTSTAMP:20260420T061658Z
DTSTART:20260622T160000Z
DTEND:20260622T190000Z
URL:https://offbeat.amsterdam/event/life-drawing-weekend-intensive-10
LOCATION:OT301 - Overtoom 301\, 1054 HW Amsterdam
STATUS:CONFIRMED
CATEGORIES:amsterdam-west,classes,live,weekend intensives,vondelparkbuurt
END:VEVENT
BEGIN:VEVENT
UID:18799@offbeat.amsterdam
SUMMARY:Lunch at Café Gilde
DTSTAMP:20260420T061658Z
DTSTART:20260623T100000Z
DTEND:20260623T150000Z
URL:https://offbeat.amsterdam/event/lunch-at-cafe-gilde-40
LOCATION:OT301 - Overtoom 301\, 1054 HW Amsterdam
STATUS:CONFIRMED
CATEGORIES:books,vondelparkbuurt,music,games,food,amsterdam-west
END:VEVENT
BEGIN:VEVENT
UID:18807@offbeat.amsterdam
SUMMARY:Lunch at Café Gilde
DTSTAMP:20260420T061658Z
DTSTART:20260624T100000Z
DTEND:20260624T150000Z
URL:https://offbeat.amsterdam/event/lunch-at-cafe-gilde-48
LOCATION:OT301 - Overtoom 301\, 1054 HW Amsterdam
STATUS:CONFIRMED
CATEGORIES:games,music,vondelparkbuurt,books,food,amsterdam-west
END:VEVENT
BEGIN:VEVENT
UID:18804@offbeat.amsterdam
SUMMARY:Lunch at Café Gilde
DTSTAMP:20260420T061658Z
DTSTART:20260625T100000Z
DTEND:20260625T150000Z
URL:https://offbeat.amsterdam/event/lunch-at-cafe-gilde-45
LOCATION:OT301 - Overtoom 301\, 1054 HW Amsterdam
STATUS:CONFIRMED
CATEGORIES:food,amsterdam-west,vondelparkbuurt,music,games,books
END:VEVENT
BEGIN:VEVENT
UID:18795@offbeat.amsterdam
SUMMARY:Lunch at Café Gilde
DTSTAMP:20260420T061658Z
DTSTART:20260626T100000Z
DTEND:20260626T150000Z
URL:https://offbeat.amsterdam/event/lunch-at-cafe-gilde-36
LOCATION:OT301 - Overtoom 301\, 1054 HW Amsterdam
STATUS:CONFIRMED
CATEGORIES:vondelparkbuurt,music,amsterdam-west,books,food,games
END:VEVENT
BEGIN:VEVENT
UID:18800@offbeat.amsterdam
SUMMARY:Lunch at Café Gilde
DTSTAMP:20260420T061658Z
DTSTART:20260630T100000Z
DTEND:20260630T150000Z
URL:https://offbeat.amsterdam/event/lunch-at-cafe-gilde-41
LOCATION:OT301 - Overtoom 301\, 1054 HW Amsterdam
STATUS:CONFIRMED
CATEGORIES:vondelparkbuurt,amsterdam-west,books,food,games,music
END:VEVENT
BEGIN:VEVENT
UID:20865@offbeat.amsterdam
SUMMARY:16mm Cult Movie Night
DTSTAMP:20260420T061658Z
DTSTART:20260702T173000Z
DTEND:20260702T210000Z
URL:https://offbeat.amsterdam/event/16mm-cult-movie-night-4
LOCATION:OT301 - Overtoom 301\, 1054 HW Amsterdam
STATUS:CONFIRMED
CATEGORIES:amsterdam-west,film,vondelparkbuurt,theater,talk,movie night,jun
	gle
END:VEVENT
END:VCALENDAR
