BEGIN:VCALENDAR
VERSION:2.0
CALSCALE:GREGORIAN
PRODID:adamgibbons/ics
METHOD:PUBLISH
X-PUBLISHED-TTL:PT1H
BEGIN:VEVENT
UID:20427@offbeat.amsterdam
SUMMARY:Jazzy Thursdays: Ilay Shachal Quartet
DTSTAMP:20260420T045603Z
DTSTART:20260423T190000Z
DTEND:20260423T220000Z
URL:https://offbeat.amsterdam/event/jazzy-thursdays-ilay-shachal-quartet
LOCATION:Contra - Oudezijds Achterburgwal 235\, 1012 DL Amsterdam
STATUS:CONFIRMED
CATEGORIES:amsterdam-centrum,music,jazz,burgwallen
END:VEVENT
BEGIN:VEVENT
UID:20425@offbeat.amsterdam
SUMMARY:Contra x JAÏNDA
DTSTAMP:20260420T045603Z
DTSTART:20260425T200000Z
DTEND:20260425T230000Z
URL:https://offbeat.amsterdam/event/contra-x-jainda
LOCATION:Contra - Oudezijds Achterburgwal 235\, 1012 DL Amsterdam
STATUS:CONFIRMED
CATEGORIES:music,jazz,burgwallen,amsterdam-centrum,soul,rnb
END:VEVENT
BEGIN:VEVENT
UID:20353@offbeat.amsterdam
SUMMARY:KINGSNIGHT x Partido do Samba
DTSTAMP:20260420T045603Z
DTSTART:20260426T210000Z
DTEND:20260427T000000Z
URL:https://offbeat.amsterdam/event/kingsnight-x-partido-do-samba
LOCATION:Contra - Oudezijds Achterburgwal 235\, 1012 DL Amsterdam
STATUS:CONFIRMED
CATEGORIES:jazz,music,party,performance,amsterdam-centrum,burgwallen
END:VEVENT
BEGIN:VEVENT
UID:20223@offbeat.amsterdam
SUMMARY:Jazz on Wednesday: Olivier Frere Group
DTSTAMP:20260420T045603Z
DTSTART:20260429T170000Z
DTEND:20260429T200000Z
URL:https://offbeat.amsterdam/event/jazz-on-wednesday-olivier-frere-group
LOCATION:Contra - Oudezijds Achterburgwal 235\, 1012 DL Amsterdam
STATUS:CONFIRMED
CATEGORIES:live,performance,piano,soul,amsterdam-centrum,burgwallen,jazz,mu
	sic
END:VEVENT
BEGIN:VEVENT
UID:20846@offbeat.amsterdam
SUMMARY:Saturday Live Jazz x Julián Garvayo Sextet
DTSTAMP:20260420T045603Z
DTSTART:20260523T210000Z
DTEND:20260523T230000Z
URL:https://offbeat.amsterdam/event/saturday-live-jazz-x-julian-garvayo-sex
	tet
LOCATION:Contra - Oudezijds Achterburgwal 235\, 1012 DL Amsterdam
STATUS:CONFIRMED
CATEGORIES:burgwallen,amsterdam-centrum,afro,music,live,jazz
END:VEVENT
BEGIN:VEVENT
UID:20316@offbeat.amsterdam
SUMMARY:Contra invites: Georgia Cécile
DTSTAMP:20260420T045603Z
DTSTART:20260527T180000Z
DTEND:20260527T210000Z
URL:https://offbeat.amsterdam/event/contra-invites-georgia-cecile
LOCATION:Contra - Oudezijds Achterburgwal 235\, 1012 DL Amsterdam
STATUS:CONFIRMED
CATEGORIES:jazz,live,music,soul,orchestra,storytelling,concert,burgwallen,b
	lues,amsterdam-centrum
END:VEVENT
BEGIN:VEVENT
UID:20249@offbeat.amsterdam
SUMMARY:Red Light Jazz: afternoon concert with the Martin Diaz Quartet
DTSTAMP:20260420T045603Z
DTSTART:20260605T150000Z
DTEND:20260605T170000Z
URL:https://offbeat.amsterdam/event/red-light-jazz-afternoon-concert-with-t
	he-martin-diaz-quartet
LOCATION:Contra - Oudezijds Achterburgwal 235\, 1012 DL Amsterdam
STATUS:CONFIRMED
CATEGORIES:music,amsterdam-centrum,burgwallen,concert,jazz
END:VEVENT
BEGIN:VEVENT
UID:20253@offbeat.amsterdam
SUMMARY:Red Light Jazz: dinner concert with ZaZoo
DTSTAMP:20260420T045603Z
DTSTART:20260605T180000Z
DTEND:20260605T200000Z
URL:https://offbeat.amsterdam/event/red-light-jazz-dinner-concert-with-zazo
	o
LOCATION:Contra - Oudezijds Achterburgwal 235\, 1012 DL Amsterdam
STATUS:CONFIRMED
CATEGORIES:blues,jazz,electronics,dinner,concert,burgwallen,amsterdam-centr
	um,music,live
END:VEVENT
BEGIN:VEVENT
UID:20247@offbeat.amsterdam
SUMMARY:Friday Night Live: Red Light Edition
DTSTAMP:20260420T045603Z
DTSTART:20260605T203000Z
DTEND:20260606T000000Z
URL:https://offbeat.amsterdam/event/friday-night-live-red-light-edition
LOCATION:Contra - Oudezijds Achterburgwal 235\, 1012 DL Amsterdam
STATUS:CONFIRMED
CATEGORIES:amsterdam-centrum,burgwallen,jam session,jazz,live,rnb
END:VEVENT
BEGIN:VEVENT
UID:20250@offbeat.amsterdam
SUMMARY:Red Light Jazz: afternoon concert with the Søren Høst Quartet
DTSTAMP:20260420T045603Z
DTSTART:20260606T130000Z
DTEND:20260606T150000Z
URL:https://offbeat.amsterdam/event/red-light-jazz-afternoon-concert-with-t
	he-soren-host-quartet
LOCATION:Contra - Oudezijds Achterburgwal 235\, 1012 DL Amsterdam
STATUS:CONFIRMED
CATEGORIES:concert,soul,music,jazz,burgwallen,blues,amsterdam-centrum
END:VEVENT
BEGIN:VEVENT
UID:20252@offbeat.amsterdam
SUMMARY:Red Light Jazz: dinner concert with Lingela
DTSTAMP:20260420T045603Z
DTSTART:20260606T180000Z
DTEND:20260606T200000Z
URL:https://offbeat.amsterdam/event/red-light-jazz-dinner-concert-with-ling
	ela
LOCATION:Contra - Oudezijds Achterburgwal 235\, 1012 DL Amsterdam
STATUS:CONFIRMED
CATEGORIES:burgwallen,concert,dinner,jazz,live,music,blues,amsterdam-centru
	m
END:VEVENT
BEGIN:VEVENT
UID:20254@offbeat.amsterdam
SUMMARY:Red Light Jazz: late night concert with Chocos
DTSTAMP:20260420T045603Z
DTSTART:20260606T210000Z
DTEND:20260606T230000Z
URL:https://offbeat.amsterdam/event/red-light-jazz-late-night-concert-with-
	chocos
LOCATION:Contra - Oudezijds Achterburgwal 235\, 1012 DL Amsterdam
STATUS:CONFIRMED
CATEGORIES:indie,rock,music,jazz,concert,burgwallen,amsterdam-centrum
END:VEVENT
BEGIN:VEVENT
UID:20248@offbeat.amsterdam
SUMMARY:Red Light Jazz: afternoon concert with Avishai Darash Trio
DTSTAMP:20260420T045603Z
DTSTART:20260607T130000Z
DTEND:20260607T150000Z
URL:https://offbeat.amsterdam/event/red-light-jazz-afternoon-concert-with-a
	vishai-darash-trio
LOCATION:Contra - Oudezijds Achterburgwal 235\, 1012 DL Amsterdam
STATUS:CONFIRMED
CATEGORIES:concert,burgwallen,festivals,jazz,amsterdam-centrum
END:VEVENT
BEGIN:VEVENT
UID:20251@offbeat.amsterdam
SUMMARY:Red Light Jazz: dinner concert with Bout du Monde
DTSTAMP:20260420T045603Z
DTSTART:20260607T180000Z
DTEND:20260607T200000Z
URL:https://offbeat.amsterdam/event/red-light-jazz-dinner-concert-with-bout
	-du-monde
LOCATION:Contra - Oudezijds Achterburgwal 235\, 1012 DL Amsterdam
STATUS:CONFIRMED
CATEGORIES:dinner,burgwallen,blues,amsterdam-centrum,piano,orchestra,jazz,l
	ive,music,concert
END:VEVENT
BEGIN:VEVENT
UID:20255@offbeat.amsterdam
SUMMARY:Red Light Jazz: late night concert with the Christopher Pérez Quint
	et
DTSTAMP:20260420T045603Z
DTSTART:20260607T210000Z
DTEND:20260607T230000Z
URL:https://offbeat.amsterdam/event/red-light-jazz-late-night-concert-with-
	the-christopher-perez-quintet
LOCATION:Contra - Oudezijds Achterburgwal 235\, 1012 DL Amsterdam
STATUS:CONFIRMED
CATEGORIES:burgwallen,concert,jazz,amsterdam-centrum,performance
END:VEVENT
END:VCALENDAR
