BEGIN:VCALENDAR
VERSION:2.0
CALSCALE:GREGORIAN
PRODID:adamgibbons/ics
METHOD:PUBLISH
X-PUBLISHED-TTL:PT1H
BEGIN:VEVENT
UID:21065@offbeat.amsterdam
SUMMARY:WU LYF
DTSTAMP:20260421T192038Z
DTSTART:20261011T183000Z
DESCRIPTION:WU LYF (World Unite Lucifer Youth Foundation) is een mysterieuz
	e indieband uit\nManchester die rond 2010 snel cultstatus bereikte dankzij
	 hun rauwe\, lo-fi\ngeluid en anonieme imago. Hun debuutalbum 'Go Tell Fir
	e to the Mountain' (2011)\ncombineert echoënde zang\, minimalistische prod
	uctie en een bijna spirituele\nintensiteit\, wat hen onderscheidde binnen 
	de alternatieve muziekscene. Ondanks\nhun groeiende populariteit en intrig
	erende esthetiek ging de band al in 2012\nonverwacht uit elkaar\, wat hun 
	mythische reputatie alleen maar versterkte. Nu is\nde groep terug\, met hu
	n tweede album 'A Wave That Will Never Break\n[https://www.worldunite.org/
	catalogue/a-wave-that-will-never-break/]'.
URL:https://offbeat.amsterdam/event/wu-lyf
GEO:52.3830883;4.9030297
LOCATION:Tolhuistuin - IJpromenade 2\, 1031 KT Amsterdam
STATUS:CONFIRMED
CATEGORIES:amsterdam-noord,buiksloterweg
X-ALT-DESC;FMTTYPE=text/html:<p>WU LYF (World Unite Lucifer Youth Foundatio
	n) is een mysterieuze indieband uit Manchester die rond 2010 snel cultstat
	us bereikte dankzij hun rauwe, lo-fi geluid en anonieme imago. Hun debuuta
	lbum 'Go Tell Fire to the Mountain' (2011) combineert echoënde zang, minim
	alistische productie en een bijna spirituele intensiteit, wat hen ondersch
	eidde binnen de alternatieve muziekscene. Ondanks hun groeiende popularite
	it en intrigerende esthetiek ging de band al in 2012 onverwacht uit elkaar
	, wat hun mythische reputatie alleen maar versterkte. Nu is de groep terug
	, met hun tweede album '<a target="_blank" href="https://www.worldunite.or
	g/catalogue/a-wave-that-will-never-break/">A Wave That Will Never Break</a
	>'. </p>
BEGIN:VALARM
ACTION:DISPLAY
DESCRIPTION:WU LYF
TRIGGER:-PT1H
END:VALARM
END:VEVENT
END:VCALENDAR
