BEGIN:VCALENDAR
VERSION:2.0
CALSCALE:GREGORIAN
PRODID:adamgibbons/ics
METHOD:PUBLISH
X-PUBLISHED-TTL:PT1H
BEGIN:VEVENT
UID:21037@offbeat.amsterdam
SUMMARY:🎬 WTO/99 (2025)
DTSTAMP:20260421T183315Z
DTSTART:20260509T183000Z
DESCRIPTION:Ian Bell | 2025 | USA | 102’ | English\, EN subtitles\n\nAn imm
	ersive archival documentary that depicts the four-day clash between the\nt
	hen-emerging World Trade Organization (WTO) and the 40\,000+ people who to
	ok to\nthe streets of Seattle in 1999 to protest the WTO Conference and th
	e WTO’s\nimpact on human rights\, labor\, and the future effects of contin
	ued\nglobalization.\n 
URL:https://offbeat.amsterdam/event/wto99-2025
GEO:52.381974;4.8703107
LOCATION:Filmhuis Cavia - Van Hallstraat 52-1\, 1051 HH Amsterdam
STATUS:CONFIRMED
CATEGORIES:amsterdam-west,documentary,film,staatsliedenbuurt
X-ALT-DESC;FMTTYPE=text/html:<p><strong>Ian Bell | 2025 | USA | 102’ | Engl
	ish, EN subtitles</strong><br><br>An immersive archival documentary that d
	epicts the four-day clash between the then-emerging World Trade Organizati
	on (WTO) and the 40,000+ people who took to the streets of Seattle in 1999
	 to protest the WTO Conference and the WTO’s impact on human rights, labor
	, and the future effects of continued globalization.<br>&nbsp;</p>
BEGIN:VALARM
ACTION:DISPLAY
DESCRIPTION:🎬 WTO/99 (2025)
TRIGGER:-PT1H
END:VALARM
END:VEVENT
END:VCALENDAR
