BEGIN:VCALENDAR
VERSION:2.0
CALSCALE:GREGORIAN
PRODID:adamgibbons/ics
METHOD:PUBLISH
X-PUBLISHED-TTL:PT1H
BEGIN:VEVENT
UID:21283@offbeat.amsterdam
SUMMARY:WTF Queer Wednesday NO VOKU/ WTF Q MTG
DTSTAMP:20260425T181933Z
DTSTART:20260805T190000Z
DTEND:20260805T230000Z
DESCRIPTION:OPEN AT 9PM /No Voku Today/ WTF Q monthly mtg at 7pm/ all queer
	s welcome
URL:https://offbeat.amsterdam/event/wtf-queer-wednesday-no-voku-wtf-q-mtg-1
	8
GEO:52.3716913;4.8892221
LOCATION:Vrankrijk - Spuistraat 216\, 1012 VT Amsterdam
STATUS:CONFIRMED
CATEGORIES:amsterdam-centrum,queer,social,spui,voku
X-ALT-DESC;FMTTYPE=text/html:<p>OPEN AT 9PM /No Voku Today/ WTF Q monthly m
	tg at 7pm/ all queers welcome</p>
BEGIN:VALARM
ACTION:DISPLAY
DESCRIPTION:WTF Queer Wednesday NO VOKU/ WTF Q MTG
TRIGGER:-PT1H
END:VALARM
END:VEVENT
END:VCALENDAR
