BEGIN:VCALENDAR
VERSION:2.0
CALSCALE:GREGORIAN
PRODID:adamgibbons/ics
METHOD:PUBLISH
X-PUBLISHED-TTL:PT1H
BEGIN:VEVENT
UID:21275@offbeat.amsterdam
SUMMARY:WTF Queer Wednesday
DTSTAMP:20260425T175950Z
DTSTART:20260617T173000Z
DTEND:20260617T220000Z
DESCRIPTION:Vegan Food at 7 30pm. WTF Queer is a DIY Space for the Communit
	y
URL:https://offbeat.amsterdam/event/wtf-queer-wednesday-47
GEO:52.3716913;4.8892221
LOCATION:Vrankrijk - Spuistraat 216\, 1012 VT Amsterdam
STATUS:CONFIRMED
CATEGORIES:amsterdam-centrum,community,food,queer,social,spui,vegan,voku
X-ALT-DESC;FMTTYPE=text/html:<p>Vegan Food at 7 30pm. WTF Queer is a DIY Sp
	ace for the Community</p>
BEGIN:VALARM
ACTION:DISPLAY
DESCRIPTION:WTF Queer Wednesday
TRIGGER:-PT1H
END:VALARM
END:VEVENT
END:VCALENDAR
