BEGIN:VCALENDAR
VERSION:2.0
CALSCALE:GREGORIAN
PRODID:adamgibbons/ics
METHOD:PUBLISH
X-PUBLISHED-TTL:PT1H
BEGIN:VEVENT
UID:21213@offbeat.amsterdam
SUMMARY:Workshop: make your DIY pirate flag
DTSTAMP:20260425T180016Z
DTSTART:20260513T160000Z
DESCRIPTION:Since June 2005\, Joe's Garage is an autonomous squatted politi
	cal social center\,\na meeting place in the Transvaal neighborhood for squ
	atters and non-squatters\,\nsubsidy free\, not for profit\, self-organized
	 and entirely run by volunteers.\n\nhttps://squ.at/joe [https://squ.at/joe
	]\nhttps://joe.squat.net [https://joe.squat.net]
URL:https://offbeat.amsterdam/event/workshop-make-your-diy-pirate-flag
GEO:52.35556625;4.9249982
LOCATION:Joe's Garage - Pretoriusstraat 43\, 1092 EZ Amsterdam
STATUS:CONFIRMED
CATEGORIES:amsterdam-oost,course/workshop,transvaalbuurt,workshop
X-ALT-DESC;FMTTYPE=text/html:<p>Since June 2005, Joe's Garage is an autonom
	ous squatted political social center, a meeting place in the Transvaal nei
	ghborhood for squatters and non-squatters, subsidy free, not for profit, s
	elf-organized and entirely run by volunteers.</p><br><p><a href="https://s
	qu.at/joe">https://squ.at/joe</a><br><a href="https://joe.squat.net">https
	://joe.squat.net</a></p>
BEGIN:VALARM
ACTION:DISPLAY
DESCRIPTION:Workshop: make your DIY pirate flag
TRIGGER:-PT1H
END:VALARM
END:VEVENT
END:VCALENDAR
