BEGIN:VCALENDAR
VERSION:2.0
CALSCALE:GREGORIAN
PRODID:adamgibbons/ics
METHOD:PUBLISH
X-PUBLISHED-TTL:PT1H
BEGIN:VEVENT
UID:20971@offbeat.amsterdam
SUMMARY:Witte Gei’t? en Timm Knipt!
DTSTAMP:20260420T180704Z
DTSTART:20260602T183000Z
DESCRIPTION:Witte Geit: A peaceful Mind...!?\n\nElke dinsdag korte akoestis
	che acts op ons kleine podium! Vanaf zes uur kan er\ngegeten worden bij Ro
	bin Food [https://robinfoodkollektief.nl/]. Entree is\ngratis maar een don
	atie voor de spelende artiesten wordt gewaardeerd! — Every\nTuesday\, shor
	t acoustic acts on our small stage. Tonight\, restaurant Robin Food\n[http
	://www.robinfoodkollektief.nl/] is open from 6. Entry is free but a\ndonat
	ion for preforming artists is appreciated!\n\nTimm Knipt! Vanavond hebben 
	we een in-house kapper\, Timm! De schade is een\ndonatie vanaf 40\,- en je
	 kan een afspraak bij hem boeken op 3 verschillende\nmanieren: Via de tele
	foon: +31 640058346\, Instagram\n[https://www.instagram.com/bytimmofficial
	/] of e-mail [bytimm@hotmail.com].
URL:https://offbeat.amsterdam/event/witte-geit-en-timm-knipt
GEO:52.374158;4.8726931
LOCATION:De Nieuwe Anita - Frederik Hendrikstraat 111\, 1052 HN Amsterdam
STATUS:CONFIRMED
CATEGORIES:acoustic act,amsterdam-west,food,westerpark
X-ALT-DESC;FMTTYPE=text/html:<p><strong>Witte Geit: A peaceful Mind...!?</s
	trong></p>                                                         Elke di
	nsdag korte akoestische acts op ons kleine podium! Vanaf zes uur kan er ge
	geten worden bij <a target="_blank" href="https://robinfoodkollektief.nl/"
	>Robin Food</a>.  Entree is gratis maar een donatie voor de spelende artie
	sten wordt gewaardeerd!  — Every Tuesday, short acoustic acts on our small
	 stage. Tonight, restaurant <a target="_blank" href="http://www.robinfoodk
	ollektief.nl/">Robin Food</a> is open from 6.       Entry is free but a do
	nation for preforming artists is appreciated!                             
	                      <p><strong>Timm Knipt! </strong>Vanavond hebben we e
	en in-house kapper, <strong>Timm</strong>! De schade is een donatie vanaf 
	40,- en je kan een afspraak bij hem boeken op 3 verschillende manieren: Vi
	a de telefoon: +31 640058346, <a target="_blank" href="https://www.instagr
	am.com/bytimmofficial/">Instagram</a> of <a target="_blank" href="mailto:b
	ytimm@hotmail.com">e-mail</a>.</p>
BEGIN:VALARM
ACTION:DISPLAY
DESCRIPTION:Witte Gei’t? en Timm Knipt!
TRIGGER:-PT1H
END:VALARM
END:VEVENT
END:VCALENDAR
