BEGIN:VCALENDAR
VERSION:2.0
CALSCALE:GREGORIAN
PRODID:adamgibbons/ics
METHOD:PUBLISH
X-PUBLISHED-TTL:PT1H
BEGIN:VEVENT
UID:20996@offbeat.amsterdam
SUMMARY:Wasteless Wednesday – dinner by TBYW
DTSTAMP:20260420T193016Z
DTSTART:20260527T163000Z
DTEND:20260527T190000Z
DESCRIPTION:WITH SURPLUS FOOD FROM OUR PARTNER GROCERY SHOPS IN THE JAVASTR
	AAT\, THAT WOULD\nHAVE GONE FOR WASTE\, OUR PROFESSIONAL COOKS AND FOOD AM
	BASSADORS PRESENT THE\nMOST ENVIRONMENTALLY CONSCIOUS\, HEALTHY\, DELICIOU
	S\, VEGAN CHOICE FOR YOUR GET\nTOGETHER WITH FRIENDS AND THE NEIGHBOURHOOD
	.\n\nIN SALVAGING FOOD AND USING IT FOR OUR DINNERS WE REDUCE FOOD WASTE\,
	 BUT WE ALSO\nTAKE THE OPPORTUNITY TO SHARE OUR STORY WITH YOU AND SHOW YO
	U CREATIVE WAYS TO\nDEAL WITH YOUR (IMPERFECT) PRODUCE\, HOPEFULLY INSPIRI
	NG YOU TO IMPLEMENT A LESS\nWASTEFUL BEHAVIOUR AT HOME.\n\nFIRST-COME FIRS
	T-SERVED BASIS
URL:https://offbeat.amsterdam/event/wasteless-wednesday-dinner-by-tbyw-12
GEO:52.368298;4.911167641156702
LOCATION:Plantage Dok - Plantage Doklaan 8-12\, 1018 CM
STATUS:CONFIRMED
CATEGORIES:amsterdam-centrum,dinner,food,plantage,stories,vegan
X-ALT-DESC;FMTTYPE=text/html:<h4>With surplus food from our partner grocery
	 shops in the Javastraat, that would have gone for waste, our professional
	 cooks and food ambassadors present the most environmentally conscious, he
	althy, delicious, vegan choice for your get together with friends and the 
	neighbourhood.</h4><h4>In salvaging food and using it for our dinners we r
	educe food waste, but we also take the opportunity to share our story with
	 you and show you creative ways to deal with your (imperfect) produce, hop
	efully inspiring you to implement a less wasteful behaviour at home.</h4><
	h4>First-come first-served basis</h4>
BEGIN:VALARM
ACTION:DISPLAY
DESCRIPTION:Wasteless Wednesday – dinner by TBYW
TRIGGER:-PT1H
END:VALARM
END:VEVENT
END:VCALENDAR
