BEGIN:VCALENDAR
VERSION:2.0
CALSCALE:GREGORIAN
PRODID:adamgibbons/ics
METHOD:PUBLISH
X-PUBLISHED-TTL:PT1H
BEGIN:VEVENT
UID:21056@offbeat.amsterdam
SUMMARY:Wabi Sabi x Piuma w/ Sarah Wreath • Bas Dobbelaer • Human Space Mac
	hine • Jorge Fons • Sean Fasano
DTSTAMP:20260421T184016Z
DTSTART:20260503T130000Z
DTEND:20260503T210000Z
DESCRIPTION:21+
URL:https://offbeat.amsterdam/event/wabi-sabi-x-piuma-with-sarah-wreath-bas
	-dobbelaer-human-space-machine-jorge-fons-sean-fasano
GEO:52.3860704;4.8740538
LOCATION:Radio Radio - Pazzanistraat 3\, 1014 DB Amsterdam
STATUS:CONFIRMED
CATEGORIES:amsterdam-west,westerpark
X-ALT-DESC;FMTTYPE=text/html:21+
BEGIN:VALARM
ACTION:DISPLAY
DESCRIPTION:Wabi Sabi x Piuma w/ Sarah Wreath • Bas Dobbelaer • Human Space
	 Machine • Jorge Fons • Sean Fasano
TRIGGER:-PT1H
END:VALARM
END:VEVENT
END:VCALENDAR
