BEGIN:VCALENDAR
VERSION:2.0
CALSCALE:GREGORIAN
PRODID:adamgibbons/ics
METHOD:PUBLISH
X-PUBLISHED-TTL:PT1H
BEGIN:VEVENT
UID:21123@offbeat.amsterdam
SUMMARY:Waarom Wuthering Heights onweerstaanbaar blijft
DTSTAMP:20260423T185105Z
DTSTART:20260612T180000Z
DESCRIPTION:In gesprek over het meest hartstochtelijke werk uit de wereldli
	teratuur. Wat\nmaakt dat Wuthering Heights na bijna 180 jaar nog steeds to
	t nieuwe\ninterpretaties uitnodigt?\n\nEmily Brontë’s Wuthering Heights (1
	847) geldt al bijna twee eeuwen als een van\nde meest hartstochtelijke mee
	sterwerken uit de wereldliteratuur. Het verhaal\nover de destructieve rela
	tie tussen Catherine en Heathcliff blijft een constante\nbron van inspirat
	ie. Van Kate Bush en Celine Dion tot aan de nieuwste\ntoevoeging: de recen
	te verfilming ‘Wuthering Heights’ door regisseur Emerald\nFennel en de sou
	ndtrack van Charli XCX.\n\nWat maakt dat deze roman na bijna 180 jaar nog 
	steeds tot nieuwe interpretaties\nuitnodigt? Deze avond gaan we in gesprek
	 over wat het werk van Emily Brontë zo\nbijzonder maakt. Van Fennells ‘gel
	eirijke’ verfilming tot de originele\nraamvertelling. Op welke manier beïn
	vloedt een nieuwe vormgeving ons begrip van\nde klassieker? En hoe verhoud
	t de artistieke vrijheid van een maker zich tot het\noriginele werk?
URL:https://offbeat.amsterdam/event/waarom-wuthering-heights-onweerstaanbaa
	r-blijft
GEO:52.3630433;4.8828596
LOCATION:De Balie - Kleine-Gartmanplantsoen 10\, 1017 RR Amsterdam
STATUS:CONFIRMED
CATEGORIES:amsterdam-centrum,idee & verbeelding,leidseplein
X-ALT-DESC;FMTTYPE=text/html:<p><strong>In gesprek over het meest hartstoch
	telijke werk uit de wereldliteratuur. Wat maakt dat <em>Wuthering Heights<
	/em> na bijna 180 jaar nog steeds tot nieuwe interpretaties uitnodigt?</st
	rong></p> <p>Emily Brontë’s <em>Wuthering Heights</em> (1847) geldt al bij
	na twee eeuwen als een van de meest hartstochtelijke meesterwerken uit de 
	wereldliteratuur. Het verhaal over de destructieve relatie tussen Catherin
	e en Heathcliff blijft een constante bron van inspiratie. Van Kate Bush en
	 Celine Dion tot aan de nieuwste toevoeging: de recente verfilming <em>‘Wu
	thering Heights’</em> door regisseur Emerald Fennel en de soundtrack van C
	harli XCX. </p> <p>Wat maakt dat deze roman na bijna 180 jaar nog steeds t
	ot nieuwe interpretaties uitnodigt? Deze avond gaan we in gesprek over wat
	 het werk van Emily Brontë zo bijzonder maakt. Van Fennells ‘geleirijke’ v
	erfilming tot de originele raamvertelling. Op welke manier beïnvloedt een 
	nieuwe vormgeving ons begrip van de klassieker? En hoe verhoudt de artisti
	eke vrijheid van een maker zich tot het originele werk?</p>
BEGIN:VALARM
ACTION:DISPLAY
DESCRIPTION:Waarom Wuthering Heights onweerstaanbaar blijft
TRIGGER:-PT1H
END:VALARM
END:VEVENT
END:VCALENDAR
