BEGIN:VCALENDAR
VERSION:2.0
CALSCALE:GREGORIAN
PRODID:adamgibbons/ics
METHOD:PUBLISH
X-PUBLISHED-TTL:PT1H
BEGIN:VEVENT
UID:21024@offbeat.amsterdam
SUMMARY:Vyju's Bollywood Dance School Amsterdam - Course End Performance
DTSTAMP:20260420T214101Z
DTSTART:20260502T150000Z
DTEND:20260502T180000Z
DESCRIPTION:Line up: Vyju\nOpen: 17:00 - 20:00 hrs\nTickets: € 5\n\nThis sp
	ecial course-end performance is a celebration of everything our students\n
	have learned\, featuring choreography from both the current and previous c
	ourses.\nFrom first-time dancers to returning performers\, you will see co
	nfidence\,\ngrowth\, and pure joy come alive on stage.\n\nExpect an evenin
	g that is dynamic\, colourful\, energetic\, and full of life . With\nvibra
	nt music\, expressive moves and high-energy routines\, every performance i
	s\ndesigned to make you smile\, cheer\, and feel part of the celebration.\
	n\nWhen these students first stepped into the studio\, they didn’t know wh
	at to\nexpect and now\, after their 5- and 10-week journey\, watching them
	 perform with\nconfidence and joy on stage is a moment of immense pride fo
	r me as their\nteacher.\n\nThis is more than just a dance show \, it’s a f
	eel-good experience where passion\nmeets performance.
URL:https://offbeat.amsterdam/event/vyjus-bollywood-dance-school-amsterdam-
	course-end-performance
GEO:52.3601403;4.8656923
LOCATION:OT301 - Overtoom 301\, 1054 HW Amsterdam
STATUS:CONFIRMED
CATEGORIES:amsterdam-west,dance,music,performance,pride,vondelparkbuurt
X-ALT-DESC;FMTTYPE=text/html:<strong>Line up:</strong> Vyju<br><strong>Open
	:</strong> 17:00 - 20:00 hrs<br><strong>Tickets:</strong> € 5  <p>This spe
	cial course-end performance is a celebration of everything our students ha
	ve learned, featuring choreography from both the current and previous cour
	ses. From first-time dancers to returning performers, you will see confide
	nce, growth, and pure joy come alive on stage.</p> <p>Expect an evening th
	at is dynamic, colourful, energetic, and full of life . With vibrant music
	, expressive moves and high-energy routines, every performance is designed
	 to make you smile, cheer, and feel part of the celebration.</p> <p>When t
	hese students first stepped into the studio, they didn’t know what to expe
	ct and now, after their 5- and 10-week journey, watching them perform with
	 confidence and joy on stage is a moment of immense pride for me as their 
	teacher. </p> <p>This is more than just a dance show , it’s a feel-good ex
	perience where passion meets performance. </p>
BEGIN:VALARM
ACTION:DISPLAY
DESCRIPTION:Vyju's Bollywood Dance School Amsterdam - Course End Performanc
	e
TRIGGER:-PT1H
END:VALARM
END:VEVENT
END:VCALENDAR
