BEGIN:VCALENDAR
VERSION:2.0
CALSCALE:GREGORIAN
PRODID:adamgibbons/ics
METHOD:PUBLISH
X-PUBLISHED-TTL:PT1H
BEGIN:VEVENT
UID:21211@offbeat.amsterdam
SUMMARY:Volkseten Vegazulu
DTSTAMP:20260425T180700Z
DTSTART:20260504T170000Z
DESCRIPTION:Since June 2005\, Joe's Garage is an autonomous squatted politi
	cal social center\,\na meeting place in the Transvaal neighborhood for squ
	atters and non-squatters\,\nsubsidy free\, not for profit\, self-organized
	 and entirely run by volunteers.\n\nVolkseten Vegazulu is a people’s kitch
	ens existing since the very beginning of\nJoe’s Garage. Your donations are
	 welcome. Food is vegan\, no reservation. All\nbenefits go to social & pol
	itical struggles. Joe’s Garage is a space run by\nvolunteers. Without a co
	llective effort\, without your active participation\,\nwe’re remaining clo
	sed. Get in touch in you feel like giving a hand. We’re\nalways looking fo
	r cooks. Any help is welcome in the kitchen. Experience not\nrequired. If 
	you want to know which days are still available\, mail us.\n\nhttps://squ.
	at/joe [https://squ.at/joe]\nhttps://joe.squat.net [https://joe.squat.net]
URL:https://offbeat.amsterdam/event/volkseten-vegazulu
GEO:52.35556625;4.9249982
LOCATION:Joe's Garage - Pretoriusstraat 43\, 1092 EZ Amsterdam
STATUS:CONFIRMED
CATEGORIES:amsterdam-oost,food,transvaalbuurt,vegan
X-ALT-DESC;FMTTYPE=text/html:<p>Since June 2005, Joe's Garage is an autonom
	ous squatted political social center, a meeting place in the Transvaal nei
	ghborhood for squatters and non-squatters, subsidy free, not for profit, s
	elf-organized and entirely run by volunteers.</p><br><p><em>Volkseten Vega
	zulu is a people’s kitchens existing since the very beginning of Joe’s Gar
	age. Your donations are welcome. Food is vegan, no reservation. All benefi
	ts go to social &amp; political struggles. Joe’s Garage is a space run by 
	volunteers. Without a collective effort, without your active participation
	, we’re remaining closed. Get in touch in you feel like giving a hand. We’
	re always looking for cooks. Any help is welcome in the kitchen. Experienc
	e not required. If you want to know which days are still available, mail u
	s.</em></p><br><p><a href="https://squ.at/joe">https://squ.at/joe</a><br><
	a href="https://joe.squat.net">https://joe.squat.net</a></p>
BEGIN:VALARM
ACTION:DISPLAY
DESCRIPTION:Volkseten Vegazulu
TRIGGER:-PT1H
END:VALARM
END:VEVENT
END:VCALENDAR
