BEGIN:VCALENDAR
VERSION:2.0
CALSCALE:GREGORIAN
PRODID:adamgibbons/ics
METHOD:PUBLISH
X-PUBLISHED-TTL:PT1H
BEGIN:VEVENT
UID:21212@offbeat.amsterdam
SUMMARY:Volkseten Vegazulu & concert with Commoner (UK)\, Will O' The Whisp
	erer and Fai
DTSTAMP:20260425T181207Z
DTSTART:20260518T170000Z
DESCRIPTION:Benefit voku to be announced...\n\nSince June 2005\, Joe's Gara
	ge is an autonomous squatted political social center\,\na meeting place in
	 the Transvaal neighborhood for squatters and non-squatters\,\nsubsidy fre
	e\, not for profit\, self-organized and entirely run by volunteers.\n\nVol
	kseten Vegazulu is a people’s kitchens existing since the very beginning o
	f\nJoe’s Garage. Your donations are welcome. Food is vegan\, no reservatio
	n. All\nbenefits go to social & political struggles. Joe’s Garage is a spa
	ce run by\nvolunteers. Without a collective effort\, without your active p
	articipation\,\nwe’re remaining closed. Get in touch in you feel like givi
	ng a hand. We’re\nalways looking for cooks. Any help is welcome in the kit
	chen. Experience not\nrequired. If you want to know which days are still a
	vailable\, mail us.\n\nhttps://squ.at/joe [https://squ.at/joe]\nhttps://jo
	e.squat.net [https://joe.squat.net]
URL:https://offbeat.amsterdam/event/volkseten-vegazulu-and-concert-with-com
	moner-uk-will-o-the-whisperer-and-fai
GEO:52.35556625;4.9249982
LOCATION:Joe's Garage - Pretoriusstraat 43\, 1092 EZ Amsterdam
STATUS:CONFIRMED
CATEGORIES:amsterdam-oost,concert,food,music/concert,transvaalbuurt,vegan,v
	oku
X-ALT-DESC;FMTTYPE=text/html:<p>Benefit voku to be announced...</p><br><p>S
	ince June 2005, Joe's Garage is an autonomous squatted political social ce
	nter, a meeting place in the Transvaal neighborhood for squatters and non-
	squatters, subsidy free, not for profit, self-organized and entirely run b
	y volunteers.</p><br><p><em>Volkseten Vegazulu is a people’s kitchens exis
	ting since the very beginning of Joe’s Garage. Your donations are welcome.
	 Food is vegan, no reservation. All benefits go to social &amp; political 
	struggles. Joe’s Garage is a space run by volunteers. Without a collective
	 effort, without your active participation, we’re remaining closed. Get in
	 touch in you feel like giving a hand. We’re always looking for cooks. Any
	 help is welcome in the kitchen. Experience not required. If you want to k
	now which days are still available, mail us.</em></p><br><p><a href="https
	://squ.at/joe">https://squ.at/joe</a><br><a href="https://joe.squat.net">h
	ttps://joe.squat.net</a></p>
BEGIN:VALARM
ACTION:DISPLAY
DESCRIPTION:Volkseten Vegazulu & concert with Commoner (UK), Will O' The Wh
	isperer and Fai
TRIGGER:-PT1H
END:VALARM
END:VEVENT
END:VCALENDAR
