BEGIN:VCALENDAR
VERSION:2.0
CALSCALE:GREGORIAN
PRODID:adamgibbons/ics
METHOD:PUBLISH
X-PUBLISHED-TTL:PT1H
BEGIN:VEVENT
UID:21210@offbeat.amsterdam
SUMMARY:Voku for new squat
DTSTAMP:20260425T180037Z
DTSTART:20260525T170000Z
DESCRIPTION:Our squatted house on neiuwe herengracht 9 needs support as we 
	build rooms and\nimprove the situation of the building after years of negl
	ect.\n\nsee you there\,)
URL:https://offbeat.amsterdam/event/voku-for-new-squat
GEO:52.35556625;4.9249982
LOCATION:Joe's Garage - Pretoriusstraat 43\, 1092 EZ Amsterdam
STATUS:CONFIRMED
CATEGORIES:amsterdam-oost,food,transvaalbuurt,voku
X-ALT-DESC;FMTTYPE=text/html:<p>Our squatted house on neiuwe herengracht 9 
	needs support as we build rooms and improve the situation of the building 
	after years of neglect.</p><br><p>see you there,)</p>
BEGIN:VALARM
ACTION:DISPLAY
DESCRIPTION:Voku for new squat
TRIGGER:-PT1H
END:VALARM
END:VEVENT
END:VCALENDAR
