BEGIN:VCALENDAR
VERSION:2.0
CALSCALE:GREGORIAN
PRODID:adamgibbons/ics
METHOD:PUBLISH
X-PUBLISHED-TTL:PT1H
BEGIN:VEVENT
UID:21111@offbeat.amsterdam
SUMMARY:VOKU for Cooperativa Cluj!
DTSTAMP:20260422T231508Z
DTSTART:20260511T170000Z
URL:https://offbeat.amsterdam/event/voku-for-cooperativa-cluj
GEO:52.35556625;4.9249982
LOCATION:Joe's Garage - Pretoriusstraat 43\, 1092 EZ Amsterdam
STATUS:CONFIRMED
CATEGORIES:amsterdam-oost,bar/cafe,food,transvaalbuurt,voku
BEGIN:VALARM
ACTION:DISPLAY
DESCRIPTION:VOKU for Cooperativa Cluj!
TRIGGER:-PT1H
END:VALARM
END:VEVENT
END:VCALENDAR
