BEGIN:VCALENDAR
VERSION:2.0
CALSCALE:GREGORIAN
PRODID:adamgibbons/ics
METHOD:PUBLISH
X-PUBLISHED-TTL:PT1H
BEGIN:VEVENT
UID:21225@offbeat.amsterdam
SUMMARY:VIOLAVIOLA
DTSTAMP:20260425T175247Z
DTSTART:20260519T173000Z
DESCRIPTION:Francien Schatborn presents her viola students!\n\nNow a tradit
	ion\, this evening on May 19 offers the chance to hear the progress\nof Fr
	ancien Schatborn’s viola students at the Conservatorium van Amsterdam. The
	\nprogram features Bachelor’s and Master’s students from all years.\n\nA c
	elebratory moment for the students to perform for an audience\, and at the
	\nsame time inspiring and engaging for listeners to follow their study pro
	cess and\nartistic development.\n\nThe program includes works by Schumann\
	, Martinů\, Brahms\, Rebecca Clarke\,\nStamitz\, Prokofiev\, Bach\, Ysaÿe\
	, and of course Hindemith.\n\nViola:\nJolie Bisoendial (NL)\nAlix Rodenbur
	g (NL)\nJytte Balm (NL)\nIvo Slootbeek (NL)\nValentina Real (Spanje)\nMari
	nha Campos (Portugal)\nElin Haver (NL)\nSofia Perez Calvo (Spanje)\nGorane
	 Ruiz Goitia (Spanje)\nPiano: Pau Hernandez en Michel Xie
URL:https://offbeat.amsterdam/event/violaviola-1
GEO:52.3699078;4.9032848
LOCATION:Splendor - Nieuwe Uilenburgerstraat 116\, 1011 LX Amsterdam
STATUS:CONFIRMED
CATEGORIES:amsterdam-centrum,nieuwmarkt/lastage
X-ALT-DESC;FMTTYPE=text/html:Francien Schatborn presents her viola students
	! <p>Now a tradition, this evening on May 19 offers the chance to hear the
	 progress of Francien Schatborn’s viola students at the Conservatorium van
	 Amsterdam. The program features Bachelor’s and Master’s students from all
	 years.</p><p>A celebratory moment for the students to perform for an audi
	ence, and at the same time inspiring and engaging for listeners to follow 
	their study process and artistic development.</p><p>The program includes w
	orks by Schumann, Martinů, Brahms, Rebecca Clarke, Stamitz, Prokofiev, Bac
	h, Ysaÿe, and of course Hindemith.</p><p>Viola:<br><strong>Jolie Bisoendia
	l (NL)<br>Alix Rodenburg (NL)<br>Jytte Balm (NL)<br>Ivo Slootbeek (NL)<br>
	Valentina Real (Spanje)<br>Marinha Campos (Portugal)<br>Elin Haver (NL)<br
	>Sofia Perez Calvo (Spanje)<br>Gorane Ruiz Goitia (Spanje)</strong><br>Pia
	no: <strong>Pau Hernandez en Michel Xie</strong></p>
BEGIN:VALARM
ACTION:DISPLAY
DESCRIPTION:VIOLAVIOLA
TRIGGER:-PT1H
END:VALARM
END:VEVENT
END:VCALENDAR
