BEGIN:VCALENDAR
VERSION:2.0
CALSCALE:GREGORIAN
PRODID:adamgibbons/ics
METHOD:PUBLISH
X-PUBLISHED-TTL:PT1H
BEGIN:VEVENT
UID:21087@offbeat.amsterdam
SUMMARY:Verborgen stilte: Surinaams-Chinese contractarbeid\, migratie en id
	entiteit
DTSTAMP:20260422T184809Z
DTSTART:20260515T180000Z
DESCRIPTION:Halverwege de negentiende eeuw arriveerden de eerste Chinese co
	ntractarbeiders\nin Suriname. Hun verhaal is verborgen in de marges van de
	 koloniale\ngeschiedenis. In gesprek over de Chinees-Surinaamse identiteit
	.\n\nTussen 1853 en 1874 werden Chinese contractarbeiders geronseld om te 
	komen\nwerken op de Surinaamse plantages. Na de Tweede Wereldoorlog volgde
	 een nieuwe\nmigratiegolf\, gedreven door politieke instabiliteit en econo
	mische nood in\nChina.\n\nVandaag zien we hoe deze gemeenschappen zich ver
	weven hebben met de Surinaamse\nen Nederlandse identiteit\, maar eigenlijk
	 nog steeds weinig aandacht krijgen in\nwetenschappelijk onderzoek of het 
	publieke debat. Van historie tot hedendaagse\nmigratie: wat kunnen we lere
	n van hun reis en hun bijdrage aan de samenleving?\n\nOver de sprekers\n\n
	Melvin Chang heeft geneeskunde gestudeerd maar koos al gauw daarna voor ee
	n\ncarrière als ondernemer. Bijna 30 jaar was hij eigenaar/directeur van r
	estaurant\nLung Fung\, het eerste Surinaams-Chinese restaurant van Den Haa
	g dat door zijn\nvader en opa was opgericht. Tegenwoordig houdt hij zich v
	ooral bezig met de\nvastlegging van het Surinaams-Chinese erfgoed en is hi
	j bestuurslid van het\nCollectief contractarbeid.\n\nFresco Sam-Sin is fil
	oloog en podcast- en radiomaker. Hij studeerde sinologie en\nmantsjoerolog
	ie in Leiden en Beijing en hij onderzoekt de verweven geschiedenis\nvan Ch
	ina en Suriname binnen de context van het koloniale verleden. Daarnaast\np
	robeert hij via websites als thingsthattalk.net [http://thingsthattalk.net
	] of\nkenki.nl [http://kenki.nl] om kennis een platform te geven. Bovendie
	n is Fresco\nde vaste recensent van OVT\, het geschiedenisprogramma van VP
	RO-radio.\n\nCarla Tjon heeft kunst- en cultuurwetenschappen gestudeerd aa
	n de Erasmus\nUniversiteit. Haar artistiek talent gebruikt ze vooral om de
	 Surinaams-Chinese\nmigratiegeschiedenis te laten zien. Bijvoorbeeld met h
	aar initiatief voor de\nreizende tentoonstelling Snesie. En ook met haar b
	oek 2 X 9 levens. Carla is lid\nvan het Collectief Koloniaal Nu & Toen. Ve
	rder is ze Zakelijk directeur van het\ncultureel platform Perdu voor poëzi
	e in Amsterdam.\n\nDr. Paul Tjon Sie Fat heeft sinologie gestuurd aan Univ
	ersiteit Leiden. Daarna\npromoveerde hij aan de Universiteit van Amsterdam
	 op een proefschrift over de\nmoderne Chinese migratie en identiteit in Su
	riname. Bovendien heeft hij\npublicaties op zijn naam over de relatie tuss
	en de Chinese taal\, de\ngemeenschapsorganisatie en identiteit van Chinese
	 migranten in dat land of hoe\nmensen soms hun etnische achtergrond zichtb
	aar maken in de Surinaamse politiek.\n\nStuart Kensenhuis is freelancejour
	nalist\, moderator en radiopresentator\, met een\nfascinatie voor politiek
	 en geschiedenis. Hij schrijft onder andere voor\nAD/Haagsche Courant en T
	ijdschrift voor Geschiedenis en presenteerde een\n20-delige podcastserie o
	p Radio Stanvaste\, over het koloniaal en\nslavernijverleden van Nederland
	. Verder is hij één van de auteurs van het boek\n‘Het koloniaal en slavern
	ijverleden van Gouda (2024\, Streekarchief\nMidden-Holland). In samenwerki
	ng met De Balie presenteerde hij verschillende\nprogramma’s over immigrati
	e of het koloniaal en slavernijverleden.
URL:https://offbeat.amsterdam/event/verborgen-stilte-surinaams-chinese-cont
	ractarbeid-migratie-en-identiteit
GEO:52.3630433;4.8828596
LOCATION:De Balie - Kleine-Gartmanplantsoen 10\, 1017 RR Amsterdam
STATUS:CONFIRMED
CATEGORIES:amsterdam-centrum,emancipatie & identiteit,leidseplein,poetry
X-ALT-DESC;FMTTYPE=text/html:<p><strong>Halverwege de negentiende eeuw arri
	veerden de eerste Chinese contractarbeiders in Suriname. Hun verhaal is ve
	rborgen in de marges van de koloniale geschiedenis. In gesprek over de Chi
	nees-Surinaamse identiteit.</strong></p> <p>Tussen 1853 en 1874 werden Chi
	nese contractarbeiders geronseld om te komen werken op de Surinaamse plant
	ages. Na de Tweede Wereldoorlog volgde een nieuwe migratiegolf, gedreven d
	oor politieke instabiliteit en economische nood in China. </p> <p>Vandaag 
	zien we hoe deze gemeenschappen zich verweven hebben met de Surinaamse en 
	Nederlandse identiteit, maar eigenlijk nog steeds weinig aandacht krijgen 
	in wetenschappelijk onderzoek of het publieke debat. Van historie tot hede
	ndaagse migratie: wat kunnen we leren van hun reis en hun bijdrage aan de 
	samenleving?</p>   Over de sprekers    <p><strong>Melvin Chang</strong> he
	eft geneeskunde gestudeerd maar koos al gauw daarna voor een carrière als 
	ondernemer. Bijna 30 jaar was hij eigenaar/directeur van restaurant Lung F
	ung, het eerste Surinaams-Chinese restaurant van Den Haag dat door zijn va
	der en opa was opgericht. Tegenwoordig houdt hij zich vooral bezig met de 
	vastlegging van het Surinaams-Chinese erfgoed en is hij bestuurslid van he
	t Collectief contractarbeid.</p> <p><strong>Fresco Sam-Sin</strong> is fil
	oloog en podcast- en radiomaker. Hij studeerde sinologie en mantsjoerologi
	e in Leiden en Beijing en hij onderzoekt de verweven geschiedenis van Chin
	a en Suriname binnen de context van het koloniale verleden. Daarnaast prob
	eert hij via websites als <a target="_blank" href="http://thingsthattalk.n
	et">thingsthattalk.net</a> of <a target="_blank" href="http://kenki.nl">ke
	nki.nl</a> om kennis een platform te geven. Bovendien is Fresco de vaste r
	ecensent van OVT, het geschiedenisprogramma van VPRO-radio.</p> <p><strong
	>Carla Tjon</strong> heeft kunst- en cultuurwetenschappen gestudeerd aan d
	e Erasmus Universiteit. Haar artistiek talent gebruikt ze vooral om de Sur
	inaams-Chinese migratiegeschiedenis te laten zien. Bijvoorbeeld met haar i
	nitiatief voor de reizende tentoonstelling Snesie. En ook met haar boek 2 
	X 9 levens. Carla is lid van het Collectief Koloniaal Nu &amp; Toen. Verde
	r is ze Zakelijk directeur van het cultureel platform Perdu voor poëzie in
	 Amsterdam.</p> <p><strong>Dr. Paul Tjon Sie Fat</strong> heeft sinologie 
	gestuurd aan Universiteit Leiden. Daarna promoveerde hij aan de Universite
	it van Amsterdam op een proefschrift over de moderne Chinese migratie en i
	dentiteit in Suriname. Bovendien heeft hij publicaties op zijn naam over d
	e relatie tussen de Chinese taal, de gemeenschapsorganisatie en identiteit
	 van Chinese migranten in dat land of hoe mensen soms hun etnische achterg
	rond zichtbaar maken in de Surinaamse politiek. </p> <p><strong>Stuart Ken
	senhuis</strong> is freelancejournalist, moderator en radiopresentator, me
	t een fascinatie voor politiek en geschiedenis. Hij schrijft onder andere 
	voor AD/Haagsche Courant en Tijdschrift voor Geschiedenis en presenteerde 
	een 20-delige podcastserie op Radio Stanvaste, over het koloniaal en slave
	rnijverleden van Nederland. Verder is hij één van de auteurs van het boek 
	‘Het koloniaal en slavernijverleden van Gouda (2024, Streekarchief Midden-
	Holland). In samenwerking met De Balie presenteerde hij verschillende prog
	ramma’s over immigratie of het koloniaal en slavernijverleden.</p>
BEGIN:VALARM
ACTION:DISPLAY
DESCRIPTION:Verborgen stilte: Surinaams-Chinese contractarbeid, migratie en
	 identiteit
TRIGGER:-PT1H
END:VALARM
END:VEVENT
END:VCALENDAR
