BEGIN:VCALENDAR
VERSION:2.0
CALSCALE:GREGORIAN
PRODID:adamgibbons/ics
METHOD:PUBLISH
X-PUBLISHED-TTL:PT1H
BEGIN:VEVENT
UID:21066@offbeat.amsterdam
SUMMARY:untitled (halo)
DTSTAMP:20260421T192123Z
DTSTART:20260917T173000Z
DESCRIPTION:untitled (halo) uit Los Angeles maakt een mix van ethereal grun
	ge\, indie rock en\nalternatieve rock die prima gedijt in Zuid-California\
	; dromerig\, warm en\nongedwongen. De bandleden zijn zeer actief in de kun
	sten. Naast muziek maken ze\nbeeldende kunst\, literatuur en film. Hun deb
	uut-EP 'towncryer' kon op veel\nspeeltijd rekenen van NTS Radio\, KCRW en 
	Complex\, waarna shows in Los Angeles en\nNew York snel uitverkocht raakte
	n. In Europa maakten mensen kennis met untitled\n(halo) op Pitchfork Festi
	val London en Le Botanique in België. Nu komen ze voor\nronde twee met de 
	nieuwe EP 'headbanger' naar Nederland.
URL:https://offbeat.amsterdam/event/untitled-halo
GEO:52.3830883;4.9030297
LOCATION:Tolhuistuin - IJpromenade 2\, 1031 KT Amsterdam
STATUS:CONFIRMED
CATEGORIES:amsterdam-noord,buiksloterweg,festivals,film,indie,music,rock
X-ALT-DESC;FMTTYPE=text/html:<p>untitled (halo) uit Los Angeles maakt een m
	ix van <em>ethereal grunge</em>, indie rock en alternatieve rock die prima
	 gedijt in Zuid-California; dromerig, warm en ongedwongen. De bandleden zi
	jn zeer actief in de kunsten. Naast muziek maken ze beeldende kunst, liter
	atuur en film. Hun debuut-EP 'towncryer' kon op veel speeltijd rekenen van
	 NTS Radio, KCRW en Complex, waarna shows in Los Angeles en New York snel 
	uitverkocht raakten. In Europa maakten mensen kennis met untitled (halo) o
	p Pitchfork Festival London en Le Botanique in België. Nu komen ze voor ro
	nde twee met de nieuwe EP 'headbanger' naar Nederland. </p>
BEGIN:VALARM
ACTION:DISPLAY
DESCRIPTION:untitled (halo)
TRIGGER:-PT1H
END:VALARM
END:VEVENT
END:VCALENDAR
