BEGIN:VCALENDAR
VERSION:2.0
CALSCALE:GREGORIAN
PRODID:adamgibbons/ics
METHOD:PUBLISH
X-PUBLISHED-TTL:PT1H
BEGIN:VEVENT
UID:21144@offbeat.amsterdam
SUMMARY:Tōth + Marta Aripini
DTSTAMP:20260424T193509Z
DTSTART:20260612T180000Z
DTEND:20260612T230000Z
DESCRIPTION:Doors: 20.00. Tickets: presale\n[https://www.ticketview.nl/shop
	/stichtingdenieuweanita?eventID=7971] 10\,- door\n12\,-\n\nBrooklyn-based 
	songwriter and trumpet player Tōth (Alex Toth) returns with his\nthird alb
	um – And The Voice Said (February 27\, 2026). Tōth is known for their\nemo
	tionally direct songwriting\, magnetic stage presence and trumpet playing.
	\nTheir new album was co-produced by Grammy nominated artist Caroline Rose
	 and\nfeatures Kimbra. This record finds Tōth fully blossomed with his mos
	t potent\nwork yet.\n\nMarta Aripini – a genius of sound\, harmony\, vocal
	s\, love\, songwriting – is an\nItalian musician based in Amsterdam.\n\nCh
	eck them on insta @tothtunes and @martaarpini.
URL:https://offbeat.amsterdam/event/tth-marta-aripini
GEO:52.374158;4.8726931
LOCATION:De Nieuwe Anita - Frederik Hendrikstraat 111\, 1052 HN Amsterdam
STATUS:CONFIRMED
CATEGORIES:amsterdam-west,westerpark
X-ALT-DESC;FMTTYPE=text/html:<p><strong>Doors: 20.00. Tickets:<a target="_b
	lank" href="https://www.ticketview.nl/shop/stichtingdenieuweanita?eventID=
	7971"> presale</a> 10,- door 12,-</strong></p> <p>Brooklyn-based songwrite
	r and trumpet player <strong>Tōth</strong> (Alex Toth) returns with his th
	ird album – And The Voice Said (February 27, 2026). Tōth is known for thei
	r emotionally direct songwriting, magnetic stage presence and trumpet play
	ing. Their new album was co-produced by Grammy nominated artist Caroline R
	ose and features Kimbra. This record finds Tōth fully blossomed with his m
	ost potent work yet.</p> <p><strong>Marta Aripini</strong> – a genius of s
	ound, harmony, vocals, love, songwriting – is an Italian musician based in
	 Amsterdam.</p> <p>Check them on insta @tothtunes and @martaarpini.</p>
BEGIN:VALARM
ACTION:DISPLAY
DESCRIPTION:Tōth + Marta Aripini
TRIGGER:-PT1H
END:VALARM
END:VEVENT
END:VCALENDAR
