BEGIN:VCALENDAR
VERSION:2.0
CALSCALE:GREGORIAN
PRODID:adamgibbons/ics
METHOD:PUBLISH
X-PUBLISHED-TTL:PT1H
BEGIN:VEVENT
UID:21102@offbeat.amsterdam
SUMMARY:Trentemøller
DTSTAMP:20260422T184327Z
DTSTART:20270309T193000Z
DESCRIPTION:Cinematic atmospheres by Copenhagen-based composer\n\nCopenhage
	n-based composer\, producer and musician Anders Trentemøller has\, over\nt
	he past two decades\, established himself as one of the most distinctive v
	oices\nin contemporary music. With more than 500 shows worldwide and a ser
	ies of\ncritically acclaimed releases\, he continues to captivate audience
	s with his\nimmersive immersive music \, cinematic atmospheres and unmista
	kable melodies.\nBlending elements of post-rock\, electronica\, shoegaze a
	nd dark wave \,\nTrentemøller creates a sound that is both atmospheric and
	 deeply emotional. On\nstage\, his music transforms into a powerful live e
	xperience where dreamy\ntextures meet the raw energy of a full band\, crea
	ting dynamic performances that\nmove seamlessly between delicate moments a
	nd intense sonic climaxes. 
URL:https://offbeat.amsterdam/event/trentemoller
GEO:52.36215535;4.883782439016489
LOCATION:Paradiso - Weteringschans 6\, 1017 SG Amsterdam
STATUS:CONFIRMED
CATEGORIES:amsterdam-centrum,dark wave,leidseplein,live,music,performance,r
	ock,shoegaze
X-ALT-DESC;FMTTYPE=text/html:Cinematic atmospheres by Copenhagen-based comp
	oser<br><br><p>Copenhagen-based composer, producer and musician Anders Tre
	ntemøller has, over the past two decades, established himself as one of th
	e most distinctive voices in contemporary music. With more than 500 shows 
	worldwide and a series of critically acclaimed releases, he continues to c
	aptivate audiences with his immersive immersive music , cinematic atmosphe
	res and unmistakable melodies. Blending elements of post-rock, electronica
	, shoegaze and dark wave , Trentemøller creates a sound that is both atmos
	pheric and deeply emotional. On stage, his music transforms into a powerfu
	l live experience where dreamy textures meet the raw energy of a full band
	, creating dynamic performances that move seamlessly between delicate mome
	nts and intense sonic climaxes.&nbsp;</p>
BEGIN:VALARM
ACTION:DISPLAY
DESCRIPTION:Trentemøller
TRIGGER:-PT1H
END:VALARM
END:VEVENT
END:VCALENDAR
