BEGIN:VCALENDAR
VERSION:2.0
CALSCALE:GREGORIAN
PRODID:adamgibbons/ics
METHOD:PUBLISH
X-PUBLISHED-TTL:PT1H
BEGIN:VEVENT
UID:21149@offbeat.amsterdam
SUMMARY:Timeless Voices at Contra: JAÏNDA x Laura Dooge
DTSTAMP:20260424T194158Z
DTSTART:20260530T190000Z
DTEND:20260530T230000Z
DESCRIPTION:A special night bringing two exceptional singers to touch your 
	soul all evening\nlong.\n\nAt 21:00\, Laura Dooge opens the night with tim
	eless songs from the Great\nAmerican Songbook\, translating the romance of
	 the past into the present. You\nmight just forget these songs were writte
	n in the 1930s — we still have “a crush\non you” and sometimes smoke a lit
	tle too much “at the end of a love affair.”\nBacked by an incredible band 
	and guest soloists\, she revives the spirit of\nclassic jazz clubs with wa
	rmth and elegance\, performing music by Gershwin\,\nBerlin and Ellington. 
	A cum laude graduate of the Conservatorium van Amsterdam\,\nshe has perfor
	med at leading venues and was awarded at the Laren Jazz Award.\n\nFrom 23:
	00 onwards\, resident artist JAÏNDA takes over. A singer-songwriter\nblend
	ing soul\, R&B\, pop and jazz\, her music explores themes of self-discover
	y\,\nvulnerability and strength. With her powerful voice and love for big 
	band\narrangements\, she captivates audiences and leaves a lasting impress
	ion.
URL:https://offbeat.amsterdam/event/timeless-voices-at-contra-jainda-x-laur
	a-dooge
GEO:52.3691458;4.8950558
LOCATION:Contra - Oudezijds Achterburgwal 235\, 1012 DL Amsterdam
STATUS:CONFIRMED
CATEGORIES:amsterdam-centrum,burgwallen,jazz,music,rnb,soul
X-ALT-DESC;FMTTYPE=text/html:<p>A special night bringing two exceptional si
	ngers to touch your soul all evening long.</p><p>At 21:00, Laura Dooge ope
	ns the night with timeless songs from the Great American Songbook, transla
	ting the romance of the past into the present. You might just forget these
	 songs were written in the 1930s — we still have “a crush on you” and some
	times smoke a little too much “at the end of a love affair.” Backed by an 
	incredible band and guest soloists, she revives the spirit of classic jazz
	 clubs with warmth and elegance, performing music by Gershwin, Berlin and 
	Ellington. A cum laude graduate of the Conservatorium van Amsterdam, she h
	as performed at leading venues and was awarded at the Laren Jazz Award.</p
	><p>From 23:00 onwards, resident artist JAÏNDA takes over. A singer-songwr
	iter blending soul, R&amp;B, pop and jazz, her music explores themes of se
	lf-discovery, vulnerability and strength. With her powerful voice and love
	 for big band arrangements, she captivates audiences and leaves a lasting 
	impression.</p>
BEGIN:VALARM
ACTION:DISPLAY
DESCRIPTION:Timeless Voices at Contra: JAÏNDA x Laura Dooge
TRIGGER:-PT1H
END:VALARM
END:VEVENT
END:VCALENDAR
