BEGIN:VCALENDAR
VERSION:2.0
CALSCALE:GREGORIAN
PRODID:adamgibbons/ics
METHOD:PUBLISH
X-PUBLISHED-TTL:PT1H
BEGIN:VEVENT
UID:21061@offbeat.amsterdam
SUMMARY:TILLATEC invites Adonis
DTSTAMP:20260421T192123Z
DTSTART:20260426T190000Z
DTEND:20260427T030000Z
DESCRIPTION:London's Queer mess returns to TILLATEC for Kingsnight! But wha
	t's Kingsnight\nwithout some queens?! Get your tickets now!\n\nLineup:\nAf
	ra \nHannah Holland \nIdilay \nKasra V \nMakam \nMarie Malarie \nShay Malt
URL:https://offbeat.amsterdam/event/tillatec-invites-adonis
GEO:52.3699549;4.843713
LOCATION:Tilla Tec - Doctor Jan van Breemenstraat 1\, 1056 AB Amsterdam
STATUS:CONFIRMED
CATEGORIES:amsterdam-west,house,queer,rembrandtpark
X-ALT-DESC;FMTTYPE=text/html:<p>London's Queer mess returns to TILLATEC for
	 Kingsnight! But what's Kingsnight without some queens?! Get your tickets 
	now! </p><p><strong>Lineup:</strong><br>Afra&nbsp;<br>Hannah Holland&nbsp;
	<br>Idilay&nbsp;<br>Kasra V&nbsp;<br>Makam&nbsp;<br>Marie Malarie&nbsp;<br
	>Shay Malt</p>
BEGIN:VALARM
ACTION:DISPLAY
DESCRIPTION:TILLATEC invites Adonis
TRIGGER:-PT1H
END:VALARM
END:VEVENT
END:VCALENDAR
