BEGIN:VCALENDAR
VERSION:2.0
CALSCALE:GREGORIAN
PRODID:adamgibbons/ics
METHOD:PUBLISH
X-PUBLISHED-TTL:PT1H
BEGIN:VEVENT
UID:21107@offbeat.amsterdam
SUMMARY:The War and Treaty
DTSTAMP:20260422T184345Z
DTSTART:20260706T183000Z
DESCRIPTION:Het Amerikaanse duo The War And Treaty maakt een energieke mix 
	van soul\, folk\,\ngospel en country. Behalve muzikale partners zijn de tw
	ee leden\, Michael Trotter\nJr. en Tanya Trotter\, ook huwelijkspartners (
	een dankbare bron voor hun\nsongteksten). Sinds hun debuutalbum Healing Ti
	de uit 2018 hebben ze hun geluid\nverder uitgediept op veelgeprezen platen
	 als Hearts Town en het recente Lover's\nGame\, waarmee ze definitief hun 
	plek aan de top hebben gevestigd.\n\nOf het nu gaat om een breekbare balla
	d of een opzwepend soul-nummer\, The War and\nTreaty brengt een eerbetoon 
	aan de rijke Amerikaanse muziekgeschiedenis met een\nmoderne urgentie die 
	je direct in het hart raakt.
URL:https://offbeat.amsterdam/event/the-war-and-treaty
GEO:52.3830883;4.9030297
LOCATION:Tolhuistuin - IJpromenade 2\, 1031 KT Amsterdam
STATUS:CONFIRMED
CATEGORIES:amsterdam-noord,buiksloterweg,games,gospel,soul
X-ALT-DESC;FMTTYPE=text/html:<p>Het Amerikaanse duo The War And Treaty maak
	t een energieke mix van soul, folk, gospel en country. Behalve muzikale pa
	rtners zijn de twee leden, Michael Trotter Jr. en Tanya Trotter, ook huwel
	ijkspartners (een dankbare bron voor hun songteksten). Sinds hun debuutalb
	um <em>Healing Tide</em> uit 2018 hebben ze hun geluid verder uitgediept o
	p veelgeprezen platen als <em>Hearts Town</em> en het recente <em>Lover's 
	Game</em>, waarmee ze definitief hun plek aan de top hebben gevestigd.</p>
	<p>Of het nu gaat om een breekbare ballad of een opzwepend soul-nummer, Th
	e War and Treaty brengt een eerbetoon aan de rijke Amerikaanse muziekgesch
	iedenis met een moderne urgentie die je direct in het hart raakt.</p>
BEGIN:VALARM
ACTION:DISPLAY
DESCRIPTION:The War and Treaty
TRIGGER:-PT1H
END:VALARM
END:VEVENT
END:VCALENDAR
