BEGIN:VCALENDAR
VERSION:2.0
CALSCALE:GREGORIAN
PRODID:adamgibbons/ics
METHOD:PUBLISH
X-PUBLISHED-TTL:PT1H
BEGIN:VEVENT
UID:21042@offbeat.amsterdam
SUMMARY:The Unseen
DTSTAMP:20260421T183317Z
DTSTART:20260518T180000Z
DESCRIPTION:The Unseen schijnt licht op het leven in de immigrantengetto’s 
	van Zuid-Italië.\nHoe kan het dat deze onzichtbare plekken blijven bestaan
	\, ook hier in Europa?\n\nThe Unseen volgt drie Afrikaanse migranten die w
	onen in Borgo Mezzanone\, één van\nde grootste immigrantengetto’s van Zuid
	-Italië. Deze documentaire werpt licht op\nde arbeidsuitbuiting die zij on
	dergaan in de landbouwsector. We volgen drie\npersonages: Maya\, Babucarr 
	en Lamin. Hoe overleven zij in een wereld waar ze\namper hun hoofd boven w
	ater kunnen houden? En hoe maak je ruimte om te dromen\nwanneer je dagelij
	ks dealt met uitbuiting? Teruggaan is geen optie\, maar\nblijven: ondragel
	ijk. Na afloop van de film gaan we in gesprek met maker Milou\nRientjes en
	 Anna Ensing van FairWork over de situatie in Italië en de realiteit\nvan 
	ongedocumenteerden in Nederland.\n\nMet in dit programma Milou Rientjes Ma
	ker documentaire 'The Unseen'\, Co-founder\nNuru Foundation Tanzania Niek 
	Pennings Maker 'The Unseen'\, cameraman\, founder\nBeeldzeggend Filmproduc
	ties [https://www.linkedin.com/in/niekpennings/] Anna\nEnsing Programmacoö
	rdinator bij FairWork\n[https://www.linkedin.com/in/anna-ensing-96044b1a/]
	\n\n\nOVER DE MAKERS / SPREKERS\n\nMilou Rientjes heeft een achtergrond in
	 International Development Studies\,\nwaarmee ze zich voortdurend inzet vo
	or kwetsbare gemeenschappen. Ze deed\nonderzoek naar de uitbuiting van Afr
	ikaanse arbeidsmigranten in Italië\, wat\nleidde tot haar debuutdocumentai
	re The Unseen. Na haar werk als teamleider bij\nVluchtelingenWerk richte z
	e Nuru Foundation Tanzania op. Milou gelooft in film\nals krachtig middel 
	voor bewustwording en actie.\n\nNiek Pennings begon zijn carrière als came
	raman en editor in de televisiewereld\nen startte in 2007 zijn eigen produ
	ctiebedrijf Beeldzeggend. De afgelopen acht\njaar richt hij zich volledig 
	op zijn ware passie: documentaires. Voor Niek is\nfilm de ultieme manier o
	m oprechte verhalen vast te leggen die raken\, een ander\nperspectief bied
	en en het publiek stof tot nadenken geven.\n\nAnna Ensing werkt bij FairWo
	rk\, een organisatie die zich inzet tegen\narbeidsuitbuiting en voor de be
	scherming van kwetsbare arbeidsmigranten. Anna\nEnsing is coördinator van 
	het programma Uitbuiting onder Ongedocumenteerden. In\nhaar werk houdt zij
	 zich bezig met het signaleren van misstanden\, het\nondersteunen van slac
	htoffers en het versterken van bewustwording rondom\neerlijke en veilige a
	rbeid. Vanuit haar expertise brengt zij een\npraktijkgerichte en maatschap
	pelijke blik in het debat.
URL:https://offbeat.amsterdam/event/the-unseen
GEO:52.376857;4.9220756
LOCATION:Pakhuis de Zwijger - Piet Heinkade 179\, 1019 HC Amsterdam
STATUS:CONFIRMED
CATEGORIES:amsterdam-centrum,eastern docklands,film,sociaal
X-ALT-DESC;FMTTYPE=text/html:The Unseen schijnt licht op het leven in de im
	migrantengetto’s van Zuid-Italië. Hoe kan het dat deze onzichtbare plekken
	 blijven bestaan, ook hier in Europa? <p>The Unseen volgt drie Afrikaanse 
	migranten die wonen in Borgo Mezzanone, één van de grootste immigrantenget
	to’s van Zuid-Italië. Deze documentaire werpt licht op de arbeidsuitbuitin
	g die zij ondergaan in de landbouwsector. We volgen drie personages: Maya,
	 Babucarr en Lamin. Hoe overleven zij in een wereld waar ze amper hun hoof
	d boven water kunnen houden? En hoe maak je ruimte om te dromen wanneer je
	 dagelijks dealt met uitbuiting? Teruggaan is geen optie, maar blijven: on
	dragelijk. Na afloop van de film gaan we in gesprek met maker Milou Rientj
	es en Anna Ensing van FairWork over de situatie in Italië en de realiteit 
	van ongedocumenteerden in Nederland.</p>    Met in dit programma    Milou 
	Rientjes Maker documentaire 'The Unseen', Co-founder Nuru Foundation Tanza
	nia   <a href="https://www.linkedin.com/in/niekpennings/" target="_blank">
	  Niek Pennings Maker 'The Unseen', cameraman, founder Beeldzeggend Filmpr
	oducties  </a> <a href="https://www.linkedin.com/in/anna-ensing-96044b1a/"
	 target="_blank">  Anna Ensing Programmacoördinator bij FairWork  </a>    
	 <h3>Over de makers / sprekers</h3> <p><strong>Milou Rientjes</strong> hee
	ft een achtergrond in International Development Studies, waarmee ze zich v
	oortdurend inzet voor kwetsbare gemeenschappen. Ze deed onderzoek naar de 
	uitbuiting van Afrikaanse arbeidsmigranten in Italië, wat leidde tot haar 
	debuutdocumentaire The Unseen. Na haar werk als teamleider bij Vluchteling
	enWerk richte ze Nuru Foundation Tanzania op. Milou gelooft in film als kr
	achtig middel voor bewustwording en actie.</p> <p><strong>Niek Pennings</s
	trong> begon zijn carrière als cameraman en editor in de televisiewereld e
	n startte in 2007 zijn eigen productiebedrijf Beeldzeggend. De afgelopen a
	cht jaar richt hij zich volledig op zijn ware passie: documentaires. Voor 
	Niek is film de ultieme manier om oprechte verhalen vast te leggen die rak
	en, een ander perspectief bieden en het publiek stof tot nadenken geven.</
	p> <p><strong>Anna Ensing</strong> werkt bij FairWork, een organisatie die
	 zich inzet tegen arbeidsuitbuiting en voor de bescherming van kwetsbare a
	rbeidsmigranten. Anna Ensing is coördinator van het programma Uitbuiting o
	nder Ongedocumenteerden. In haar werk houdt zij zich bezig met het signale
	ren van misstanden, het ondersteunen van slachtoffers en het versterken va
	n bewustwording rondom eerlijke en veilige arbeid. Vanuit haar expertise b
	rengt zij een praktijkgerichte en maatschappelijke blik in het debat.</p>
BEGIN:VALARM
ACTION:DISPLAY
DESCRIPTION:The Unseen
TRIGGER:-PT1H
END:VALARM
END:VEVENT
END:VCALENDAR
