BEGIN:VCALENDAR
VERSION:2.0
CALSCALE:GREGORIAN
PRODID:adamgibbons/ics
METHOD:PUBLISH
X-PUBLISHED-TTL:PT1H
BEGIN:VEVENT
UID:21162@offbeat.amsterdam
SUMMARY:The Tubs
DTSTAMP:20260424T193510Z
DTSTART:20261206T183000Z
DESCRIPTION:Welsh indie rock band draws inspiration from the first wave of 
	British indie\n\nThe Tubs is a Welsh indie rock band from Cardiff that sho
	wcases how their\nlighthearted jangle-pop also ventures into darker and mo
	re personal territory on\ntheir second album\, *Cotton Crown*. On this alb
	um\, the band expands their sonic\npalette with a wide range of influences
	\, from soulful pub rock to melancholic\nsophisto-pop. As Pitchfork noted\
	, The Tubs view jangle as “an immense world full\nof moods and muses\,” an
	d *Cotton Crown* showcases how they continue to explore\nthat world.
URL:https://offbeat.amsterdam/event/the-tubs
GEO:52.36215535;4.883782439016489
LOCATION:Paradiso - Weteringschans 6\, 1017 SG Amsterdam
STATUS:CONFIRMED
CATEGORIES:amsterdam-centrum,indie,leidseplein,rock
X-ALT-DESC;FMTTYPE=text/html:Welsh indie rock band draws inspiration from t
	he first wave of British indie<br><br><p>The Tubs is a Welsh indie rock ba
	nd from Cardiff that showcases how their lighthearted jangle-pop also vent
	ures into darker and more personal territory on their second album, *Cotto
	n Crown*. On this album, the band expands their sonic palette with a wide 
	range of influences, from soulful pub rock to melancholic sophisto-pop. As
	 Pitchfork noted, The Tubs view jangle as “an immense world full of moods 
	and muses,” and *Cotton Crown* showcases how they continue to explore that
	 world.</p>
BEGIN:VALARM
ACTION:DISPLAY
DESCRIPTION:The Tubs
TRIGGER:-PT1H
END:VALARM
END:VEVENT
END:VCALENDAR
