BEGIN:VCALENDAR
VERSION:2.0
CALSCALE:GREGORIAN
PRODID:adamgibbons/ics
METHOD:PUBLISH
X-PUBLISHED-TTL:PT1H
BEGIN:VEVENT
UID:21073@offbeat.amsterdam
SUMMARY:The Reytons
DTSTAMP:20260421T223019Z
DTSTART:20270218T180000Z
DESCRIPTION:The Reytons are a raw indie-rock band from Rotherham\, England\
	, known for their\nunfiltered energy and hard-hitting live shows. With the
	ir working-class\nmentality and honest sound\, they know how to turn every
	 venue upside down. After\nmajor successes in the UK\, they are ready to c
	onquer the rest of the world once\nagain. Expect singalongs\, moshpits\, a
	nd a show you won't soon forget!
URL:https://offbeat.amsterdam/event/the-reytons
GEO:52.3647777;4.881073026725959
LOCATION:Melkweg - Lijnbaansgracht 234A\, 1017 PH Amsterdam
STATUS:CONFIRMED
CATEGORIES:alternative rock,amsterdam-centrum,british,concert,indie rock,le
	idseplein
X-ALT-DESC;FMTTYPE=text/html:<p>The Reytons are a raw indie-rock band from 
	Rotherham, England, known for their unfiltered energy and hard-hitting liv
	e shows. With their working-class mentality and honest sound, they know ho
	w to turn every venue upside down. After major successes in the UK, they a
	re ready to conquer the rest of the world once again. Expect singalongs, m
	oshpits, and a show you won't soon forget!</p>
BEGIN:VALARM
ACTION:DISPLAY
DESCRIPTION:The Reytons
TRIGGER:-PT1H
END:VALARM
END:VEVENT
END:VCALENDAR
