BEGIN:VCALENDAR
VERSION:2.0
CALSCALE:GREGORIAN
PRODID:adamgibbons/ics
METHOD:PUBLISH
X-PUBLISHED-TTL:PT1H
BEGIN:VEVENT
UID:21062@offbeat.amsterdam
SUMMARY:The Planet
DTSTAMP:20260421T192038Z
DTSTART:20260523T210000Z
DTEND:20260524T050000Z
DESCRIPTION:On May 23rd The Planet will be back at TILLATEC! For this editi
	on LSDXOXO takes\nover the wash room with his explosive\, high-energy sets
	 that have been tearing\nup dance floors worldwide. Manuka Honey brings he
	r signature blend of Latin\nAmerican and Caribbean-inspired club sounds. R
	eenie keeps things moving with the\nkind of sets that carry crowds from st
	art to finish\, joined by our lovely\nresident Slimfit. In the switch room
	\, Sarkawt Hamad & Jewel dive deeper into\nmelodic and rhythmic territory.
	\n\nLineup:\nLSDXOXO \nManuka Honey \nReenie (UK) \nSlimfit \nSarkawt Hama
	d \nJewel
URL:https://offbeat.amsterdam/event/the-planet
GEO:52.3699549;4.843713
LOCATION:Tilla Tec - Doctor Jan van Breemenstraat 1\, 1056 AB Amsterdam
STATUS:CONFIRMED
CATEGORIES:amsterdam-west,dance,rembrandtpark
X-ALT-DESC;FMTTYPE=text/html:<p>On May 23rd The Planet will be back at TILL
	ATEC! For this edition LSDXOXO takes over the wash room with his explosive
	, high-energy sets that have been tearing up dance floors worldwide. Manuk
	a Honey brings her signature blend of Latin American and Caribbean-inspire
	d club sounds. Reenie keeps things moving with the kind of sets that carry
	 crowds from start to finish, joined by our lovely resident Slimfit. In th
	e switch room, Sarkawt Hamad &amp; Jewel dive deeper into melodic and rhyt
	hmic territory.</p><p><strong>Lineup:</strong><br>LSDXOXO&nbsp;<br>Manuka 
	Honey&nbsp;<br>Reenie (UK)&nbsp;<br>Slimfit&nbsp;<br>Sarkawt Hamad&nbsp;<b
	r>Jewel</p>
BEGIN:VALARM
ACTION:DISPLAY
DESCRIPTION:The Planet
TRIGGER:-PT1H
END:VALARM
END:VEVENT
END:VCALENDAR
