BEGIN:VCALENDAR
VERSION:2.0
CALSCALE:GREGORIAN
PRODID:adamgibbons/ics
METHOD:PUBLISH
X-PUBLISHED-TTL:PT1H
BEGIN:VEVENT
UID:21150@offbeat.amsterdam
SUMMARY:The One Minutes
DTSTAMP:20260424T193514Z
DTSTART:20260425T190000Z
DESCRIPTION:Een programma dat de oorspronkelijke kracht van de cinema om te
	 beschermen\, te\nverbinden en te begrijpen onthult\, met de serie *The On
	e Minutes Series: When\nfilmmaking a first language spoken to protect*\, s
	amengesteld door Shen Xin\, en\n*Leviathan* van Lucien Castaing-Taylor en 
	Véréna Paravel.\n\nMore info here\n[https://uitkijk.nl/en/film/the-one-min
	utes-x-uitkijk-when-filmmaking-is-a-first-language-spoken-to-protect-levia
	than-2012]!
URL:https://offbeat.amsterdam/event/the-one-minutes-2
GEO:52.36476;4.8843948
LOCATION:De Uitkijk - Prinsengracht 452\, 1017 KE Amsterdam
STATUS:CONFIRMED
CATEGORIES:amsterdam-centrum,film,leidseplein
X-ALT-DESC;FMTTYPE=text/html:<p>Een programma dat de oorspronkelijke kracht
	 van de cinema om te beschermen, te verbinden en te begrijpen onthult, met
	 de serie *The One Minutes Series: When filmmaking a first language spoken
	 to protect*, samengesteld door Shen Xin, en *Leviathan* van Lucien Castai
	ng-Taylor en Véréna Paravel.</p><p><b>More info <a href="https://uitkijk.n
	l/en/film/the-one-minutes-x-uitkijk-when-filmmaking-is-a-first-language-sp
	oken-to-protect-leviathan-2012">here</a>!</b></p>
BEGIN:VALARM
ACTION:DISPLAY
DESCRIPTION:The One Minutes
TRIGGER:-PT1H
END:VALARM
END:VEVENT
END:VCALENDAR
