BEGIN:VCALENDAR
VERSION:2.0
CALSCALE:GREGORIAN
PRODID:adamgibbons/ics
METHOD:PUBLISH
X-PUBLISHED-TTL:PT1H
BEGIN:VEVENT
UID:21041@offbeat.amsterdam
SUMMARY:The Fifth Wall
DTSTAMP:20260421T183317Z
DTSTART:20260520T170000Z
DESCRIPTION:Een filmische EP over het spanningsveld tussen dromen en realit
	eit.\n\nWat gebeurt er wanneer muziek\, film en persoonlijke groei samenko
	men? Tijdens\ndeze avond duiken we in The Fifth Wall: een filmische EP van
	 creative en\nproducer ROOM996 (Meshach Boye). The Fifth Wall verkent het 
	spanningsveld tussen\ndromen en realiteit. Hoe doorbreek je de grenzen van
	 je huidige werkelijkheid?\nEn hoe blijf je bewegen richting je ambities\,
	 ondanks obstakels die je onderweg\ntegenkomt\, zeker als jonge maker uit 
	de Bijlmer? In dit multidisciplinaire\nproject worden deze vragen vertaald
	 naar een audiovisuele ervaring waarin muziek\nen beeld naadloos in elkaar
	 overvloeien. Na een eerdere besloten première bij\nOSCAM wordt de filmisc
	he EP nu voor het eerst publiekelijk vertoond in een\nnieuwe setting. De s
	creening nodigt bezoekers uit om niet alleen te kijken en\nluisteren\, maa
	r om echt onderdeel te worden van de wereld van ROOM996\, een\nmentale rui
	mte waarin creativiteit centraal staat.\n\nNa de vertoning volgt een verdi
	epend panelgesprek met onder andere director Ian\nBodo Del Angel\, MC Lost
	 en de maker ROOM996. Samen gaan zij in op het creatieve\nproces achter he
	t project en delen zij concrete inzichten en tools die helpen\nbij het ver
	leggen van persoonlijke en artistieke grenzen. Een avond over\nverbeelding
	\, doorzettingsvermogen en het creëren van je eigen ruimte.
URL:https://offbeat.amsterdam/event/the-fifth-wall
GEO:52.376857;4.9220756
LOCATION:Pakhuis de Zwijger - Piet Heinkade 179\, 1019 HC Amsterdam
STATUS:CONFIRMED
CATEGORIES:amsterdam-centrum,creatieve industrie,eastern docklands,film,mus
	ic
X-ALT-DESC;FMTTYPE=text/html:Een filmische EP over het spanningsveld tussen
	 dromen en realiteit. <p>Wat gebeurt er wanneer muziek, film en persoonlij
	ke groei samenkomen? Tijdens deze avond duiken we in The Fifth Wall: een f
	ilmische EP van creative en producer ROOM996 (Meshach Boye). The Fifth Wal
	l verkent het spanningsveld tussen dromen en realiteit. Hoe doorbreek je d
	e grenzen van je huidige werkelijkheid? En hoe blijf je bewegen richting j
	e ambities, ondanks obstakels die je onderweg tegenkomt, zeker als jonge m
	aker uit de Bijlmer? In dit multidisciplinaire project worden deze vragen 
	vertaald naar een audiovisuele ervaring waarin muziek en beeld naadloos in
	 elkaar overvloeien. Na een eerdere besloten première bij OSCAM wordt de f
	ilmische EP nu voor het eerst publiekelijk vertoond in een nieuwe setting.
	 De screening nodigt bezoekers uit om niet alleen te kijken en luisteren, 
	maar om echt onderdeel te worden van de wereld van ROOM996, een mentale ru
	imte waarin creativiteit centraal staat.</p>   <p>Na de vertoning volgt ee
	n verdiepend panelgesprek met onder andere director Ian Bodo Del Angel, MC
	 Lost en de maker ROOM996. Samen gaan zij in op het creatieve proces achte
	r het project en delen zij concrete inzichten en tools die helpen bij het 
	verleggen van persoonlijke en artistieke grenzen. Een avond over verbeeldi
	ng, doorzettingsvermogen en het creëren van je eigen ruimte.</p>
BEGIN:VALARM
ACTION:DISPLAY
DESCRIPTION:The Fifth Wall
TRIGGER:-PT1H
END:VALARM
END:VEVENT
END:VCALENDAR
