BEGIN:VCALENDAR
VERSION:2.0
CALSCALE:GREGORIAN
PRODID:adamgibbons/ics
METHOD:PUBLISH
X-PUBLISHED-TTL:PT1H
BEGIN:VEVENT
UID:21106@offbeat.amsterdam
SUMMARY:The Asbury Jukes performing the music of South Side Johnny & The As
	bury Jukes
DTSTAMP:20260422T184857Z
DTSTART:20260809T183000Z
DESCRIPTION:Op 9 augustus komt de backingband van South Side Johnny\, The A
	sbury Jukes\, voor\neen exclusieve show naar Tolhuistuin waar ze de muziek
	 van South side Johnny &\nThe Asbury Jukes zullen spelen. Ze worden daarbi
	j vergezeld door\nsinger-songwriter Joe D'Urso\, die met zijn eigen band J
	oe D'Urso & Stone Caravan\nal sinds 1991 op het podium staat en meerdere m
	alen het podium heeft gedeeld met\nSouth Side Johnny & The Asbury Jukes. O
	m de avond compleet te maken zullen er\nook leden van Shadowland - de form
	atie rondom The Asbury Jukes gitarist Glenn\nAlexander - op het podium sta
	an.
URL:https://offbeat.amsterdam/event/the-asbury-jukes-performing-the-music-o
	f-south-side-johnny-and-the-asbury-jukes
GEO:52.3830883;4.9030297
LOCATION:Tolhuistuin - IJpromenade 2\, 1031 KT Amsterdam
STATUS:CONFIRMED
CATEGORIES:amsterdam-noord,buiksloterweg,music
X-ALT-DESC;FMTTYPE=text/html:<p>Op 9 augustus komt de backingband van South
	 Side Johnny, The Asbury Jukes, voor een exclusieve show naar Tolhuistuin 
	waar ze de muziek van South side Johnny &amp; The Asbury Jukes zullen spel
	en. Ze worden daarbij vergezeld door singer-songwriter Joe D'Urso, die met
	 zijn eigen band Joe D'Urso &amp; Stone Caravan al sinds 1991 op het podiu
	m staat en meerdere malen het podium heeft gedeeld met South Side Johnny &
	amp; The Asbury Jukes. Om de avond compleet te maken zullen er ook leden v
	an Shadowland - de formatie rondom The Asbury Jukes gitarist Glenn Alexand
	er - op het podium staan.</p>
BEGIN:VALARM
ACTION:DISPLAY
DESCRIPTION:The Asbury Jukes performing the music of South Side Johnny & Th
	e Asbury Jukes
TRIGGER:-PT1H
END:VALARM
END:VEVENT
END:VCALENDAR
