BEGIN:VCALENDAR
VERSION:2.0
CALSCALE:GREGORIAN
PRODID:adamgibbons/ics
METHOD:PUBLISH
X-PUBLISHED-TTL:PT1H
BEGIN:VEVENT
UID:21147@offbeat.amsterdam
SUMMARY:TEXTURES | dj serko + lance laoyan (live) + knee deep in custard
DTSTAMP:20260424T194126Z
DTSTART:20260724T170000Z
DESCRIPTION:Textures is een nieuwe evenementenreeks die baanbrekende experi
	mentele\nelektronische muziek uit Amsterdam presenteert. Na een uitverkoch
	te editie in\njanuari keert Textures terug met een nieuwe line-up van drie
	 artiesten die je\nonderdompelen in diepe lagen van ambient texturen\, sou
	ndscapes\, field recordings\nen live-instrumenten.\n\n‍\n\n‍\n\n\nKNEE DEEP IN
	 CUSTARD\n\n‍\n\nKnee Deep In Custard is een muziek- en performance-duo dat 
	live zang\, piano\, bas\nen elektronische composities combineert\, meestal
	 met geprojecteerde visuals. Hun\nkenmerkende aanpak bestaat uit projectie
	s op een dun scherm vóór hen\, terwijl\nzij achter het scherm optreden en 
	bijna onzichtbaar zijn.\n\n‍\n\nZe lopen rond met steentjes in hun schoenen 
	en een grijns op hun gezicht. Hmmm…\nlaten we zeggen dat we klinken als he
	rinneringen uit ons verleden\, een grappige\nloop of tranen die op de pian
	o vallen.\n\n‍\n\nINSTAGRAM [https://www.instagram.com/kneedeepincustard/] B
	ANDCAMP\n[https://kneedeepincustard.bandcamp.com/]\n\n‍\n\n‍\n\n\nDJ SERKO\n\n‍\
	n\nSerge Stork\, beter bekend als DJ Serko\, is een dj en producer uit Ams
	terdam.\nDoor de jaren heen in de clubscene heeft hij een brede muzieksmaa
	k ontwikkeld\,\nvan downtempo tot techno en alles daartussenin. Met een di
	epe liefde en\ninspiratie voor oldschool muziek verwerkt hij in elke set v
	inyl dat hij door de\njaren heen heeft verzameld.\n\n‍\n\nAls oprichter van 
	Auris Listening Sessions stelt hij zorgvuldig samengestelde\nline-ups same
	n die mensen uit de underground scene samenbrengen in een\noordeelloze omg
	eving\, waar de focus meer ligt op luisteren dan op de artiesten\nzelf.\n\
	n‍\n\nIn de afgelopen jaren is hij ook begonnen met het produceren van zijn 
	eigen\nmuziek. Zijn werk bestaat uit sample- en sounddesign-gebaseerde pro
	ducties\,\ngeworteld in ambient en andere experimentele stijlen.\n\n‍\n\nINS
	TAGRAM [https://www.instagram.com/dj_serko/] SOUNDCLOUD\n[https://soundclo
	ud.com/serge-stork]\n\n‍\n\n‍\n\n\nLANCE LAOYAN (LIVE)\n\n‍\n\nLance Laoyan is e
	en geluidskunstenaar en ontwerper gevestigd in Nederland. Zijn\nwerk verke
	nt sonische ecologieën binnen natuurlijke en stedelijke omgevingen.\nLaoya
	n onderzoekt deze locatiespecifieke omgevingen via een interdisciplinaire\
	naanpak\, gebaseerd op praktijken uit field philosophy\, luistermethodolog
	ieën\,\npoëzie en experimentele field recording.\n\n‍\n\nTijdens Textures br
	engt Laoyan een live-set gebaseerd op zijn recente werk rond\nWater Bodies
	 in Rotterdam voor onic [of nature in cities]\, een field\nrecording-label
	 dat hij in 2026 mede heeft opgericht\, gevestigd tussen Den Haag\nen Berl
	ijn.\n\n‍\n\nLaoyan was te horen op Rotterdam’s Operator Radio onder zijn dj
	-naam Kaarst en\ntrad op voor Sonoor\, een listening bar in Rotterdam. Hij
	 werkte aan opdrachten\nvoor Sonic Acts (2022–2023) en nam deel aan hun Un
	der Exposed-mentorprogramma\n(2023–2024). Momenteel werkt hij samen met he
	t Centre for the Just City van de\nTU Delft aan workshops rond luisteren e
	n zorg in de gebouwde omgeving.\n\n‍\n\nWEBSITE [https://lancelaoyan.co.uk/]
	 INSTAGRAM\n[https://www.instagram.com/kaarst.la/] SOUNDCLOUD\n[https://so
	undcloud.com/lance-laoyan/the-sinking-whale]\n\n‍
URL:https://offbeat.amsterdam/event/textures-or-dj-serko-lance-laoyan-live-
	knee-deep-in-custard
GEO:52.3528265;4.906568
LOCATION:Cinetol - Tolstraat 182\, 1074 VM Amsterdam
STATUS:CONFIRMED
CATEGORIES:amsterdam-zuid,de pijp,dj,elektronisch,experimental,live,music,p
	erformance,piano,poetry,techno,vinyl
X-ALT-DESC;FMTTYPE=text/html:<p>Textures is een nieuwe evenementenreeks die
	 baanbrekende experimentele elektronische muziek uit Amsterdam presenteert
	. Na een uitverkochte editie in januari keert Textures terug met een nieuw
	e line-up van drie artiesten die je onderdompelen in diepe lagen van ambie
	nt texturen, soundscapes, field recordings en live-instrumenten.</p><p>‍</p>
	<p>‍</p><h2>KNEE DEEP IN CUSTARD </h2><p>‍</p><p>Knee Deep In Custard is een m
	uziek- en performance-duo dat live zang, piano, bas en elektronische compo
	sities combineert, meestal met geprojecteerde visuals. Hun kenmerkende aan
	pak bestaat uit projecties op een dun scherm vóór hen, terwijl zij achter 
	het scherm optreden en bijna onzichtbaar zijn.</p><p>‍</p><p>Ze lopen rond m
	et steentjes in hun schoenen en een grijns op hun gezicht. Hmmm… laten we 
	zeggen dat we klinken als herinneringen uit ons verleden, een grappige loo
	p of tranen die op de piano vallen.</p><p>‍</p><p><a href="https://www.insta
	gram.com/kneedeepincustard/">INSTAGRAM</a> <a href="https://kneedeepincust
	ard.bandcamp.com/">BANDCAMP</a> </p><p>‍</p><p>‍</p><h2>DJ SERKO</h2><p>‍</p><p>
	Serge Stork, beter bekend als DJ Serko, is een dj en producer uit Amsterda
	m. Door de jaren heen in de clubscene heeft hij een brede muzieksmaak ontw
	ikkeld, van downtempo tot techno en alles daartussenin. Met een diepe lief
	de en inspiratie voor oldschool muziek verwerkt hij in elke set vinyl dat 
	hij door de jaren heen heeft verzameld.</p><p>‍</p><p>Als oprichter van Auri
	s Listening Sessions stelt hij zorgvuldig samengestelde line-ups samen die
	 mensen uit de underground scene samenbrengen in een oordeelloze omgeving,
	 waar de focus meer ligt op luisteren dan op de artiesten zelf.</p><p>‍</p><
	p>In de afgelopen jaren is hij ook begonnen met het produceren van zijn ei
	gen muziek. Zijn werk bestaat uit sample- en sounddesign-gebaseerde produc
	ties, geworteld in ambient en andere experimentele stijlen.</p><p>‍</p><p><a
	 href="https://www.instagram.com/dj_serko/">INSTAGRAM</a> <a href="https:/
	/soundcloud.com/serge-stork">SOUNDCLOUD</a> </p><p>‍</p><p>‍</p><h2>LANCE LAOY
	AN (live)</h2><p>‍</p><p>Lance Laoyan is een geluidskunstenaar en ontwerper 
	gevestigd in Nederland. Zijn werk verkent sonische ecologieën binnen natuu
	rlijke en stedelijke omgevingen. Laoyan onderzoekt deze locatiespecifieke 
	omgevingen via een interdisciplinaire aanpak, gebaseerd op praktijken uit 
	field philosophy, luistermethodologieën, poëzie en experimentele field rec
	ording.</p><p>‍</p><p>Tijdens Textures brengt Laoyan een live-set gebaseerd 
	op zijn recente werk rond <em>Water Bodies</em> in Rotterdam voor onic [of
	 nature in cities], een field recording-label dat hij in 2026 mede heeft o
	pgericht, gevestigd tussen Den Haag en Berlijn.</p><p>‍</p><p>Laoyan was te 
	horen op Rotterdam’s Operator Radio onder zijn dj-naam Kaarst en trad op v
	oor Sonoor, een listening bar in Rotterdam. Hij werkte aan opdrachten voor
	 Sonic Acts (2022–2023) en nam deel aan hun Under Exposed-mentorprogramma 
	(2023–2024). Momenteel werkt hij samen met het Centre for the Just City va
	n de TU Delft aan workshops rond luisteren en zorg in de gebouwde omgeving
	.</p><p>‍</p><p><a href="https://lancelaoyan.co.uk/">WEBSITE</a> <a href="ht
	tps://www.instagram.com/kaarst.la/">INSTAGRAM</a> <a href="https://soundcl
	oud.com/lance-laoyan/the-sinking-whale">SOUNDCLOUD</a></p><p>‍</p>
BEGIN:VALARM
ACTION:DISPLAY
DESCRIPTION:TEXTURES | dj serko + lance laoyan (live) + knee deep in custar
	d
TRIGGER:-PT1H
END:VALARM
END:VEVENT
END:VCALENDAR
