BEGIN:VCALENDAR
VERSION:2.0
CALSCALE:GREGORIAN
PRODID:adamgibbons/ics
METHOD:PUBLISH
X-PUBLISHED-TTL:PT1H
BEGIN:VEVENT
UID:21202@offbeat.amsterdam
SUMMARY:Tell the Bees
DTSTAMP:20260424T234246Z
DTSTART:20260502T170000Z
DTEND:20260502T220000Z
DESCRIPTION:Line up: AstaroTheatro\nOpen: 19:00 - 00:00 hrs\nTickets: € 0\n
	\nAs the archipelago is slowly silenced\, who will tell the bees?\n\nA the
	atrical performance of poetry\, acting presence\, alarming beats and a\nre
	sounding flute.\n\nA cyclical call to tune into nature\, at least for the 
	time being.\n\nIn line with AstaroTheatro's grassroots dedication in craft
	ing original\ntheatrical content\, this performance originates from the pe
	rformers themselves.\nIt aims at including and involving all audiences in 
	a participatory experience.\n\nDinner from 19:00\, performance at 19:30.
URL:https://offbeat.amsterdam/event/tell-the-bees-2
GEO:52.3601403;4.8656923
LOCATION:OT301 - Overtoom 301\, 1054 HW Amsterdam
STATUS:CONFIRMED
CATEGORIES:amsterdam-west,dinner,performance,poetry,vondelparkbuurt
X-ALT-DESC;FMTTYPE=text/html:<strong>Line up:</strong> AstaroTheatro<br><st
	rong>Open:</strong> 19:00 - 00:00 hrs<br><strong>Tickets:</strong> € 0  <p
	>As the archipelago is slowly silenced, who will tell the bees?</p> <p>A t
	heatrical performance of poetry, acting presence, alarming beats and a res
	ounding flute.</p> <p>A cyclical call to tune into nature, at least for th
	e time being.</p> <p>In line with AstaroTheatro's grassroots dedication in
	 crafting original theatrical content, this performance originates from th
	e performers themselves. It aims at including and involving all audiences 
	in a participatory experience.</p> <p>Dinner from 19:00, performance at 19
	:30.</p>
BEGIN:VALARM
ACTION:DISPLAY
DESCRIPTION:Tell the Bees
TRIGGER:-PT1H
END:VALARM
END:VEVENT
END:VCALENDAR
